Workbook

Sheet Handleiding
A7: Het graskompas werd ontwikkeld binnnen het demoproject " Graskracht". Via dit project wensen we de stikstofefficiëntie en het algemene graslandbeheer verder te optimaliseren.
A9: Het graskompas geeft landbouwers een score voor de verschillende aspecten van het graslandbeheer op basis van een aantal standaardvragen. Op die manier wordt er een bedrijfsbrede analyse uitgevoerd, waaraan eveneens adviezen/tips gekoppeld zijn, om het graslandbeheer verder te optimaliseren waar mogelijk. De vragen werden verdeeld over de verschillende deelaspecten die allen een eigen tabblad kregen. De verschillende aspecten zijn : Algemeen, Zaai, Nutriëntenbeheer, Oogst, Weidegang, Kwaliteit graskuil, In-uitkuilen, Graslandonderhoud en Waterhuishouding.
A14: Stap 1: Ga naar het volgende tabblad via de knop hieronder.
A18: Stap 2: Beantwoord alle vragen.
B19: Enkel gele cellen dienen ingevuld te worden.
A21: Stap 3: Herhaal de 2 bovenstaande stappen tot alle vragen zijn beantwoord.
A27: Stap 4: Ga nu met de knop naar het Graskompas en evalueer je eindrapport.

Sheet Algemeen
A1: Vraag | B1: Antwoord
A2: Type bedrijf
A3: Specialisatie | D3: GVE
A4: =IF(B3="Melkvee","Aantal melkkoeien",IF(B3="Vleesvee","Aantal zoogkoeien","")) | D4: =IF(B3="Melkvee",B4*1,IF(B3="Vleesvee",B4*0.8,0)) -> 0
A5: =IF(B3="Melkvee","Aantal jongvee < 1 jaar",IF(B3="Vleesvee","Aantal mestkalveren","")) | D5: =IF(B3="Melkvee",B5*0.4,IF(B3="Vleesvee",B5*0.4,0)) -> 0
A6: =IF(B3="Melkvee","Aantal jongvee > 1 jaar",IF(B3="Vleesvee","Aantal runderen < 1 jaar","")) | D6: =IF(B3="Melkvee",B6*0.6,IF(B3="Vleesvee",B6*0.4,0)) -> 0
A7: =IF(B3="Vleesvee","Aantal runderen > 1 jaar","") | D7: =IF(B3="Vleesvee",B7*0.6,0) -> 0
A8: Meest voorkomend bodemtype
A10: Areaal blijvend grasland | C10: ha
A11: Areaal tijdelijk grasland (excl. Grasklaver, -kruiden en -luzerne) | C11: ha
A12: Areaal grasklaver | C12: ha
A13: Areaal graskruiden | C13: ha
A14: Areaal grasluzerne | C14: ha
A15: Areaal huiskavel | C15: ha
A16: Areaal huiskavel gebruikt voor beweiding | C16: ha
A17: Areaal huiskavel geschikt voor beweiding | C17: ha
A18: Areaal gebruikt voor beweiding (excl. Huiskavel) | C18: ha
A19: Areaal bouwland | C19: ha
A20: Totaal areaal | B20: =SUM(B10:B14,B19) -> 0 | C20: ha

Sheet Zaai
A1: Vraag | B1: Antwoord | C1: Score | D1: Advies nodig?
A2: Raadpleeg je rassenlijsten voor je zaadkeuze? | C2: =IF(B2=Scoring!C4,Scoring!C5,Scoring!D5) -> 0 | D2: =IF(C2=Scoring!N4,"Nee","Ja") -> Ja
A3: Welke soorten werden er naast graszaad gezaaid op je graslanden (vink aan)?
A4: Witte klaver | B4: FALSE | C4: =IF(B4=Scoring!C7,Scoring!C8,0) -> 0 | D4: =IF(C4=Scoring!N7,"Nee","Ja") -> Ja
A5: Rode klaver | B5: FALSE | C5: =IF(B5=Scoring!C9,Scoring!C10,0) -> 0 | D5: =IF(C5=Scoring!N9,"Nee","Ja") -> Ja
A6: Luzerne | B6: FALSE | C6: =IF(B6=Scoring!C11,Scoring!C12,0) -> 0 | D6: =IF(C6=Scoring!N11,"Nee","Ja") -> Ja
A7: Kruiden | B7: FALSE | C7: =IF(B7=Scoring!C13,Scoring!C14,0) -> 0 | D7: =IF(C7=Scoring!N13,"Nee","Ja") -> Ja
A8: Wanneer zaai je conventioneel grasland ongeveer? (dd/mm/jjjj) | C8: =IF(B8<Scoring!F17,Scoring!F18,IF(B8<Scoring!G17,Scoring!G18,IF(B8<Scoring!H17,Scoring!H18,IF(B8<Scoring!I17,Scoring!I18,IF(B8<Scoring!J17,Scoring!J18,IF(B8<Scoring!F15,Scoring!F16,IF(B8<Scoring!G15,Scoring!G16,IF(B8<Scoring!H15,Scoring!H16,IF(B8<Scoring!I15,Scoring!I16,IF(B8<Scoring!J15,Scoring!J16,0)))))))))) -> 0 | D8: =IF(C8=Scoring!N15,"Nee","Ja") -> Ja
A9: Wanneer zaai je grasklaver ongeveer? (dd/mm/jjjj) | C9: =IF(B9<Scoring!F21,Scoring!F22,IF(B9<Scoring!G21,Scoring!G22,IF(B9<Scoring!H21,Scoring!H22,IF(B9<Scoring!I21,Scoring!I22,IF(B9<Scoring!F19,Scoring!F20,IF(B9<Scoring!G19,Scoring!G20,IF(B9<Scoring!H19,Scoring!H20,IF(B9<Scoring!I19,Scoring!I20,0)))))))) -> 0 | D9: =IF(C9=Scoring!N19,"Nee","Ja") -> Ja
A10: Op welke diepte zaai je het gras ongeveer? | C10: =IF(B10=Scoring!C23,Scoring!C24,IF(B10=Scoring!D23,Scoring!D24,IF(B10=Scoring!E23,Scoring!E24,IF(B10=Scoring!F23,Scoring!F24,IF(B10=Scoring!G23,Scoring!G24,IF(B10=Scoring!H23,Scoring!H24,"")))))) | D10: =IF(C10=Scoring!N23,"Nee","Ja") -> Ja
A11: Op welke diepte zaai je de klaver ongeveer? | C11: =IF(B11=Scoring!C25,Scoring!C26,IF(B11=Scoring!D25,Scoring!D26,IF(B11=Scoring!E25,Scoring!E26,IF(B11=Scoring!F25,Scoring!F26,IF(B11=Scoring!G25,Scoring!G26,IF(B11=Scoring!H25,Scoring!H26,"")))))) | D11: =IF(C11=Scoring!N25,"Nee","Ja") -> Ja
A12: Neem je maatregelen tegen ontmenging bij inzaai van grasklaver/-kruiden? | C12: =IF(B12=Scoring!C27,Scoring!C28,Scoring!D28) -> 0 | D12: =IF(C12=Scoring!N27,"Nee","Ja") -> Ja
A13: Wordt er tijdens of na het zaaien aangedrukt met een rol? | C13: =IF(B13=Scoring!C29,Scoring!C30,Scoring!D30) -> 0 | D13: =IF(C13=Scoring!N29,"Nee","Ja") -> Ja
B14: Totaal | C14: =IF(OR(B4=Scoring!C7,B5=Scoring!C9),SUM(Zaai!C2:C13),SUM(Zaai!C2:C8,Zaai!C10,Zaai!C13)) -> 0
C15: =IF(OR(B4=Scoring!C7,B5=Scoring!C9),Zaai!C14/Scoring!N31,Zaai!C14/Scoring!N32) -> 0

Sheet Nutriëntenbeheer
A1: Vraag | B1: Antwoord | C1: Score | D1: Advies nodig?
A2: Worden er regelmatig bodemstalen genomen om uw bemesting hierop te sturen? | C2: =IF(B2=Scoring!C35,Scoring!C36,0) -> 0 | D2: =IF(C2<Scoring!N35,"Ja","Nee") -> Ja
A3: Stuurt u de pH, o.b.v. deze resultaten, bij met bekalken? | C3: =IF(B3=Scoring!C37,Scoring!C38,0) -> 0 | D3: =IF(C3<Scoring!N37,"Ja","Nee") -> Ja
A4: Welke pH waarde probeert u aan te houden? | C4: =HLOOKUP(B4,Scoring!D39:K40,2,FALSE) -> #N/A | D4: =IF(C4<Scoring!N39,"Ja","Nee") -> #N/A
A5: Worden er meststalen genomen zodat de nutriënteninhoud bekend is? | C5: =IF(B5=Scoring!C45,Scoring!C46,0) -> 0 | D5: =IF(C5<Scoring!N45,"Ja","Nee") -> Ja
A6: Met welke elementen houdt u allemaal rekening (vink aan)?
A7: N | B7: FALSE | C7: =IF(B7=Scoring!C48,Scoring!N48,0) -> 0 | D7: =IF(C7<Scoring!N48,"Ja","Nee") -> Ja
A8: P | B8: FALSE | C8: =IF(B8=Scoring!C50,Scoring!N50,0) -> 0 | D8: =IF(C8<Scoring!N50,"Ja","Nee") -> Ja
A9: K | B9: FALSE | C9: =IF(B9=Scoring!C52,Scoring!N52,0) -> 0 | D9: =IF(C9<Scoring!N52,"Ja","Nee") -> Ja
A10: S | B10: FALSE | C10: =IF(B10=Scoring!C54,Scoring!N54,0) -> 0 | D10: =IF(C10<Scoring!N54,"Ja","Nee") -> Ja
A11: Mg | B11: FALSE | C11: =IF(B11=Scoring!C56,Scoring!N56,0) -> 0 | D11: =IF(C11<Scoring!N56,"Ja","Nee") -> Ja
A12: Ca | B12: FALSE | C12: =IF(B12=Scoring!C58,Scoring!N58,0) -> 0 | D12: =IF(C12<Scoring!N58,"Ja","Nee") -> Ja
A13: Na | B13: FALSE | C13: =IF(B13=Scoring!C60,Scoring!N60,0) -> 0 | D13: =IF(C13<Scoring!N60,"Ja","Nee") -> Ja
A14: Bodemtemperatuur (°C) bij eerste kunstmestgift? | C14: =IF(B14<Scoring!D62,Scoring!D63,Scoring!E63) -> 0 | D14: =IF(C14<Scoring!N62,"Ja","Nee") -> Ja
A15: Temperatuursom bij de eerste kunstmestgift? | C15: =IF(B15<Scoring!D64,Scoring!D65,IF(B15<Scoring!E64,Scoring!E65,Scoring!F65)) -> 0 | D15: =IF(C15<Scoring!N64,"Ja","Nee") -> Ja
A16: Houdt u steeds rekening met de draagkracht van de bodem bij drijfmestgift? | C16: =IF(B16=Scoring!C66,Scoring!C67,0) -> 0 | D16: =IF(C16<Scoring!N66,"Ja","Nee") -> Ja
A17: Ammoniumgehalte van voorjaarsmeststof? | C17: =IF(B17=Scoring!C68,Scoring!C69,IF(B17=Scoring!D68,Scoring!D69,IF(B17=Scoring!E68,Scoring!E69,IF(B17=Scoring!F68,Scoring!F69,IF(B17=Scoring!G68,Scoring!G69,""))))) | D17: =IF(C17<Scoring!N68,"Ja","Nee") -> Nee
A18: Fractioneerd u de kaliumgift over het hele teeltseizoen? | C18: =IF(B18=Scoring!C70,Scoring!N70,0) -> 0 | D18: =IF(C18<Scoring!N70,"Ja","Nee") -> Ja
A19: Voorziet u de zwavelgift vooral in het voorjaar? | C19: =IF(B19=Scoring!C72,Scoring!N72,0) -> 0 | D19: =IF(C19<Scoring!N72,"Ja","Nee") -> Ja
A20: Houdt u rekening met de weersvoorspelling en de waterhuishouding van het perceel? | C20: =IF(B20=Scoring!C74,Scoring!N74,0) -> 0 | D20: =IF(C20<Scoring!N74,"Ja","Nee") -> Ja
A21: Past u de bemesting aan bij grasklaver of kruidenrijk grasland t.o.v. conventioneel grasland? | C21: =IF(B21=Scoring!C76,Scoring!N76,0) -> 0 | D21: =IF(C21<Scoring!N76,"Ja","Nee") -> Ja
A22: Past u de bemesting aan in het eerste jaar na zaai? | C22: =IF(B22=Scoring!C78,Scoring!N78,0) -> 0 | D22: =IF(C22<Scoring!N78,"Ja","Nee") -> Ja
A23: Verdund u de drijfmest? | C23: =IF(B23=Scoring!C80,Scoring!N80,0) -> 0 | D23: =IF(C23<Scoring!N80,"Ja","Nee") -> Ja
A24: Wijzigt u de grootte van de bemestingsgift o.b.v. de verwachte opbrengst van de snede? | C24: =IF(B24=Scoring!C82,Scoring!N82,0) -> 0 | D24: =IF(C24<Scoring!N82,"Ja","Nee") -> Ja
A25: Wanneer voorziet u de laatste drijfmestgift? | C25: =IF(OR(B25=Scoring!C84),Scoring!C85,IF(B25=Scoring!D84,Scoring!D85,IF(Nutriëntenbeheer!B25=Scoring!E84,Scoring!E85,IF(Nutriëntenbeheer!B25=Scoring!F84,Scoring!F85)))) -> FALSE | D25: =IF(C25<Scoring!N84,"Ja","Nee") -> Nee
A26: Hoeveel kg N wordt er gebracht per ha?
A27: Wat is de geschatte NUE (Bruto stikstofefficiëntie (zie ook bemestingstool))?
B28: Totaal | C28: =IF(OR(Zaai!B4=Scoring!C7,Zaai!B5=Scoring!C9),SUM(C2:C27),SUM(C2:C20,C22:C27)) -> #N/A
C29: =IF(OR(Zaai!B4=Scoring!C7,Zaai!B5=Scoring!C9),C28/Scoring!N90,C28/Scoring!N91) -> #N/A

Sheet Oogst
A1: Vraag | B1: Antwoord | C1: Score | D1: Opmerkingen | E1: Advies nodig?
A2: Wordt de maaier tijdig nagekeken en onderhouden? | C2: =IF(B2=Scoring!C94,Scoring!C95,Scoring!D95) -> 0 | E2: =IF(C2<Scoring!N94,"Ja","Nee") -> Ja
A3: Waarmee houdt u rekening bij het beslissen van het juiste maaitijdstip?
A4: Weer | B4: FALSE | C4: =IF(B4=Scoring!C97,Scoring!C98,Scoring!D98) -> 0 | E4: =IF(C4<Scoring!N97,"Ja","Nee") -> Ja
A5: Zwaarte snede/grashoogte | B5: FALSE | C5: =IF(B5=Scoring!C99,Scoring!C100,Scoring!D100) -> 0 | E5: =IF(C5<Scoring!N99,"Ja","Nee") -> Ja
A6: Aarvorming | B6: FALSE | C6: =IF(B6=Scoring!C101,Scoring!C102,Scoring!D102) -> 0 | E6: =IF(C6<Scoring!N101,"Ja","Nee") -> Ja
A7: Hoeveel weken laat u minstens tussen een bemestingsbeurt en het maaien? | C7: =HLOOKUP(B7,Scoring!C103:G104,2,FALSE) -> #N/A | E7: =IF(C7<Scoring!N103,"Ja","Nee") -> #N/A
A8: Welke maaihoogte houdt u aan op uw grasland? | C8: =HLOOKUP(B8,Scoring!C105:H106,2,FALSE) -> #N/A | E8: =IF(C8<Scoring!N105,"Ja","Nee") -> #N/A
A9: Maait u hoger indien rode klaver en kruiden met hoger groeipunt aanwezig zijn in de zode? | C9: =IF(B9=Scoring!C107,Scoring!N107,0) -> 0 | E9: =IF(C9<Scoring!N107,"Ja","Nee") -> Ja
A10: Schud u het gras meestal vaker dan 1 keer? | C10: =HLOOKUP(B10,Scoring!C109:D110,2,FALSE) -> #N/A | D10: Afhankelijk van aanwezigheid klavers best zo weinig mogelijk. Ook qua kost van bewerkingen liefst zo weinig mogelijk <> bewaken kwaliteit ruwvoer | E10: =IF(C10<Scoring!N109,"Ja","Nee") -> #N/A
A11: Neemt u maatregelen om bladverlies van klaver of kruiden te verminderen? | C11: =IF(B11=Scoring!C111,Scoring!C112,0) -> 0 | E11: =IF(C11<Scoring!N111,"Ja","Nee") -> Ja
A12: Wat is de duur van de veldperiode (maaien tot oprapen)? | C12: =HLOOKUP(B12,Scoring!C113:G114,2,FALSE) -> #N/A | E12: =IF(C12<Scoring!N113,"Ja","Nee") -> #N/A
A13: Welk DS-gehalte streeft u na? | C13: =HLOOKUP(B13,Scoring!C115:I116,2,FALSE) -> #N/A | E13: =IF(C13<Scoring!N115,"Ja","Nee") -> #N/A
A14: Hoeveel snedes neem je gemiddeld per jaar? | D14: Wat is teveel en wat te weinig? | E14: =IF(C14<Scoring!N117,"Ja","Nee") -> Nee
A15: Welke opbrengst behaal je gemiddeld per jaar (kg DS/ha)? | D15: Vanaf welke opbrengst is er een probleem en hoe rekening houden met begraasde percelen of extensief beheerde? | E15: =IF(C15<Scoring!N119,"Ja","Nee") -> Nee
B16: Totaal | C16: =IF(OR(Zaai!B4=Scoring!C7,Zaai!B5=Scoring!C9),SUM(C2:C15),SUM(C2:C8,C10,C12:C15)) -> #N/A
C17: =IF(OR(Zaai!B4=Scoring!C7,Zaai!B5=Scoring!C9),C16/Scoring!N121,C16/Scoring!N122) -> #N/A

Sheet Weidegang
A1: Vraag | B1: Antwoord | C1: Score | D1: Opmerkingen | F1: Advies nodig?
A2: Wordt er aan beweiding gedaan? | C2: =IF(B2=Scoring!C125,Scoring!N125,0) -> 0 | F2: =IF(C2<Scoring!N125,"Ja","Nee") -> Ja
A3: Welke diergroepen doen aan beweiden? (Vink aan) | E3: GVE
A4: =IFERROR(_xlfn.TEXTAFTER(Algemeen!A4,"Aantal ",1),"") | B4: FALSE | C4: =IF(B4=Scoring!C128,Scoring!N128,0) -> 0 | E4: =IF(B4,Algemeen!D4,"") | F4: =IF(C4<Scoring!N128,"Ja","Nee") -> Ja
A5: =IFERROR(_xlfn.TEXTAFTER(Algemeen!A5,"Aantal ",1),"") | B5: FALSE | C5: =IF(B5=Scoring!C130,Scoring!N130,0) -> 0 | E5: =IF(B5,Algemeen!D5,"") | F5: =IF(C5<Scoring!N130,"Ja","Nee") -> Ja
A6: =IFERROR(_xlfn.TEXTAFTER(Algemeen!A6,"Aantal ",1),"") | B6: FALSE | C6: =IF(B6=Scoring!C132,Scoring!N132,0) -> 0 | E6: =IF(B6,Algemeen!D6,"") | F6: =IF(C6<Scoring!N132,"Ja","Nee") -> Ja
A7: =IFERROR(_xlfn.TEXTAFTER(Algemeen!A7,"Aantal ",1),"") | B7: FALSE | C7: =IF(B7=Scoring!C134,Scoring!N134,0) -> 0 | E7: =IF(B7,Algemeen!D7,"") | F7: =IF(C7<Scoring!N134,"Ja","Nee") -> Ja
A8: Welk soort beweidingssysteem gebruikt u?
A9: Wat is de maximale loopafstand voor de koeien tot de weide (m)? | C9: =IF(B9<Scoring!C136,Scoring!N136,0) -> 1 | F9: =IF(C9<Scoring!N136,"Ja","Nee") -> Nee
A10: Wat is de maximale afstand die de koe moet afleggen tot de dichtstbijzijnde drinkbak (m)? | C10: =IF(B10<Scoring!C138,Scoring!N138,0) -> 1 | F10: =IF(C10<Scoring!N138,"Ja","Nee") -> Nee
A11: Zijn er voldoende schaduwplekken beschikbaar om hittestress helpen te voorkomen? | C11: =IF(B11=Scoring!C140,Scoring!C141,Scoring!D141) -> 0 | F11: =IF(C11<Scoring!N140,"Ja","Nee") -> Ja
A12: Aantal GVE/ha huiskavel gebruikt voor beweiding | B12: =SUM(E4:E7)/(Algemeen!B16+Algemeen!B18) -> #DIV/0! | C12: =IF(B12>Scoring!E142,Scoring!F143,Scoring!D143) -> #DIV/0!
A13: Aantal GVE/ha huiskavel geschikt voor beweiding | B13: =SUM(E4:E7)/(Algemeen!B17+Algemeen!B18) -> #DIV/0!
B14: Totaal | C14: =IF(B2=Scoring!D125,0,SUM(C2:C13)) -> #DIV/0!
C15: =C14/Scoring!N146 -> #DIV/0!

Sheet Kwaliteit graskuil
A1: Vraag | B1: Antwoord | C1: Max score | D1: Score | E1: Opmerkingen | F1: Advies nodig?
A2: Hoeveel gras zit er gemiddeld in het rantsoen (kg DS/dag)? | E2: Moeilijk zo te scoren? Wat is goed en wat slecht?
A3: Evalueert u (eventueel samen met een adviseur) iedere kuilanalyse om eventuele aandachtspunten op te sporen? | C3: =Scoring!C152 -> 1 | D3: =IF(B3=Scoring!C151,Scoring!C152,0) -> 0 | F3: =IF(D3<Scoring!N151,"Ja","Nee") -> Ja
A4: Wat is het %DS van de graskuil?
A5: Wat is de pH van de graskuil? | C5: =Scoring!C156 -> 2 | D5: =Scoring!C156 -> 2 | F5: =IF(D5<Scoring!N153,"Ja","Nee") -> Nee
A6: Wat is de NH3-fractie (%) van de graskuil? | D6: =IF(B6<Scoring!C157,Scoring!C158,IF(B6<Scoring!D157,Scoring!D158,IF(B6<Scoring!E157,Scoring!E158,IF(B6<Scoring!F157,Scoring!F158,Scoring!G158)))) -> 1 | F6: =IF(D6<Scoring!N157,"Ja","Nee") -> Nee
A7: Wat is het gehalte ruw as (g/kg) in de graskuil? | D7: =IF(B7<Scoring!D159,Scoring!C160,IF(B7<Scoring!E159,Scoring!D160,IF(B7<Scoring!F159,Scoring!F160,Scoring!G160))) -> 1 | F7: =IF(D7<Scoring!N159,"Ja","Nee") -> Nee
B8: Totaal | C8: =SUM(C2:C5) -> 3 | D8: =SUM(D2:D7) -> 4
D9: =D8/Scoring!N161 -> 0.8

Sheet In-uitkuilen
A1: Vraag | B1: Antwoord | C1: Score | D1: Opmerkingen | E1: Advies nodig?
A2: Is de aanrijroute naar de kuil zuiver? | C2: =HLOOKUP(B2,Scoring!C164:D165,2,FALSE) -> #N/A | E2: =IF(C2<Scoring!N164,"Ja","Nee") -> #N/A
A3: Kan de aanvoersnelheid worden bijgehouden met het aanrijden van de kuil? | C3: =HLOOKUP(B3,Scoring!C166:D167,2,FALSE) -> #N/A | E3: =IF(C3<Scoring!N166,"Ja","Nee") -> #N/A
A4: Komt er enkel zuivere/nieuwe plastic in contact met het gras? | C4: =HLOOKUP(B4,Scoring!C168:D169,2,FALSE) -> #N/A | E4: =IF(C4<Scoring!N168,"Ja","Nee") -> #N/A
A5: Wordt er met een lasagnekuil gewerkt? | C5: =HLOOKUP(B5,Scoring!C170:D171,2,FALSE) -> #N/A | E5: =IF(C5<Scoring!N170,"Ja","Nee") -> #N/A
A6: Worden er inkuilmiddelen/inoculanten/broeiremmers gebruikt bij ongunstige weersomstandigheden of relatief hoge eiwit/suiker verhouding? | C6: =HLOOKUP(B6,Scoring!C172:D173,2,FALSE) -> #N/A | E6: =IF(C6<Scoring!N172,"Ja","Nee") -> #N/A
A7: Wordt de graskuil binnen 2 uur na inkuilen afgedekt? | C7: =HLOOKUP(B7,Scoring!C174:D175,2,FALSE) -> #N/A | E7: =IF(C7<Scoring!N174,"Ja","Nee") -> #N/A
A8: Gebruikt u zowel onderfolie als afdekfolie op de kuil? | C8: =HLOOKUP(B8,Scoring!C176:D177,2,FALSE) -> #N/A | E8: =IF(C8<Scoring!N176,"Ja","Nee") -> #N/A
A9: Worden balen binnen 1 uur na persen gewikkeld? | C9: =HLOOKUP(B9,Scoring!C178:D179,2,FALSE) -> #N/A | E9: =IF(C9<Scoring!N178,"Ja","Nee") -> #N/A
A10: Wordt er steeds een dekzeil over de balen gelegd? | C10: =HLOOKUP(B10,Scoring!C180:D181,2,FALSE) -> #N/A | E10: =IF(C10<Scoring!N180,"Ja","Nee") -> #N/A
A11: Na hoeveel weken wordt de kuil ten vroegste geopend? | C11: =HLOOKUP(B11,Scoring!C182:H183,2,FALSE) -> #N/A | E11: =IF(C11<Scoring!N182,"Ja","Nee") -> #N/A
A12: Laat u een strak snijvlak achter na het uitkuilen? | C12: =HLOOKUP(B12,Scoring!C184:D185,2,FALSE) -> #N/A | E12: =IF(C12<Scoring!N184,"Ja","Nee") -> #N/A
A13: Is de voersnelheid van de kuil voldoende hoog om broei te voorkomen? | C13: =HLOOKUP(B13,Scoring!C186:D187,2,FALSE) -> #N/A | D13: minstens 1m per week, best 1,5 en in zomer zelfs +2 m/week -> keuzelijst en als vraag voersnelheid? | E13: =IF(C13<Scoring!N186,"Ja","Nee") -> #N/A
A14: Worden uitkuilresten bij de kuilopslag verwijderd? | C14: =HLOOKUP(B14,Scoring!C188:D189,2,FALSE) -> #N/A | E14: =IF(C14<Scoring!N188,"Ja","Nee") -> #N/A
A15: Hoeveel keer per week leg je de kuil verder open? | C15: =HLOOKUP(B15,Scoring!C190:I191,2,FALSE) -> #N/A | E15: =IF(C15<Scoring!N190,"Ja","Nee") -> #N/A
A16: Is er afwatering voorzien voor de kuilopslag? | C16: =HLOOKUP(B16,Scoring!C192:D193,2,FALSE) -> #N/A | E16: =IF(C16<Scoring!N192,"Ja","Nee") -> #N/A
B17: Totaal | C17: =SUM(C2:C16) -> #N/A
C18: =C17/Scoring!N194 -> #N/A

Sheet Graslandonderhoud
A1: Vraag | B1: Antwoord | C1: Score | D1: Advies nodig?
A2: Beoordeelt u uw graszode geregeld? (hoeveel onkruid, slechte grassen, molshopen, klaveraandeel?) | C2: =HLOOKUP(B2,Scoring!C197:D198,2,FALSE) -> #N/A | D2: =IF(C2<Scoring!N197,"Ja","Nee") -> #N/A
A3: Voert u indien nodig een chemische onkruidbestrijding uit op grasland? | C3: =HLOOKUP(B3,Scoring!C199:D200,2,FALSE) -> #N/A | D3: =IF(C3<Scoring!N199,"Ja","Nee") -> #N/A
A4: Doet u dit vollevelds of plaatsspecifiek indien mogelijk? | C4: =HLOOKUP(B4,Scoring!C201:D202,2,FALSE) -> #N/A | D4: =IF(C4<Scoring!N201,"Ja","Nee") -> #N/A
A5: Voert u soms mechanische onkruidbestrijding uit op grasland (bv. wiedeggen, bloten,...)? | C5: =HLOOKUP(B5,Scoring!C203:D204,2,FALSE) -> #N/A | D5: =IF(C5<Scoring!N203,"Ja","Nee") -> #N/A
A6: Doet u aan doorzaaien bij open plekken, een open zode of na mechanische onkruidbestrijding? | C6: =HLOOKUP(B6,Scoring!C205:M206,2,FALSE) -> #N/A | D6: =IF(C6<Scoring!N205,"Ja","Nee") -> #N/A
A7: Onder welk percentage moet het aandeel goede grassen(, klavers en kruiden) dalen voor je het grasland scheurt? | C7: =IF(B7>Scoring!D207,Scoring!C208,IF(B7>Scoring!E207,Scoring!D208,IF(B7>Scoring!F207,Scoring!E208,IF(B7>Scoring!G207,Scoring!F208,IF(B7<Scoring!G207,Scoring!G208,0))))) -> 0 | D7: =IF(C7<Scoring!N207,"Ja","Nee") -> Ja
A8: Neemt u maatregelen om insporing en bodemverdichting te voorkomen? (bv. rekening houden met draagkracht grond of aangepaste bandendruk) | C8: =HLOOKUP(B8,Scoring!C209:D210,2,FALSE) -> #N/A | D8: =IF(C8<Scoring!N209,"Ja","Nee") -> #N/A
A9: Doet u aan mollenbestrijding? | C9: =HLOOKUP(B9,Scoring!C211:D212,2,FALSE) -> #N/A | D9: =IF(C9<Scoring!N211,"Ja","Nee") -> #N/A
A10: Hoe lang laat u het grasland de winter ingaan? | C10: =HLOOKUP(B10,Scoring!C213:M214,2,FALSE) -> #N/A | D10: =IF(C10<Scoring!N213,"Ja","Nee") -> #N/A
B11: Totaal | C11: =SUM(C2:C10) -> #N/A
C12: =C11/Scoring!N215 -> #N/A

Sheet Waterhuishouding
A1: Vraag | B1: Antwoord | C1: Score | D1: Advies nodig?
A2: Wordt er grasland beregend bij droogte?
A3: Wat is dan het hoofddoel van deze beregening? | C3: =IF(B2=Scoring!C218,HLOOKUP(B3,Scoring!C220:M221,2,FALSE),0) -> 0 | D3: =IF(C3<Scoring!N220,"Ja","Nee") -> Ja
A4: Heeft u last van plasvorming?
A5: Probeert u dit aan te pakken door bv. graslandwoelen, drainering, ...? | C5: =IF(B4=Scoring!D222,0,HLOOKUP(B5,Scoring!C224:D225,2,FALSE)) -> #N/A | D5: =IF(C5<Scoring!N224,"Ja","Nee") -> #N/A
A6: Hebt u gedraineerde graslandpercelen?
A7: Zijn deze drainages voornamelijk peilgestuurd waar mogelijk? | C7: =IF(B6=Scoring!D226,Scoring!D229,HLOOKUP(B7,Scoring!C228:D229,2,FALSE)) -> #N/A | D7: =IF(C7<Scoring!N228,"Ja","Nee") -> #N/A
A8: Wordt er gebruik gemaakt van stuwtjes in naastgelegen perceelsgrachten waar mogelijk? | C8: =HLOOKUP(B8,Scoring!C230:D231,2,FALSE) -> #N/A | D8: =IF(C8<Scoring!N230,"Ja","Nee") -> #N/A
A9: Wordt er bij de zaaizaadkeuze ook rekening gehouden met de overheersende waterhuishouding? | C9: =HLOOKUP(B9,Scoring!C232:D233,2,FALSE) -> #N/A | D9: =IF(C9<Scoring!N232,"Ja","Nee") -> #N/A
B10: Totaal | C10: =SUM(C2:C9) -> #N/A
C11: =C10/Scoring!N234 -> #N/A

Sheet Graskompas
A1: Graskompas
A5: Zonnestraaldiagram
A6: Bewerkt land
A7: Blijvend grasland | B7: Tijdelijk grasland | C7: Grasklaver | D7: Graskruiden | E7: Grasluzerne | F7: Bouwland
A8: =Algemeen!B10 -> 0 | B8: =Algemeen!B11 -> 0 | C8: =Algemeen!B12 -> 0 | D8: =Algemeen!B13 -> 0 | E8: =Algemeen!B14 -> 0 | F8: =Algemeen!B19 -> 0
A10: Radargrafiek | AA10: =B11 -> Nutriëntenbeheer | AB10: =B12 -> #N/A | AD10: {=_xlfn._xlws.SORT(AA10:AB17,2,1,FALSE)} -> Zaai | AE10: 0
A11: Thema's | B11: Nutriëntenbeheer | D11: Kwaliteit graskuil | F11: Oogst | H11: In- en uitkuilen | J11: Zaai | L11: Graslandonderhoud | N11: Weidegang | P11: Waterhuishouding | S11: Gemiddeld | AA11: =D11 -> Kwaliteit graskuil | AB11: =D12 -> 0.8 | AD11: Kwaliteit graskuil | AE11: 0.8
A12: Scores naar % van optimale score | B12: =Nutriëntenbeheer!C29 -> #N/A | C12: 0 | D12: ='Kwaliteit graskuil'!D9 -> 0.8 | E12: 0 | F12: =Oogst!C17 -> #N/A | G12: 0 | H12: ='In-uitkuilen'!$C$18 -> #N/A | I12: 0 | J12: =Zaai!C15 -> 0 | K12: 0 | L12: =Graslandonderhoud!$C$12 -> #N/A | M12: 0 | N12: =Weidegang!C15 -> #DIV/0! | O12: 0 | P12: =Waterhuishouding!C11 -> #N/A | Q12: 0 | S12: =ROUND(AVERAGE(P12,N12,L12,J12,H12,F12,D12,B12),2) -> #N/A | AA12: =F11 -> Oogst | AB12: =F12 -> #N/A | AD12: Weidegang | AE12: #DIV/0!
AA13: =H11 -> In- en uitkuilen | AB13: =H12 -> #N/A | AD13: Nutriëntenbeheer | AE13: #N/A
AA14: =J11 -> Zaai | AB14: =J12 -> 0 | AD14: Oogst | AE14: #N/A
AA15: =L11 -> Graslandonderhoud | AB15: =L12 -> #N/A | AD15: In- en uitkuilen | AE15: #N/A
AA16: =N11 -> Weidegang | AB16: =N12 -> #DIV/0! | AD16: Graslandonderhoud | AE16: #N/A
AA17: =P11 -> Waterhuishouding | AB17: =P12 -> #N/A | AD17: Waterhuishouding | AE17: #N/A
H64: =_xlfn.CONCAT("Je scoort een algemeen gemiddelde van ",S12*100,"% over alle thema's heen. ",IF(S12<Lijsten!X5,Lijsten!Z6,IF(S12<Lijsten!X4,Lijsten!Z5,IF(S12<Lijsten!X3,Lijsten!Z4,IF(S12<Lijsten!X2,Lijsten!Z3,IF(S12=Lijsten!X2,Lijsten!Z2,"")))))) -> #N/A
H66: =IF(AE12<1,_xlfn.CONCAT("De thema's waarop je nog het meeste kunt verbeteren, zijn ",AD10,", ",AD11," en ",AD12,"."),IF(AE11<1,_xlfn.CONCAT("De thema's waarop je nog het meeste kunt verbeteren, zijn ",AD10," en ",AD11,"."),IF(AE10,_xlfn.CONCAT("Op het thema ",AD10," kan je nog verbeteren."),"Je scoort reeds maximaal op alle thema's."))) -> #DIV/0!
A77: Zaai | AB77: =IF(J12<Lijsten!X5,Lijsten!Y6,IF(J12<Lijsten!X4,Lijsten!Y5,IF(J12<Lijsten!X3,Lijsten!Y4,IF(J12<Lijsten!X2,Lijsten!Y3,IF(J12=Lijsten!X2,Lijsten!Y2,""))))) -> Je bent zwaar gebuisd op dit thema. Door onderstaande adviezen ter harte te nemen, kan je veel succesvoller worden.
I78: Adviezen/tips | AB78: Zaaidatum | AC78: Score | AD78: Max | AE78: Groen | AF78: Oranje | AG78: Rood
AB79: Gras | AC79: =Zaai!C8 -> 0 | AD79: =Scoring!N15 -> 2 | AE79: =IF(SUM(AC79:AC80)=SUM(AD79:AD80),1,0) -> 0 | AF79: =IF(AND(SUM(AC79:AC80)>(SUM(AD79:AD80)/2),SUM(AC79:AC80)<SUM(AD79:AD80)),1,0) -> 0 | AG79: =IF(OR(SUM(AC79:AC80)<(SUM(AD79:AD80)/2),SUM(AC79:AC80)=(SUM(AD79:AD80)/2)),1,0) -> 1
I80: =_xlfn.CONCAT(AB77,IF(OR(Zaai!B4=Scoring!C7,Zaai!B5=Scoring!C7),Scoring!Q31,Scoring!Q32)) -> Je bent zwaar gebuisd op dit thema. Door onderstaande adviezen ter harte te nemen, kan je veel succesvoller worden. Een rassenlijst kan helpen bij het maken van de meest geschikte zaadkeuze voor je perceel. Door veredeling worden er nog altijd nieuwe, beter presterende rassen ontwikkeld. Klavers kunnen de stikstofefficiëntie van je grasland sterk verhogen wanneer deze naar behoren worden beheerd. Overweeg om ook eens kruiden op te nemen in je zaaimengsel. Net zoals klavers zijn er heel wat kruiden die kunnen bijdragen aan het klimaatrobuuster maken van je grasland. Idealieter wordt grasland ingezaaid van augustus tot oktober. Het succes zal echter afhankelijk zijn van de temperatuur en neerslag in de periode na het zaaien. Voorjaarszaai is een mogelijkheid, maar wordt omwille van de onkruiddruk en de steeds vaker voorkomende droge groeiomstandigheden in het voorjaar best als 2de keuze gezien. Gras wordt best gezaaid op een diepte van 1 - 2 cm. Het aandrukken met een rol na het zaaien, helpt het contact tussen het zaad en de bodem te verhogen wat zorgt voor een betere vochtbeschikbaarheid en kleinere kans op wegwaaien. Eveneens zorgt dit ervoor dat de bodem minder snel uitdroogd. | AB80: Klaver | AC80: =Zaai!C9 -> 0 | AD80: =Scoring!N19 -> 1
AB81: Zaaidiepte | AC81: Score | AD81: Max | AE81: Groen | AF81: Oranje | AG81: Rood
AB82: Gras | AC82: =Zaai!C10 | AD82: =Scoring!N23 -> 2 | AE82: =IF(SUM(AC82:AC83)=SUM(AD82:AD83),1,0) -> 0 | AF82: =IF(AND(SUM(AC82:AC83)>(SUM(AD82:AD83)/2),SUM(AC82:AC83)<SUM(AD82:AD83)),1,0) -> 0 | AG82: =IF(OR(SUM(AC82:AC83)<(SUM(AD82:AD83)/2),SUM(AC82:AC83)=(SUM(AD82:AD83)/2)),1,0) -> 1
AB83: Klaver | AC83: =Zaai!C11 | AD83: =Scoring!N25 -> 1
AB84: Zaaizaad | AC84: Score | AD84: Max | AE84: Groen | AF84: Oranje | AG84: Rood
AB85: Rassenlijst | AC85: =Zaai!C2 -> 0 | AD85: =Scoring!N4 -> 0.5 | AE85: =IF(SUM(AC85:AC89)=SUM(AD85:AD89),1,0) -> 0 | AF85: =IF(AND(SUM(AC85:AC89)>(SUM(AD85:AD89)/2),SUM(AC85:AC89)<SUM(AD85:AD89)),1,0) -> 0 | AG85: =IF(OR(SUM(AC85:AC89)<(SUM(AD85:AD89)/2),SUM(AC85:AC89)=(SUM(AD85:AD89)/2)),1,0) -> 1
AB86: Witte klaver | AC86: =Zaai!C4 -> 0 | AD86: =Scoring!N7 -> 0.5
AB87: Rode klaver | AC87: =Zaai!C5 -> 0 | AD87: =Scoring!N9 -> 0.5
AB88: Luzerne | AC88: =Zaai!C6 -> 0 | AD88: =Scoring!N11 -> 0.25
AB89: Kruiden | AC89: =Zaai!C7 -> 0 | AD89: =Scoring!N13 -> 0.5
A97: Nutriëntenbeheer | AB97: =IF(B12<Lijsten!X5,Lijsten!Y6,IF(B12<Lijsten!X4,Lijsten!Y5,IF(B12<Lijsten!X3,Lijsten!Y4,IF(B12<Lijsten!X2,Lijsten!Y3,IF(B12=Lijsten!X2,Lijsten!Y2,""))))) -> #N/A | AC97: Score | AD97: Max | AE97: Groen | AF97: Oranje | AG97: Rood
I98: Adviezen/tips | AB98: Bodemstaal genomen | AC98: =Nutriëntenbeheer!C2 -> 0 | AD98: =Scoring!N35 -> 1 | AE98: =IF(AC98=AD98,1,0) -> 0 | AG98: =IF(AC98<AD98,1,0) -> 1
AB99: Meststalen genomen | AC99: =Nutriëntenbeheer!C5 -> 0 | AD99: =Scoring!N45 -> 1 | AE99: =IF(AC99=AD99,1,0) -> 0 | AG99: =IF(AC99<AD99,1,0) -> 1
I100: =_xlfn.CONCAT(AB97,IF(OR(Zaai!B4=Scoring!C7,Zaai!B5=Scoring!C7),Scoring!Q90,Scoring!Q91)) -> #N/A | AB100: pH | AC100: =Nutriëntenbeheer!C3 -> 0 | AD100: =Scoring!N37 -> 1 | AE100: =IF(SUM(AC100:AC101)=SUM(AD100:AD101),1,0) -> #N/A | AF100: =IF(AND(SUM(AC100:AC101)>(SUM(AD100:AD101)/2),SUM(AC100:AC101)<SUM(AD100:AD101)),1,0) -> #N/A | AG100: =IF(OR(SUM(AC100:AC101)<(SUM(AD100:AD101)/2),SUM(AC100:AC101)=(SUM(AD100:AD101)/2)),1,0) -> #N/A
AC101: =Nutriëntenbeheer!C4 -> #N/A | AD101: =Scoring!N39 -> 1
AC102: 4 - 4,5 | AD102: 4,5 - 5 | AE102: 5 - 5,5 | AF102: 5,5 - 6 | AG102: 6 - 6,5 | AH102: 6,5 - 7 | AI102: 7 - 7,5 | AJ102: 7,5 - 8
AC103: =IF(AC102=Nutriëntenbeheer!$B$4,1,0) -> 0 | AD103: =IF(AD102=Nutriëntenbeheer!$B$4,1,0) -> 0 | AE103: =IF(AE102=Nutriëntenbeheer!$B$4,1,0) -> 0 | AF103: =IF(AF102=Nutriëntenbeheer!$B$4,1,0) -> 0 | AG103: =IF(AG102=Nutriëntenbeheer!$B$4,1,0) -> 0 | AH103: =IF(AH102=Nutriëntenbeheer!$B$4,1,0) -> 0 | AI103: =IF(AI102=Nutriëntenbeheer!$B$4,1,0) -> 0 | AJ103: =IF(AJ102=Nutriëntenbeheer!$B$4,1,0) -> 0
AB104: Elementen | AC104: N | AD104: P | AE104: K | AF104: S | AG104: Mg | AH104: Ca | AI104: Na
AC105: =IF(Nutriëntenbeheer!B7,1,0) -> 0 | AD105: =IF(Nutriëntenbeheer!B8,1,0) -> 0 | AE105: =IF(Nutriëntenbeheer!B9,1,0) -> 0 | AF105: =IF(Nutriëntenbeheer!B10,1,0) -> 0 | AG105: =IF(Nutriëntenbeheer!B11,1,0) -> 0 | AH105: =IF(Nutriëntenbeheer!B12,1,0) -> 0 | AI105: =IF(Nutriëntenbeheer!B13,1,0) -> 0
A131: Oogst | AB131: =IF(F12<Lijsten!X5,Lijsten!Y6,IF(F12<Lijsten!X4,Lijsten!Y5,IF(F12<Lijsten!X3,Lijsten!Y4,IF(F12<Lijsten!X2,Lijsten!Y3,IF(F12=Lijsten!X2,Lijsten!Y2,""))))) -> #N/A
I132: Adviezen/tips | AB132: Maaihoogte | AD132: 4 - 5 cm | AE132: 5 - 6 cm | AF132: 6 - 7 cm | AG132: 7 - 8 cm | AH132: 8 - 9 cm | AI132: 9 - 10 cm
AB133: Na | AC133: =MAX(AD133:AI133) -> 0 | AD133: =IF(Oogst!B8=Graskompas!AD132,4.5,0) -> 0 | AE133: =IF(Oogst!B8=Graskompas!AE132,5.5,0) -> 0 | AF133: =IF(Oogst!B8=Graskompas!AF132,6.5,0) -> 0 | AG133: =IF(Oogst!B8=Graskompas!AG132,7.5,0) -> 0 | AH133: =IF(Oogst!B8=Graskompas!AH132,8.5,0) -> 0 | AI133: =IF(Oogst!B8=Graskompas!AI132,9.5,0) -> 0
I134: =_xlfn.CONCAT(AB131,IF(OR(Zaai!B4=Scoring!C7,Zaai!B5=Scoring!C7),Scoring!Q121,Scoring!Q122)) -> #N/A | AB134: Voor | AC134: 35
AC135: Score | AD135: Max | AE135: Groen | AF135: Oranje | AG135: Rood
AC136: =Oogst!C8 -> #N/A | AD136: =Scoring!N105 -> 1 | AE136: =IF(SUM(AC136:AC137)=SUM(AD136:AD137),1,0) -> #N/A | AF136: =IF(AND(SUM(AC136:AC137)>(SUM(AD136:AD137)/2),SUM(AC136:AC137)<SUM(AD136:AD137)),1,0) -> #N/A | AG136: =IF(OR(SUM(AC136:AC137)<(SUM(AD136:AD137)/2),SUM(AC136:AC137)=(SUM(AD136:AD137)/2)),1,0) -> #N/A
AC137: =Oogst!C9 -> 0 | AD137: =Scoring!N107 -> 1
AB138: Tijd bemesten-maaien | AC138: Score | AD138: Max | AE138: Groen | AF138: Rood
AC139: =Oogst!C7 -> #N/A | AD139: =Scoring!N103 -> 1 | AE139: =IF(AC139=AD139,1,0) -> #N/A | AF139: =IF(AC139=AD139,0,1) -> #N/A
AB140: Aantal keer schudden | AC140: Score | AD140: Max | AE140: Groen | AF140: Rood
AC141: =Oogst!C10 -> #N/A | AD141: =Scoring!N109 -> 1 | AE141: =IF(AC141=AD141,1,0) -> #N/A | AF141: =IF(AC141=AD141,0,1) -> #N/A
AB142: Veldperiode | AC142: Score | AD142: Max | AE142: Groen | AF142: Rood
AC143: =Oogst!C12 -> #N/A | AD143: =Scoring!N113 -> 1 | AE143: =IF(AC143=AD143,1,0) -> #N/A | AF143: =IF(AC143=AD143,0,1) -> #N/A
A158: Weidegang | AB158: =IF(N12<Lijsten!X5,Lijsten!Y6,IF(N12<Lijsten!X4,Lijsten!Y5,IF(N12<Lijsten!X3,Lijsten!Y4,IF(N12<Lijsten!X2,Lijsten!Y3,IF(N12=Lijsten!X2,Lijsten!Y2,""))))) -> #DIV/0!
AA160: =ROUND(Scoring!C142,1) -> #DIV/0! | AC160: =IF(AA160>0.99,1,0) -> #DIV/0! | AD160: Rood | AE160: Groen | AF160: Oranje
AC161: =IF(AA160>1.99,1,0) -> #DIV/0! | AD161: =IF(AA160=0,1,0) -> #DIV/0! | AE161: =IF(AND(AA160>0,AA160<10),1,0) -> #DIV/0! | AF161: =IF(AA160>10,1,0) -> #DIV/0!
AC162: =IF(AA160>2.99,1,0) -> #DIV/0!
AC163: =IF(AA160>3.99,1,0) -> #DIV/0!
AC164: =IF(AA160>4.99,1,0) -> #DIV/0!
AC165: =IF(AA160>5.99,1,0) -> #DIV/0!
AC166: =IF(AA160>6.99,1,0) -> #DIV/0!
AC167: =IF(AA160>7.99,1,0) -> #DIV/0!
AC168: =IF(AA160>8.99,1,0) -> #DIV/0!
AC169: =IF(AA160>9.99,1,0) -> #DIV/0!
AC170: =IF(AA160>10.99,1,0) -> #DIV/0!
AB172: Afstand tot weide | AC172: Score | AD172: Max | AE172: Groen | AF172: Rood | AH172: Blij | AI172: Boos
AC173: =Weidegang!C9 -> 1 | AD173: =Scoring!N136 -> 1 | AE173: =IF(AC173=AD173,1,0) -> 1 | AF173: =IF(AC173=AD173,0,1) -> 0 | AH173: =IF(SUM(AC173,AC175,AC177)=SUM(AD173,AD175,AD177),1,0) -> 0 | AI173: =IF(SUM(AC173,AC175,AC177)<0.34*SUM(AD173,AD175,AD177),1,0) -> 0
AB174: Afstand tot drinkbak | AC174: Score | AD174: Max | AE174: Groen | AF174: Rood
AC175: =Weidegang!C10 -> 1 | AD175: =Scoring!N138 -> 1 | AE175: =IF(AC175=AD175,1,0) -> 1 | AF175: =IF(AC175=AD175,0,1) -> 0
AB176: Schaduw | AC176: Score | AD176: Max | AE176: Groen | AF176: Rood
AC177: =Weidegang!C11 -> 0 | AD177: =Scoring!N140 -> 1 | AE177: =IF(AC177=AD177,1,0) -> 0 | AF177: =IF(AC177=AD177,0,1) -> 1
B187: Adviezen/tips
B189: =_xlfn.CONCAT(AB158,Scoring!Q146) -> #DIV/0!
A199: Kwaliteit graskuil | AC199: =IF(D12<Lijsten!X5,Lijsten!Y6,IF(D12<Lijsten!X4,Lijsten!Y5,IF(D12<Lijsten!X3,Lijsten!Y4,IF(D12<Lijsten!X2,Lijsten!Y3,IF(D12=Lijsten!X2,Lijsten!Y2,""))))) -> Je doet het zeker niet slecht binnen dit thema. Toch hebben we nog enkele tips die je nog meer succes kunnen bezorgen.
I200: Adviezen/tips
I202: =_xlfn.CONCAT(AC199,Scoring!Q161) -> Je doet het zeker niet slecht binnen dit thema. Toch hebben we nog enkele tips die je nog meer succes kunnen bezorgen. | AE202: Goed | AF202: Slecht
AC203: DS | AD203: ='Kwaliteit graskuil'!B4 -> 0 | AE203: =IF('Kwaliteit graskuil'!D5=Scoring!N153,AD203,0) -> 0 | AF203: =IF('Kwaliteit graskuil'!D5=Scoring!N153,0,AD203) -> 0
AC204: pH | AD204: ='Kwaliteit graskuil'!B5 -> 0 | AE204: =IF('Kwaliteit graskuil'!D5=Scoring!N153,AD204,0) -> 0 | AF204: =IF('Kwaliteit graskuil'!D5=Scoring!N153,0,AD204) -> 0
AE205: =IF(AE204>0,1,0) -> 0 | AF205: =IF(AF204>0,1,0) -> 0
AD206: Groen | AE206: Lichtgroen | AF206: Oranje | AG206: Rood
AC207: NH4-fractie | AD207: =IF('Kwaliteit graskuil'!D6=Scoring!C158,1,0) -> 1 | AE207: =IF('Kwaliteit graskuil'!D6=Scoring!D158,1,0) -> 0 | AF207: =IF(OR('Kwaliteit graskuil'!D6=Scoring!E158,'Kwaliteit graskuil'!D6=Scoring!F158),1,0) -> 0 | AG207: =IF('Kwaliteit graskuil'!D6<Scoring!F158,1,0) -> 0
AC208: Ruw as | AD208: =IF('Kwaliteit graskuil'!D7=Scoring!C160,1,0) -> 1 | AE208: =IF(AND('Kwaliteit graskuil'!D7=Scoring!D160),1,0) -> 0 | AF208: =IF(AND('Kwaliteit graskuil'!D7=Scoring!F160),1,0) -> 0 | AG208: =IF(AND('Kwaliteit graskuil'!D7<Scoring!F160),1,0) -> 0
A226: In- en uitkuilen | AC226: =IF(H12<Lijsten!X5,Lijsten!Y6,IF(H12<Lijsten!X4,Lijsten!Y5,IF(H12<Lijsten!X3,Lijsten!Y4,IF(H12<Lijsten!X2,Lijsten!Y3,IF(H12=Lijsten!X2,Lijsten!Y2,""))))) -> #N/A
I227: Adviezen/tips
AC228: Hygiëne | AD228: Score | AE228: Max | AF228: Groen | AG228: Lichtgroen | AH228: Oranje | AI228: Rood
I229: =_xlfn.CONCAT(AC226,Scoring!Q194) -> #N/A | AC229: Aanrijroute | AD229: ='In-uitkuilen'!C2 -> #N/A | AE229: =Scoring!N164 -> 1 | AF229: =IF(SUM(AD229:AD233)=SUM(AE229:AE233),1,0) -> #N/A | AG229: =IF(AND(SUM(AD229:AD233)>(SUM(AE229:AE233)*0.7),SUM(AD229:AD233)<SUM(AE229:AE233)),1,0) -> #N/A | AH229: =IF(AND(SUM(AD229:AD233)>(SUM(AE229:AE233)/2),SUM(AD229:AD233)<SUM(AE229:AE233)*0.7),1,0) -> #N/A | AI229: =IF(OR(SUM(AD229:AD233)<(SUM(AE229:AE233)/2),SUM(AD229:AD233)=(SUM(AE229:AE233)/2)),1,0) -> #N/A
AC230: Zuivere plastic | AD230: ='In-uitkuilen'!C4 -> #N/A | AE230: =Scoring!N168 -> 1
AC231: Strak snijvlak | AD231: ='In-uitkuilen'!C12 -> #N/A | AE231: =Scoring!N184 -> 1
AC232: Uitkuilresten verwijderd | AD232: ='In-uitkuilen'!C14 -> #N/A | AE232: =Scoring!N188 -> 1
AC233: Afwatering | AD233: ='In-uitkuilen'!C16 -> #N/A | AE233: =Scoring!N192 -> 1
AC235: Aanvoersnelheid en aanrijvermogen | AD235: Score | AE235: Max | AF235: Groen | AG235: Rood
AD236: ='In-uitkuilen'!C3 -> #N/A | AE236: =Scoring!N166 -> 1 | AF236: =IF(AD236=AE236,1,0) -> #N/A | AG236: =IF(AD236=AE236,0,1) -> #N/A
AC237: Tijd tot afdekken/wikkelen | AD237: Score | AE237: Max | AF237: Groen | AG237: Oranje | AH237: Rood
AD238: ='In-uitkuilen'!C7 -> #N/A | AE238: =Scoring!N174 -> 1 | AF238: =IF(SUM(AD238:AD239)=SUM(AE238:AE239),1,0) -> #N/A | AG238: =IF(AND(SUM(AD238:AD239)>(SUM(AE238:AE239)/2.1),SUM(AD238:AD239)<SUM(AE238:AE239)),1,0) -> #N/A | AH238: =IF(SUM(AD238:AD239)<(SUM(AE238:AE239)/2.1),1,0) -> #N/A
AD239: ='In-uitkuilen'!C9 -> #N/A | AE239: =Scoring!N178 -> 1
A249: Graslandonderhoud | AC249: =IF(L12<Lijsten!X5,Lijsten!Y6,IF(L12<Lijsten!X4,Lijsten!Y5,IF(L12<Lijsten!X3,Lijsten!Y4,IF(L12<Lijsten!X2,Lijsten!Y3,IF(L12=Lijsten!X2,Lijsten!Y2,""))))) -> #N/A
AC251: Beoordeling | AD251: Score | AE251: Max | AF251: Groen | AG251: Lichtgroen | AH251: Oranje | AI251: Rood
AC252: Beoordeling zode | AD252: =Graslandonderhoud!C2 -> #N/A | AE252: =Scoring!N197 -> 1 | AF252: =IF(SUM(AD252:AD253)=SUM(AE252:AE253),1,0) -> #N/A | AG252: =IF(AND(SUM(AD252:AD253)>(SUM(AE252:AE253)*0.7),SUM(AD252:AD253)<SUM(AE252:AE253)),1,0) -> #N/A | AH252: =IF(AND(SUM(AD252:AD253)>(SUM(AE252:AE253)/2.1),SUM(AD252:AD253)<SUM(AE252:AE253)*0.7),1,0) -> #N/A | AI252: =IF(OR(SUM(AD252:AD253)<(SUM(AE252:AE253)/2.1),SUM(AD252:AD253)=(SUM(AE252:AE253)/2.1)),1,0) -> #N/A
AC253: %goed grassen | AD253: =Graslandonderhoud!C7 -> 0 | AE253: =Scoring!N207 -> 1
AC255: Onkruidbestrijding | AD255: Score | AE255: Max | AF255: Groen | AG255: Lichtgroen | AH255: Oranje | AI255: Rood
AC256: Chemisch | AD256: =Graslandonderhoud!C3 -> #N/A | AE256: =Scoring!N199 -> 1 | AF256: =IF(SUM(AD256:AD259)=SUM(AE256:AE259),1,0) -> #N/A | AG256: =IF(AND(SUM(AD256:AD259)>(SUM(AE256:AE259)*0.7),SUM(AD256:AD259)<SUM(AE256:AE259)),1,0) -> #N/A | AH256: =IF(AND(SUM(AD256:AD259)>(SUM(AE256:AE259)/2.1),SUM(AD256:AD259)<SUM(AE256:AE259)*0.7),1,0) -> #N/A | AI256: =IF(OR(SUM(AD256:AD259)<(SUM(AE256:AE259)/2.1),SUM(AD256:AD259)=(SUM(AE256:AE259)/2.1)),1,0) -> #N/A
AC257: Plaatselijk? | AD257: =Graslandonderhoud!C4 -> #N/A | AE257: =Scoring!N201 -> 0.5
AC258: Mechanisch | AD258: =Graslandonderhoud!C5 -> #N/A | AE258: =Scoring!N203 -> 1 | AG258: =IF(AND(AG256=1,AD259=AE259),1,0) -> #N/A
...

Sheet Scoring
A1: Scoring systeem
A3: Zaai | B3: Type vraag | C3: Antwoorden + scoring | N3: Max score | O3: Advies nodig? | P3: Adviezen als suboptimaal | Q3: Adviezen meegenomen
A4: Raadpleeg je rassenlijsten voor je zaadkeuze? | B4: Ja/Nee | C4: Ja | D4: Nee | N4: 0.5 | O4: =Zaai!D2 -> Ja | P4: Een rassenlijst kan helpen bij het maken van de meest geschikte zaadkeuze voor je perceel. Door veredeling worden er nog altijd nieuwe, beter presterende rassen ontwikkeld. | Q4: =IF(OR(O4="Nee",O4="",P4=""),"",P4) -> Een rassenlijst kan helpen bij het maken van de meest geschikte zaadkeuze voor je perceel. Door veredeling worden er nog altijd nieuwe, beter presterende rassen ontwikkeld.
B5: Ja/Nee | C5: =N4 -> 0.5 | D5: 0 | Q5: =IF(OR(O5="Nee",O5="",P5=""),"",P5)
A6: Welke soorten werden er naast graszaad gezaaid op je graslanden (vink aan)? | B6: Checkbox | O6: =IF(OR(Zaai!D4="Nee",Zaai!D5="Nee",Zaai!D6="Nee"),"Nee","Ja") -> Ja | P6: Klavers kunnen de stikstofefficiëntie van je grasland sterk verhogen wanneer deze naar behoren worden beheerd. | Q6: =IF(OR(O6="Nee",O6="",P6=""),"",P6) -> Klavers kunnen de stikstofefficiëntie van je grasland sterk verhogen wanneer deze naar behoren worden beheerd.
A7: Witte klaver | B7: Checkbox | C7: TRUE | D7: FALSE | N7: 0.5 | Q7: =IF(OR(O7="Nee",O7="",P7=""),"",P7)
B8: Checkbox | C8: =N7 -> 0.5 | D8: 0 | Q8: =IF(OR(O8="Nee",O8="",P8=""),"",P8)
A9: Rode klaver | B9: Checkbox | C9: TRUE | D9: FALSE | N9: 0.5 | Q9: =IF(OR(O9="Nee",O9="",P9=""),"",P9)
B10: Checkbox | C10: =N9 -> 0.5 | D10: 0 | Q10: =IF(OR(O10="Nee",O10="",P10=""),"",P10)
A11: Luzerne | B11: Checkbox | C11: TRUE | D11: FALSE | N11: 0.25 | Q11: =IF(OR(O11="Nee",O11="",P11=""),"",P11)
B12: Checkbox | C12: =N11 -> 0.25 | D12: 0 | Q12: =IF(OR(O12="Nee",O12="",P12=""),"",P12)
A13: Kruiden | B13: Checkbox | C13: TRUE | D13: FALSE | N13: 0.5 | O13: =Zaai!D7 -> Ja | P13: Overweeg om ook eens kruiden op te nemen in je zaaimengsel. Net zoals klavers zijn er heel wat kruiden die kunnen bijdragen aan het klimaatrobuuster maken van je grasland. | Q13: =IF(OR(O13="Nee",O13="",P13=""),"",P13) -> Overweeg om ook eens kruiden op te nemen in je zaaimengsel. Net zoals klavers zijn er heel wat kruiden die kunnen bijdragen aan het klimaatrobuuster maken van je grasland.
B14: Checkbox | C14: =N13 -> 0.5 | D14: 0 | Q14: =IF(OR(O14="Nee",O14="",P14=""),"",P14)
A15: Wanneer zaai je conventioneel grasland ongeveer? (dd/mm) | B15: Datumreeks | C15: Najaarszaai | E15: voor | F15: 46249 | G15: 46310 | H15: 46341 | I15: 46356 | J15: 46386 | N15: 2 | O15: =Zaai!D8 -> Ja | P15: Idealieter wordt grasland ingezaaid van augustus tot oktober. Het succes zal echter afhankelijk zijn van de temperatuur en neerslag in de periode na het zaaien. | Q15: =IF(OR(O15="Nee",O15="",P15=""),"",P15) -> Idealieter wordt grasland ingezaaid van augustus tot oktober. Het succes zal echter afhankelijk zijn van de temperatuur en neerslag in de periode na het zaaien.
B16: Datumreeks | C16: 46204 | D16: 46387 | F16: 0 | G16: =N15 -> 2 | H16: =N15/2 -> 1 | I16: =N15/4 -> 0.5 | J16: 0 | Q16: =IF(OR(O16="Nee",O16="",P16=""),"",P16)
B17: Datumreeks | C17: Voorjaarszaai | E17: voor | F17: 46068 | G17: 46127 | H17: 46142 | I17: 46172 | J17: 46203 | O17: =IF(Zaai!B8<C16,Zaai!D8,"Nee") -> Ja | P17: Voorjaarszaai is een mogelijkheid, maar wordt omwille van de onkruiddruk en de steeds vaker voorkomende droge groeiomstandigheden in het voorjaar best als 2de keuze gezien. | Q17: =IF(OR(O17="Nee",O17="",P17=""),"",P17) -> Voorjaarszaai is een mogelijkheid, maar wordt omwille van de onkruiddruk en de steeds vaker voorkomende droge groeiomstandigheden in het voorjaar best als 2de keuze gezien.
B18: Datumreeks | C18: 46023 | D18: 46203 | F18: 0 | G18: =N15*3/4 -> 1.5 | H18: =N15/2 -> 1 | I18: =N15/4 -> 0.5 | J18: 0 | Q18: =IF(OR(O18="Nee",O18="",P18=""),"",P18)
A19: Wanneer zaai je grasklaver ongeveer? (dd/mm) | B19: Datumreeks | C19: Najaarszaai | E19: voor | F19: 46235 | G19: 46295 | H19: 46325 | I19: 46386 | N19: 1 | O19: =Zaai!D9 -> Ja | P19: Idealieter wordt grasklaver reeds gezaaid in augustus - september. Klaver heeft nog iets hogere temperaturen nodig om goed te kunnen kiemen en groeien in vergelijking tot gras en moet voldoende groot de winter in kunnen gaan. | Q19: =IF(OR(O19="Nee",O19="",P19=""),"",P19) -> Idealieter wordt grasklaver reeds gezaaid in augustus - september. Klaver heeft nog iets hogere temperaturen nodig om goed te kunnen kiemen en groeien in vergelijking tot gras en moet voldoende groot de winter in kunnen gaan.
B20: Datumreeks | C20: 46204 | D20: 46387 | F20: 0 | G20: =N19 -> 1 | H20: =N19/2 -> 0.5 | I20: 0 | Q20: =IF(OR(O20="Nee",O20="",P20=""),"",P20)
B21: Datumreeks | C21: Voorjaarszaai | E21: voor | F21: 46096 | G21: 46142 | H21: 46172 | I21: 46203 | Q21: =IF(OR(O21="Nee",O21="",P21=""),"",P21)
B22: Datumreeks | C22: 46023 | D22: 46203 | F22: 0 | G22: =N19*3/4 -> 0.75 | H22: =N19/2 -> 0.5 | I22: 0 | Q22: =IF(OR(O22="Nee",O22="",P22=""),"",P22)
A23: Op welke diepte zaai je het gras ongeveer? | B23: Keuzelijst | C23: 0 - 0,5 cm | D23: 0,5 - 1 cm | E23: 1 - 1,5 cm | F23: 1,5 - 2 cm | G23: 2 - 2,5 cm | H23: 2,5 - 3 cm | N23: 2 | O23: =Zaai!D10 -> Ja | P23: Gras wordt best gezaaid op een diepte van 1 - 2 cm. | Q23: =IF(OR(O23="Nee",O23="",P23=""),"",P23) -> Gras wordt best gezaaid op een diepte van 1 - 2 cm.
B24: Keuzelijst | C24: =N23/4 -> 0.5 | D24: =N23*3/4 -> 1.5 | E24: =N23 -> 2 | F24: =N23 -> 2 | G24: 0 | H24: 0 | Q24: =IF(OR(O24="Nee",O24="",P24=""),"",P24)
A25: Op welke diepte zaai je de klaver ongeveer? | B25: Keuzelijst | C25: 0 - 0,5 cm | D25: 0,5 - 1 cm | E25: 1 - 1,5 cm | F25: 1,5 - 2 cm | G25: 2 - 2,5 cm | H25: 2,5 - 3 cm | N25: 1 | O25: =Zaai!D11 -> Ja | P25: Zaai klaver liefst op 0,5 - 1 cm diepte. Dieper zaaien dan 1,5 cm zal het opkomstpercentage snel doen dalen. | Q25: =IF(OR(O25="Nee",O25="",P25=""),"",P25) -> Zaai klaver liefst op 0,5 - 1 cm diepte. Dieper zaaien dan 1,5 cm zal het opkomstpercentage snel doen dalen.
B26: Keuzelijst | C26: =N25*3/4 -> 0.75 | D26: =N25 -> 1 | E26: =N25*3/4 -> 0.75 | F26: =N25/2 -> 0.5 | G26: 0 | H26: 0 | Q26: =IF(OR(O26="Nee",O26="",P26=""),"",P26)
A27: Neem je maatregelen tegen ontmenging bij inzaai van grasklaver/-kruiden? | B27: Ja/Nee | C27: Ja | D27: Nee | N27: 1 | O27: =Zaai!D12 -> Ja | P27: Door verschillen in vorm en soortelijk gewicht van zaad, kan er ontmenging optreden. Hierdoor zullen er delen van het perceel ingezaaid zijn met zeer weinig klaver (of kruiden) terwijl er op andere delen is ingezaaid met vooral klaver en weinig gras. Dit moet voorkomen worden om optimaal te profiteren van het nut van een dergelijke mengteelt. | Q27: =IF(OR(O27="Nee",O27="",P27=""),"",P27) -> Door verschillen in vorm en soortelijk gewicht van zaad, kan er ontmenging optreden. Hierdoor zullen er delen van het perceel ingezaaid zijn met zeer weinig klaver (of kruiden) terwijl er op andere delen is ingezaaid met vooral klaver en weinig gras. Dit moet voorkomen worden om optimaal te profiteren van het nut van een dergelijke mengteelt.
B28: Ja/Nee | C28: =N27 -> 1 | D28: 0 | Q28: =IF(OR(O28="Nee",O28="",P28=""),"",P28)
A29: Wordt er tijdens of na het zaaien aangedrukt met een rol? | B29: Ja/Nee | C29: Ja | D29: Nee | N29: 1 | O29: =Zaai!D13 -> Ja | P29: Het aandrukken met een rol na het zaaien, helpt het contact tussen het zaad en de bodem te verhogen wat zorgt voor een betere vochtbeschikbaarheid en kleinere kans op wegwaaien. Eveneens zorgt dit ervoor dat de bodem minder snel uitdroogd. | Q29: =IF(OR(O29="Nee",O29="",P29=""),"",P29) -> Het aandrukken met een rol na het zaaien, helpt het contact tussen het zaad en de bodem te verhogen wat zorgt voor een betere vochtbeschikbaarheid en kleinere kans op wegwaaien. Eveneens zorgt dit ervoor dat de bodem minder snel uitdroogd.
B30: Ja/Nee | C30: =N29 -> 1 | D30: 0 | Q30: =IF(OR(O30="Nee",O30="",P30=""),"",P30)
A31: Hoogste score Zaai | N31: =SUM(N4:N30) -> 10.25 | P31: =_xlfn.CONCAT(P4:P30) -> Een rassenlijst kan helpen bij het maken van de meest geschikte zaadkeuze voor je perceel. Door veredeling worden er nog altijd nieuwe, beter presterende rassen ontwikkeld. Klavers kunnen de stikstofefficiëntie van je grasland sterk verhogen wanneer deze naar behoren worden beheerd. Overweeg om ook eens kruiden op te nemen in je zaaimengsel. Net zoals klavers zijn er heel wat kruiden die kunnen bijdragen aan het klimaatrobuuster maken van je grasland. Idealieter wordt grasland ingezaaid van augustus tot oktober. Het succes zal echter afhankelijk zijn van de temperatuur en neerslag in de periode na het zaaien. Voorjaarszaai is een mogelijkheid, maar wordt omwille van de onkruiddruk en de steeds vaker voorkomende droge groeiomstandigheden in het voorjaar best als 2de keuze gezien. Idealieter wordt grasklaver reeds gezaaid in augustus - september. Klaver heeft nog iets hogere temperaturen nodig om goed te kunnen kiemen en groeien in vergelijking tot gras en moet voldoende groot de winter in kunnen gaan.Gras wordt best gezaaid op een diepte van 1 - 2 cm. Zaai klaver liefst op 0,5 - 1 cm diepte. Dieper zaaien dan 1,5 cm zal het opkomstpercentage snel doen dalen. Door verschillen in vorm en soortelijk gewicht van zaad, kan er ontmenging optreden. Hierdoor zullen er delen van het perceel ingezaaid zijn met zeer weinig klaver (of kruiden) terwijl er op andere delen is ingezaaid met vooral klaver en weinig gras. Dit moet voorkomen worden om optimaal te profiteren van het nut van een dergelijke mengteelt. Het aandrukken met een rol na het zaaien, helpt het contact tussen het zaad en de bodem te verhogen wat zorgt voor een betere vochtbeschikbaarheid en kleinere kans op wegwaaien. Eveneens zorgt dit ervoor dat de bodem minder snel uitdroogd. | Q31: =_xlfn.CONCAT(Q4:Q30) -> Een rassenlijst kan helpen bij het maken van de meest geschikte zaadkeuze voor je perceel. Door veredeling worden er nog altijd nieuwe, beter presterende rassen ontwikkeld. Klavers kunnen de stikstofefficiëntie van je grasland sterk verhogen wanneer deze naar behoren worden beheerd. Overweeg om ook eens kruiden op te nemen in je zaaimengsel. Net zoals klavers zijn er heel wat kruiden die kunnen bijdragen aan het klimaatrobuuster maken van je grasland. Idealieter wordt grasland ingezaaid van augustus tot oktober. Het succes zal echter afhankelijk zijn van de temperatuur en neerslag in de periode na het zaaien. Voorjaarszaai is een mogelijkheid, maar wordt omwille van de onkruiddruk en de steeds vaker voorkomende droge groeiomstandigheden in het voorjaar best als 2de keuze gezien. Idealieter wordt grasklaver reeds gezaaid in augustus - september. Klaver heeft nog iets hogere temperaturen nodig om goed te kunnen kiemen en groeien in vergelijking tot gras en moet voldoende groot de winter in kunnen gaan.Gras wordt best gezaaid op een diepte van 1 - 2 cm. Zaai klaver liefst op 0,5 - 1 cm diepte. Dieper zaaien dan 1,5 cm zal het opkomstpercentage snel doen dalen. Door verschillen in vorm en soortelijk gewicht van zaad, kan er ontmenging optreden. Hierdoor zullen er delen van het perceel ingezaaid zijn met zeer weinig klaver (of kruiden) terwijl er op andere delen is ingezaaid met vooral klaver en weinig gras. Dit moet voorkomen worden om optimaal te profiteren van het nut van een dergelijke mengteelt. Het aandrukken met een rol na het zaaien, helpt het contact tussen het zaad en de bodem te verhogen wat zorgt voor een betere vochtbeschikbaarheid en kleinere kans op wegwaaien. Eveneens zorgt dit ervoor dat de bodem minder snel uitdroogd.
A32: Hoogste score zonder klaver Zaai | N32: =SUM(N29,N23,N15,N13,N11,N9,N7,N4) -> 7.25 | P32: =_xlfn.CONCAT(P4:P18,P23:P24,P29:P30) -> Een rassenlijst kan helpen bij het maken van de meest geschikte zaadkeuze voor je perceel. Door veredeling worden er nog altijd nieuwe, beter presterende rassen ontwikkeld. Klavers kunnen de stikstofefficiëntie van je grasland sterk verhogen wanneer deze naar behoren worden beheerd. Overweeg om ook eens kruiden op te nemen in je zaaimengsel. Net zoals klavers zijn er heel wat kruiden die kunnen bijdragen aan het klimaatrobuuster maken van je grasland. Idealieter wordt grasland ingezaaid van augustus tot oktober. Het succes zal echter afhankelijk zijn van de temperatuur en neerslag in de periode na het zaaien. Voorjaarszaai is een mogelijkheid, maar wordt omwille van de onkruiddruk en de steeds vaker voorkomende droge groeiomstandigheden in het voorjaar best als 2de keuze gezien. Gras wordt best gezaaid op een diepte van 1 - 2 cm. Het aandrukken met een rol na het zaaien, helpt het contact tussen het zaad en de bodem te verhogen wat zorgt voor een betere vochtbeschikbaarheid en kleinere kans op wegwaaien. Eveneens zorgt dit ervoor dat de bodem minder snel uitdroogd. | Q32: =_xlfn.CONCAT(Q4:Q18,Q23:Q24,Q29:Q30) -> Een rassenlijst kan helpen bij het maken van de meest geschikte zaadkeuze voor je perceel. Door veredeling worden er nog altijd nieuwe, beter presterende rassen ontwikkeld. Klavers kunnen de stikstofefficiëntie van je grasland sterk verhogen wanneer deze naar behoren worden beheerd. Overweeg om ook eens kruiden op te nemen in je zaaimengsel. Net zoals klavers zijn er heel wat kruiden die kunnen bijdragen aan het klimaatrobuuster maken van je grasland. Idealieter wordt grasland ingezaaid van augustus tot oktober. Het succes zal echter afhankelijk zijn van de temperatuur en neerslag in de periode na het zaaien. Voorjaarszaai is een mogelijkheid, maar wordt omwille van de onkruiddruk en de steeds vaker voorkomende droge groeiomstandigheden in het voorjaar best als 2de keuze gezien. Gras wordt best gezaaid op een diepte van 1 - 2 cm. Het aandrukken met een rol na het zaaien, helpt het contact tussen het zaad en de bodem te verhogen wat zorgt voor een betere vochtbeschikbaarheid en kleinere kans op wegwaaien. Eveneens zorgt dit ervoor dat de bodem minder snel uitdroogd.
Q33: =IF(OR(O33="Nee",O33="",P33=""),"",P33)
A34: Nutriëntenbeheer | B34: Type vraag | C34: Antwoorden + scoring | N34: Max score | O34: Advies nodig? | P34: Adviezen als suboptimaal | Q34: Adviezen meegenomen
A35: Worden er regelmatig bodemstalen genomen? | B35: Ja/Nee | C35: Ja | D35: Nee | N35: 1 | O35: =Nutriëntenbeheer!D2 -> Ja | P35: Zonder recente bodemanalyse weten we niet wat er toegediend moet worden om het volle potentieel uit het grasland te halen. | Q35: =IF(OR(O35="Nee",O35="",P35=""),"",P35) -> Zonder recente bodemanalyse weten we niet wat er toegediend moet worden om het volle potentieel uit het grasland te halen.
B36: Ja/Nee | C36: =N35 -> 1 | D36: 0 | Q36: =IF(OR(O36="Nee",O36="",P36=""),"",P36)
A37: Stuurt u de pH, o.b.v. deze resultaten, bij met bekalken? | B37: Ja/Nee | C37: Ja | D37: Nee | N37: 1 | O37: =Nutriëntenbeheer!D3 -> Ja | P37: De zuurtegraad van de bodem bepaalt in grote mate de plantbeschikbaarheid van heel wat mineralen en is eveneens belangrijk voor een goede stikstoffixatie door vlinderbloemigen zoals klaver. | Q37: =IF(OR(O37="Nee",O37="",P37=""),"",P37) -> De zuurtegraad van de bodem bepaalt in grote mate de plantbeschikbaarheid van heel wat mineralen en is eveneens belangrijk voor een goede stikstoffixatie door vlinderbloemigen zoals klaver.
B38: Ja/Nee | C38: =N37 -> 1 | D38: 0 | Q38: =IF(OR(O38="Nee",O38="",P38=""),"",P38)
A39: Welke pH waarde probeert u aan te houden? | B39: Keuzelijst | D39: 4 - 4,5 | E39: 4,5 - 5 | F39: 5 - 5,5 | G39: 5,5 - 6 | H39: 6 - 6,5 | I39: 6,5 - 7 | J39: 7 - 7,5 | K39: 7,5 - 8 | N39: 1 | O39: =Nutriëntenbeheer!D4 -> #N/A | P39: =VLOOKUP(C40,C41:P44,14,FALSE) -> #N/A | Q39: =IF(OR(O39="Nee",O39="",P39=""),"",P39) -> #N/A
B40: Keuzelijst | C40: =Algemeen!B8 -> 0 | D40: =IF($C$40=$C$41,D41,IF($C$40=$C$42,D42,IF($C$40=$C$43,D43,IF($C$40=$C$44,D44,0)))) -> 0 | E40: =IF($C$40=$C$41,E41,IF($C$40=$C$42,E42,IF($C$40=$C$43,E43,IF($C$40=$C$44,E44,0)))) -> 0 | F40: =IF($C$40=$C$41,F41,IF($C$40=$C$42,F42,IF($C$40=$C$43,F43,IF($C$40=$C$44,F44,0)))) -> 0 | G40: =IF($C$40=$C$41,G41,IF($C$40=$C$42,G42,IF($C$40=$C$43,G43,IF($C$40=$C$44,G44,0)))) -> 0 | H40: =IF($C$40=$C$41,H41,IF($C$40=$C$42,H42,IF($C$40=$C$43,H43,IF($C$40=$C$44,H44,0)))) -> 0 | I40: =IF($C$40=$C$41,I41,IF($C$40=$C$42,I42,IF($C$40=$C$43,I43,IF($C$40=$C$44,I44,0)))) -> 0 | J40: =IF($C$40=$C$41,J41,IF($C$40=$C$42,J42,IF($C$40=$C$43,J43,IF($C$40=$C$44,J44,0)))) -> 0 | K40: =IF($C$40=$C$41,K41,IF($C$40=$C$42,K42,IF($C$40=$C$43,K43,IF($C$40=$C$44,K44,0)))) -> 0 | Q40: =IF(OR(O40="Nee",O40="",P40=""),"",P40)
B41: Keuzelijst | C41: Zand | D41: 0 | E41: =N39/2 -> 0.5 | F41: =N39 -> 1 | G41: =N39 -> 1 | H41: =N39/2 -> 0.5 | I41: 0 | J41: 0 | K41: 0 | P41: De zuurtegraad ligt op zandgrond best tussen 5,2 en 5,6. | Q41: =IF(OR(O41="Nee",O41="",P41=""),"",P41)
B42: Keuzelijst | C42: Zandleem | D42: 0 | E42: 0 | F42: 0 | G42: =N39/2 -> 0.5 | H42: =N39 -> 1 | I42: =N39 -> 1 | J42: =N39/2 -> 0.5 | K42: 0 | P42: De zuurtegraad ligt op zandleem best tussen 6,2 en 6,6. | Q42: =IF(OR(O42="Nee",O42="",P42=""),"",P42)
B43: Keuzelijst | C43: Leem | D43: 0 | E43: 0 | F43: 0 | G43: 0 | H43: =N39/2 -> 0.5 | I43: =N39 -> 1 | J43: =N39 -> 1 | K43: =N39/2 -> 0.5 | P43: De zuurtegraad ligt op leem best tussen 6,7 en 7,3. | Q43: =IF(OR(O43="Nee",O43="",P43=""),"",P43)
B44: Keuzelijst | C44: Klei | D44: 0 | E44: 0 | F44: 0 | G44: 0 | H44: 0 | I44: =N39/2 -> 0.5 | J44: =N39 -> 1 | K44: =N39 -> 1 | P44: De zuurtegraad ligt op kleigrond best tussen 7,2 en 7,7. | Q44: =IF(OR(O44="Nee",O44="",P44=""),"",P44)
A45: Worden er meststalen genomen zodat de nutriënteninhoud bekend is? | B45: Ja/Nee | C45: Ja | D45: Nee | N45: 1 | O45: =Nutriëntenbeheer!D5 -> Ja | P45: Om goed te weten wat u juist moet/kan bemesten is het belangrijk ook te weten wat er in uw dierlijke mest zit. Zo zit drijfmest soms lager in N-inhoud vergeleken met de forfaitaire waarde. Wat dan zou betekenen dat er meer kan worden uitgereden zonder de norm te overscheiden. | Q45: =IF(OR(O45="Nee",O45="",P45=""),"",P45) -> Om goed te weten wat u juist moet/kan bemesten is het belangrijk ook te weten wat er in uw dierlijke mest zit. Zo zit drijfmest soms lager in N-inhoud vergeleken met de forfaitaire waarde. Wat dan zou betekenen dat er meer kan worden uitgereden zonder de norm te overscheiden.
B46: Ja/Nee | C46: =N45 -> 1 | D46: 0 | Q46: =IF(OR(O46="Nee",O46="",P46=""),"",P46)
A47: Met welke elementen houdt u allemaal rekening (vink aan)? | B47: Checkbox | Q47: =IF(OR(O47="Nee",O47="",P47=""),"",P47)
A48: N | B48: Checkbox | C48: TRUE | D48: FALSE | N48: 0.75 | O48: =Nutriëntenbeheer!D7 -> Ja | P48: Stikstof (N) is één van de voornaamste elementen voor de grasgroei en bepaalt in grote mate de mogelijke eiwitproductie. | Q48: =IF(OR(O48="Nee",O48="",P48=""),"",P48) -> Stikstof (N) is één van de voornaamste elementen voor de grasgroei en bepaalt in grote mate de mogelijke eiwitproductie.
B49: Checkbox | C49: =N48 -> 0.75 | D49: 0 | Q49: =IF(OR(O49="Nee",O49="",P49=""),"",P49)
A50: P | B50: Checkbox | C50: TRUE | D50: FALSE | N50: 0.75 | O50: =Nutriëntenbeheer!D8 -> Ja | P50: Fosfor (P) heeft een sterke invloed op de grasgroei en tekorten kunnen leiden tot verwelking en paarskleuring. Heel wat gronden zijn nog rijk aan fosfor door historische bemesting. Tekorten moeten echter ten alle tijden voorkomen worden. | Q50: =IF(OR(O50="Nee",O50="",P50=""),"",P50) -> Fosfor (P) heeft een sterke invloed op de grasgroei en tekorten kunnen leiden tot verwelking en paarskleuring. Heel wat gronden zijn nog rijk aan fosfor door historische bemesting. Tekorten moeten echter ten alle tijden voorkomen worden.
B51: Checkbox | C51: =N50 -> 0.75 | D51: 0 | Q51: =IF(OR(O51="Nee",O51="",P51=""),"",P51)
A52: K | B52: Checkbox | C52: TRUE | D52: FALSE | N52: 0.75 | O52: =Nutriëntenbeheer!D9 -> Ja | P52: Kalium (K) is belangrijk voor een optimale opbrengst, maar helpt de plant eveneens extremere periodes (droogte, hitte maar ook koude) beter overbruggen. Vaak kan er niet aan de kali-vraag voldaan worden met enkel de aanvoer van drijfmest. | Q52: =IF(OR(O52="Nee",O52="",P52=""),"",P52) -> Kalium (K) is belangrijk voor een optimale opbrengst, maar helpt de plant eveneens extremere periodes (droogte, hitte maar ook koude) beter overbruggen. Vaak kan er niet aan de kali-vraag voldaan worden met enkel de aanvoer van drijfmest.
B53: Checkbox | C53: =N52 -> 0.75 | D53: 0 | Q53: =IF(OR(O53="Nee",O53="",P53=""),"",P53)
A54: S | B54: Checkbox | C54: TRUE | D54: FALSE | N54: 0.5 | O54: =Nutriëntenbeheer!D10 -> Ja | P54: Zwavel (S) heeft een grote invloed op de eiwitproductie door gras. Je kan er dus best voldoende rekening mee houden. | Q54: =IF(OR(O54="Nee",O54="",P54=""),"",P54) -> Zwavel (S) heeft een grote invloed op de eiwitproductie door gras. Je kan er dus best voldoende rekening mee houden.
B55: Checkbox | C55: =N54 -> 0.5 | D55: 0 | Q55: =IF(OR(O55="Nee",O55="",P55=""),"",P55)
A56: Mg | B56: Checkbox | C56: TRUE | D56: FALSE | N56: 0.5 | O56: =Nutriëntenbeheer!D11 -> Ja | P56: Magnesium (Mg) vormt de centrale kern van de chlorofylmolecule in het plantenweefsel. Door tekorten zal de fotosynthese dus ook sterk geremd worden. Houdt echter ook voldoende rekening met de verhouding Mg t.o.v. K, daar deze elementen elkaar verdringen. Vermijd zo ook kopziekte bij uw vee. | Q56: =IF(OR(O56="Nee",O56="",P56=""),"",P56) -> Magnesium (Mg) vormt de centrale kern van de chlorofylmolecule in het plantenweefsel. Door tekorten zal de fotosynthese dus ook sterk geremd worden. Houdt echter ook voldoende rekening met de verhouding Mg t.o.v. K, daar deze elementen elkaar verdringen. Vermijd zo ook kopziekte bij uw vee.
B57: Checkbox | C57: =N56 -> 0.5 | D57: 0 | Q57: =IF(OR(O57="Nee",O57="",P57=""),"",P57)
A58: Ca | B58: Checkbox | C58: TRUE | D58: FALSE | N58: 0.5 | O58: =Nutriëntenbeheer!D12 -> Ja | Q58: =IF(OR(O58="Nee",O58="",P58=""),"",P58)
B59: Checkbox | C59: =N58 -> 0.5 | D59: 0 | Q59: =IF(OR(O59="Nee",O59="",P59=""),"",P59)
A60: Na | B60: Checkbox | C60: TRUE | D60: FALSE | N60: 0.5 | O60: =Nutriëntenbeheer!D13 -> Ja | P60: Natrium (Na) is vooral belangrijk naar smakelijkheid van het gras en kan dus de opname helpen verhogen. Verder kan natrium de weerstand tegen droogte helpen verhogen. | Q60: =IF(OR(O60="Nee",O60="",P60=""),"",P60) -> Natrium (Na) is vooral belangrijk naar smakelijkheid van het gras en kan dus de opname helpen verhogen. Verder kan natrium de weerstand tegen droogte helpen verhogen.
B61: Checkbox | C61: =N60 -> 0.5 | D61: 0 | Q61: =IF(OR(O61="Nee",O61="",P61=""),"",P61)
A62: Bodemtemperatuur (°C) bij eerste mestgift? | B62: Cijfermatig | C62: Lager dan | D62: 5 | E62: + | N62: 1 | O62: =Nutriëntenbeheer!D14 -> Ja | P62: Bij een bodemtemperatuur onder 5°C vindt er nagenoeg geen mineralisatie en grasgroei plaats. Daarom kan er beter gewacht worden tot deze bereikt is om de kans op uitspoeling van nutriënten te beperken. | Q62: =IF(OR(O62="Nee",O62="",P62=""),"",P62) -> Bij een bodemtemperatuur onder 5°C vindt er nagenoeg geen mineralisatie en grasgroei plaats. Daarom kan er beter gewacht worden tot deze bereikt is om de kans op uitspoeling van nutriënten te beperken.
B63: Cijfermatig | D63: 0 | E63: =N62 -> 1 | Q63: =IF(OR(O63="Nee",O63="",P63=""),"",P63)
A64: Temperatuursom bij de eerste kunstmestgift? | B64: Cijfermatig | C64: Lager dan | D64: 180 | E64: 401 | F64: + | N64: 1 | O64: =Nutriëntenbeheer!D15 -> Ja | P64: De temperatuursom moet op het moment van de eerste kunstmestgift minimaal 180 graden bedragen. Eerder bemesten resulteert in een inefficiënt nutriëntengebruik en uitspoeling. | Q64: =IF(OR(O64="Nee",O64="",P64=""),"",P64) -> De temperatuursom moet op het moment van de eerste kunstmestgift minimaal 180 graden bedragen. Eerder bemesten resulteert in een inefficiënt nutriëntengebruik en uitspoeling.
B65: Cijfermatig | D65: 0 | E65: 1 | F65: 0
A66: Houdt u steeds rekening met de draagkracht van de bodem bij drijfmestgift? | B66: Ja/Nee | C66: Ja | D66: Nee | N66: 1 | O66: =Nutriëntenbeheer!D16 -> Ja | P66: Door voldoende rekening te houden met de draagkracht van de bodem, kan u insporing en bodemverdichting door mest uitrijden voorkomen. | Q66: =IF(OR(O66="Nee",O66="",P66=""),"",P66) -> Door voldoende rekening te houden met de draagkracht van de bodem, kan u insporing en bodemverdichting door mest uitrijden voorkomen.
B67: Ja/Nee | C67: 1 | D67: 0
A68: Ammoniumgehalte van voorjaarsmeststof? | B68: Keuzelijst | C68: >45% | D68: >55% | E68: >65% | F68: >75% | G68: >85% | N68: 0.5 | O68: =Nutriëntenbeheer!D17 -> Nee | P68: Een hoger ammoniumgehalte in de voorjaarsmeststof kan helpen uitspoeling te voorkomen en efficiëntie te verhogen. | Q68: =IF(OR(O68="Nee",O68="",P68=""),"",P68)
B69: Keuzelijst | C69: =N68/5 -> 0.1 | D69: =N68*2/5 -> 0.2 | E69: =N68*3/5 -> 0.3 | F69: =N68*4/5 -> 0.4 | G69: =N68 -> 0.5 | Q69: =IF(OR(O69="Nee",O69="",P69=""),"",P69)
A70: Fractioneerd u de kaliumgift over het hele teeltseizoen? | B70: Ja/Nee | C70: Ja | D70: Nee | N70: 0.5 | O70: =Nutriëntenbeheer!D18 -> Ja | P70: Het fractioneren van de kaliumgiften is zeer belangrijk. Kalium spoelt vrij gemakkelijk uit en moet het hele groeiseizoen goed beschikbaar zijn. | Q70: =IF(OR(O70="Nee",O70="",P70=""),"",P70) -> Het fractioneren van de kaliumgiften is zeer belangrijk. Kalium spoelt vrij gemakkelijk uit en moet het hele groeiseizoen goed beschikbaar zijn.
B71: Ja/Nee | C71: =N70 -> 0.5 | D71: 0 | Q71: =IF(OR(O71="Nee",O71="",P71=""),"",P71)
A72: Voorziet u de zwavelgift vooral in het voorjaar? | B72: Ja/Nee | C72: Ja | D72: Nee | N72: 0.5 | O72: =Nutriëntenbeheer!D19 -> Ja | P72: Bij lagere temperaturen in het voorjaar is zwavel niet goed beschikbaar voor het gras, zelfs wanneer er nog voldoende aanwezig is in de bodem. Gras heeft echter dan ook al voldoende zwavel nodig om optimaal te groeien en eiwitten aan te maken. | Q72: =IF(OR(O72="Nee",O72="",P72=""),"",P72) -> Bij lagere temperaturen in het voorjaar is zwavel niet goed beschikbaar voor het gras, zelfs wanneer er nog voldoende aanwezig is in de bodem. Gras heeft echter dan ook al voldoende zwavel nodig om optimaal te groeien en eiwitten aan te maken.
B73: Ja/Nee | C73: =N72 -> 0.5 | D73: 0 | Q73: =IF(OR(O73="Nee",O73="",P73=""),"",P73)
A74: Houdt u rekening met de weersvoorspelling en de waterhuishouding van het perceel? | B74: Ja/Nee | C74: Ja | D74: Nee | N74: 1 | O74: =Nutriëntenbeheer!D20 -> Ja | P74: Natuurlijk is het weer ook bij de bemesting van belang. Wanneer het langere tijd droog is heeft het weinig zin om te bemesten. Drijfmest vormt een gedroogde koek, die soms deels omhoog groeit met het gras wat tot bevuiling van de snede kan leiden. Maar ook kunstmest zal weinig beschikbaar komen voor het gewas. Bij extreme neerslag kan er juist afspoeling worden verwacht en een te nat perceel kan best niet worden bereden om verdichting en insporing te voorkomen. | Q74: =IF(OR(O74="Nee",O74="",P74=""),"",P74) -> Natuurlijk is het weer ook bij de bemesting van belang. Wanneer het langere tijd droog is heeft het weinig zin om te bemesten. Drijfmest vormt een gedroogde koek, die soms deels omhoog groeit met het gras wat tot bevuiling van de snede kan leiden. Maar ook kunstmest zal weinig beschikbaar komen voor het gewas. Bij extreme neerslag kan er juist afspoeling worden verwacht en een te nat perceel kan best niet worden bereden om verdichting en insporing te voorkomen.
B75: Ja/Nee | C75: =N74 -> 1 | D75: 0 | Q75: =IF(OR(O75="Nee",O75="",P75=""),"",P75)
A76: Past u de bemesting aan bij grasklaver en kruidenrijk grasland t.o.v. conventioneel grasland? | B76: Ja/Nee | C76: Ja | D76: Nee | N76: 0.5 | O76: =Nutriëntenbeheer!D21 -> Ja | P76: De behoefte van grasklaver, graskruiden en conventioneel grasland zijn niet volledig hetzelfde. Denk zo maar aan de capaciteit van klavers om stikstof te fixeren, terwijl gras minder strenge eisen stelt aan de pH van de bodem. | Q76: =IF(OR(O76="Nee",O76="",P76=""),"",P76) -> De behoefte van grasklaver, graskruiden en conventioneel grasland zijn niet volledig hetzelfde. Denk zo maar aan de capaciteit van klavers om stikstof te fixeren, terwijl gras minder strenge eisen stelt aan de pH van de bodem.
B77: Ja/Nee | C77: =N76 -> 0.5 | D77: 0 | Q77: =IF(OR(O77="Nee",O77="",P77=""),"",P77)
A78: Past u de bemesting aan in het eerste jaar na zaai? | B78: Ja/Nee | C78: Ja | D78: Nee | N78: 0.5 | O78: =Nutriëntenbeheer!D22 -> Ja | P78: Bij een recent ingezaaid perceel, wordt berijding met al te zware machines liefst zo veel mogelijk vermeden. Houdt hier dus ook rekening mee bij het bemesten. | Q78: =IF(OR(O78="Nee",O78="",P78=""),"",P78) -> Bij een recent ingezaaid perceel, wordt berijding met al te zware machines liefst zo veel mogelijk vermeden. Houdt hier dus ook rekening mee bij het bemesten.
B79: Ja/Nee | C79: =N78 -> 0.5 | D79: 0 | Q79: =IF(OR(O79="Nee",O79="",P79=""),"",P79)
A80: Verdund u de drijfmest? | B80: Ja/Nee | C80: Ja | D80: Nee | N80: 0.5 | O80: =Nutriëntenbeheer!D23 -> Ja | P80: Er worden heel wat voordelen toegekend aan het verdunnen van drijfmest, die dit het overwegen waard maken. Enkele zijn: minder besmeuring van het gras, meer grasopbrengst, minder ammoniakemissie, minder verbranding, betere indringing enzovoort. Natuurlijk is er wel steeds een correcte mestanalyse nodig en zal er eveneens meer m³ uitgereden moeten worden. | Q80: =IF(OR(O80="Nee",O80="",P80=""),"",P80) -> Er worden heel wat voordelen toegekend aan het verdunnen van drijfmest, die dit het overwegen waard maken. Enkele zijn: minder besmeuring van het gras, meer grasopbrengst, minder ammoniakemissie, minder verbranding, betere indringing enzovoort. Natuurlijk is er wel steeds een correcte mestanalyse nodig en zal er eveneens meer m³ uitgereden moeten worden.
B81: Ja/Nee | C81: =N80 -> 0.5 | D81: 0 | Q81: =IF(OR(O81="Nee",O81="",P81=""),"",P81)
A82: Wijzigt u de grootte van de bemestingsgift o.b.v. de verwachte opbrengst van de snede? | B82: Ja/Nee | C82: Ja | D82: Nee | N82: 0.5 | O82: =Nutriëntenbeheer!D24 -> Ja | P82: Gras doet aan luxeconsumptie van stikstof en kalium. Wat maakt dat de giften van deze nutriënten best worden gefractioneerd en afgestemd op de verwachte opbrengst, om zo efficiënt mogelijk te bemesten. | Q82: =IF(OR(O82="Nee",O82="",P82=""),"",P82) -> Gras doet aan luxeconsumptie van stikstof en kalium. Wat maakt dat de giften van deze nutriënten best worden gefractioneerd en afgestemd op de verwachte opbrengst, om zo efficiënt mogelijk te bemesten.
B83: Ja/Nee | C83: =N82 -> 0.5 | D83: 0 | Q83: =IF(OR(O83="Nee",O83="",P83=""),"",P83)
A84: Wanneer voorziet u de laatste drijfmestgift? | B84: Keuzelijst | C84: Voor 1 juli | D84: Voor 15 juli | E84: Voor 1 augustus | F84: Voor 15 augustus | N84: 1 | O84: =Nutriëntenbeheer!D25 -> Nee | P84: Wanneer er te laat bemest wordt, kan dit leiden tot uitspoeling en inefficiënt gebruik van nutriënten. | Q84: =IF(OR(O84="Nee",O84="",P84=""),"",P84)
B85: Keuzelijst | C85: =N84 -> 1 | D85: =N84 -> 1 | E85: =N84/2 -> 0.5 | F85: =N84/4 -> 0.25 | Q85: =IF(OR(O85="Nee",O85="",P85=""),"",P85)
A86: Hoeveel kg N wordt er gebracht per ha? | B86: Cijfermatig | C86: Zonder | D86: Met vlinderbloemige | G86: Met vlinderbloemigen? | H86: Limiet | J86: =_xlfn.CONCAT("Voor grasmengsels waarin geen vlinderbloemigen zoals klavers zijn opgenomen, zou een bemesting van ",C87," kg stikstof voldoende moeten zijn om goede kwaliteit en opbrengst te behalen. Hogere bemestingen zorgen verhoudingsgewijs meestal slechts voor kleine meeropbrengsten, terwijl N-verliezen vaak juist toenemen.") -> Voor grasmengsels waarin geen vlinderbloemigen zoals klavers zijn opgenomen, zou een bemesting van 350 kg stikstof voldoende moeten zijn om goede kwaliteit en opbrengst te behalen. Hogere bemestingen zorgen verhoudingsgewijs meestal slechts voor kleine meeropbrengsten, terwijl N-verliezen vaak juist toenemen. | O86: =IF(H87<Nutriëntenbeheer!B26,"Ja","Nee") -> Nee | P86: =IF(G87="Ja",J87,J86) -> Voor grasmengsels waarin geen vlinderbloemigen zoals klavers zijn opgenomen, zou een bemesting van 350 kg stikstof voldoende moeten zijn om goede kwaliteit en opbrengst te behalen. Hogere bemestingen zorgen verhoudingsgewijs meestal slechts voor kleine meeropbrengsten, terwijl N-verliezen vaak juist toenemen. | Q86: =IF(OR(O86="Nee",O86="",P86=""),"",P86)
B87: Cijfermatig | C87: 350 | D87: 220 | G87: =IF(OR(Zaai!B4=TRUE,Zaai!B5=TRUE,Zaai!B6=TRUE),"Ja","Nee") -> Nee | H87: =IF(G87="Ja",D87,C87) -> 350 | J87: =_xlfn.CONCAT("Voor grasmengsels waarin voldoende vlinderbloemigen zoals klavers zijn opgenomen, zou een bemesting van ",H87," kg stikstof voldoende moeten zijn. Door nog meer te bemesten zal het positieve effect van de stikstoffixatie niet tot zijn recht komen, en nemen de kosten voor kunstmest enkel toe.") -> Voor grasmengsels waarin voldoende vlinderbloemigen zoals klavers zijn opgenomen, zou een bemesting van 350 kg stikstof voldoende moeten zijn. Door nog meer te bemesten zal het positieve effect van de stikstoffixatie niet tot zijn recht komen, en nemen de kosten voor kunstmest enkel toe.
A88: Geschatte NUE (%) toevoegen o.b.v. verzamelde gegevens | B88: Cijfermatig | C88: 100 | O88: =IF(Nutriëntenbeheer!B27<Scoring!C88,"Ja","Nee") -> Ja | P88: Je NUE (= Nitrogen Use Efficiency) of bruto stikstofefficiëntie ligt lager dan 100%. Dit betekend dat niet alle stikstof, beschikbaar door bemesting, succesvol werd ingebouwd in en geoogst in de vorm van graseiwit. Voor traditioneel grasland liggen deze waardes meestal ook lager dan 100% door o.a. N-uitspoeling, oogstverliezen, conserveringsverliezen, ... . Door je graslandbeheer te optimaliseren kan dit percentage verder verhoogd worden. Vlinderbloemigen zoals klaver in je grasmengsels op nemen, kan zelf resulteren in NUE-percentages hoger dan 100%, door de extra stikstof beschikbaar gemaakt via stikstoffixatie. | Q88: =IF(OR(O88="Nee",O88="",P88=""),"",P88) -> Je NUE (= Nitrogen Use Efficiency) of bruto stikstofefficiëntie ligt lager dan 100%. Dit betekend dat niet alle stikstof, beschikbaar door bemesting, succesvol werd ingebouwd in en geoogst in de vorm van graseiwit. Voor traditioneel grasland liggen deze waardes meestal ook lager dan 100% door o.a. N-uitspoeling, oogstverliezen, conserveringsverliezen, ... . Door je graslandbeheer te optimaliseren kan dit percentage verder verhoogd worden. Vlinderbloemigen zoals klaver in je grasmengsels op nemen, kan zelf resulteren in NUE-percentages hoger dan 100%, door de extra stikstof beschikbaar gemaakt via stikstoffixatie.
B89: Cijfermatig | Q89: =IF(OR(O89="Nee",O89="",P89=""),"",P89)
A90: Hoogste score Nutriëntenbeheer | N90: =SUM(N35:N89) -> 16.75 | P90: =_xlfn.CONCAT(P35:P89) -> #N/A | Q90: =_xlfn.CONCAT(Q35:Q89) -> #N/A
A91: Hoogste score zonder klaver Nutriëntenbeheer | N91: =SUM(N78:N89,N35:N75) -> 16.25 | P91: =_xlfn.CONCAT(P35:P75,P78:P89) -> #N/A | Q91: =_xlfn.CONCAT(Q35:Q75,Q78:Q89) -> #N/A
Q92: =IF(OR(O92="Nee",O92="",P92=""),"",P92)
A93: Oogst | B93: Type vraag | C93: Antwoorden + scoring | N93: Max score | O93: Advies nodig? | P93: Adviezen als suboptimaal | Q93: Adviezen meegenomen
A94: Wordt de maaier tijdig nagekeken en onderhouden? | B94: Ja/Nee | C94: Ja | D94: Nee | N94: 1 | O94: =Oogst!E2 -> Ja | P94: Zorg steeds dat de messen voldoende scherp zijn. Hierdoor zal het gras beter doorgesneden en minder kapotgeslagen worden, en zal ook het brandstofverbruik lager zijn. | Q94: =IF(OR(O94="Nee",O94="",P94=""),"",P94) -> Zorg steeds dat de messen voldoende scherp zijn. Hierdoor zal het gras beter doorgesneden en minder kapotgeslagen worden, en zal ook het brandstofverbruik lager zijn.
B95: Ja/Nee | C95: =N94 -> 1 | D95: 0 | Q95: =IF(OR(O95="Nee",O95="",P95=""),"",P95)
A96: Waarmee houdt u rekening bij het beslissen van het juiste maaitijdstip? | B96: Checkbox | Q96: =IF(OR(O96="Nee",O96="",P96=""),"",P96)
A97: Weer | B97: Checkbox | C97: TRUE | D97: FALSE | N97: =1/3 -> 0.33333333 | O97: =Oogst!E4 -> Ja | P97: Best wordt er vermeden dat er neerslag valt tijdens de veldperiode, check dus steeds de weersvoorspelling alvorens je beslist te maaien. | Q97: =IF(OR(O97="Nee",O97="",P97=""),"",P97) -> Best wordt er vermeden dat er neerslag valt tijdens de veldperiode, check dus steeds de weersvoorspelling alvorens je beslist te maaien.
B98: Checkbox | C98: =N97 -> 0.33333333 | D98: 0 | Q98: =IF(OR(O98="Nee",O98="",P98=""),"",P98)
A99: Zwaarte snede/grashoogte | B99: Checkbox | C99: TRUE | D99: FALSE | N99: =1/3 -> 0.33333333 | O99: =Oogst!E5 -> Ja | P99: Wanneer er reeds een mooie snede op staat, wacht je best niet te lang met maaien. Bij een te zware snede is de hergroei vaak minder goed. | Q99: =IF(OR(O99="Nee",O99="",P99=""),"",P99) -> Wanneer er reeds een mooie snede op staat, wacht je best niet te lang met maaien. Bij een te zware snede is de hergroei vaak minder goed.
B100: Checkbox | C100: =N99 -> 0.33333333 | D100: 0 | Q100: =IF(OR(O100="Nee",O100="",P100=""),"",P100)
A101: Aarvorming | B101: Checkbox | C101: TRUE | D101: FALSE | N101: =1/3 -> 0.33333333 | O101: =Oogst!E6 -> Ja | P101: Aarvorming in het gras gaat gepaard met een lagere voederwaarde. Wacht daarom niet te lang met maaien zodra je aarvorming waarneemt. | Q101: =IF(OR(O101="Nee",O101="",P101=""),"",P101) -> Aarvorming in het gras gaat gepaard met een lagere voederwaarde. Wacht daarom niet te lang met maaien zodra je aarvorming waarneemt.
...

Sheet Lijsten
A1: Ja/Nee | C1: Zaaitijdstip | E1: Zaaidiepte | G1: pH-waarde | I1: Maaihoogte | K1: Veldperiode | M1: Type bedrijf | O1: Beweidingstypes | R1: Tijd bemesting tot maaien | T1: DS-gehalte | V1: Aantal | X1: scoring | Y1: advies thema | Z1: Algemeen advies | AB1: Tijd tot openen kuil | AD1: Temperatuur | AF1: Laatste drijfmestgift | AH1: Ammoniumgehalte | AJ1: Onkruidbestrijding | AL1: Bodemtype | AN1: Gangbaar/Biologisch | AP1: Doel beregening
A2: Ja | C2: 46023 | E2: 0 - 0,5 cm | G2: 4 - 4,5 | I2: 4 - 5 cm | K2: < 1 dag | M2: Melkvee | O2: Omweiden - rantsoenbeweiding | R2: 1 week | T2: 25-30% | V2: 1 | X2: 1 | Y2: Je doet reeds alles binnen dit thema volgens de regels van de kunst. Doe zo voort! | Z2: Je krijgt de maximum score voor jouw graslandbeheer. Proficiat! | AB2: Na 4 weken | AD2: -1 | AF2: Voor 1 juli | AH2: >45% | AJ2: Vollevelds | AL2: Zand | AN2: Gangbaar | AP2: Meeropbrengst
A3: Nee | C3: 46024 | E3: 0,5 - 1 cm | G3: 4,5 - 5 | I3: 5 - 6 cm | K3: 1 dag | M3: Vleesvee | O3: Omweiden - stripgrazen | R3: 2 weken | T3: 30-35% | V3: 2 | X3: 0.75 | Y3: Je doet het zeker niet slecht binnen dit thema. Toch hebben we nog enkele tips die je nog meer succes kunnen bezorgen. | Z3: Je bent reeds goed bezig met je graslandbeheer. Er zijn echter nog enkele verbeterpunten. | AB3: Na 5 weken | AD3: 0 | AF3: Voor 15 juli | AH3: >55% | AJ3: Plaatsspecifiek indien mogelijk | AL3: Leem | AN3: Biologisch | AP3: Kwaliteit graszode veiligstellen
C4: 46025 | E4: 1 - 1,5 cm | G4: 5 - 5,5 | I4: 6 - 7 cm | K4: 2 dagen | O4: Standweiden - klassiek | R4: 3 weken | T4: 35-40% | V4: 3 | X4: 0.5 | Y4: Dit kan nog beter. Hieronder wat tips om je verder te helpen. | Z4: Met deze score is er nog heel wat groeipotentieel. Hieronder wat adviezen om je verder te helpen. | AB4: Na 6 weken | AD4: 1 | AF4: Voor 1 augustus | AH4: >65% | AL4: Klei | AP4: Beweiding mogelijk houden
C5: 46026 | E5: 1,5 - 2 cm | G5: 5,5 - 6 | I5: 7 - 8 cm | K5: 3 dagen | O5: Standweiden - modern | R5: 4 weken | T5: 40-45% | V5: 4 | X5: 0.25 | Y5: Er zijn nog heel wat verbeterpunten binnen dit thema. Hopelijk helpen de onderstaande tips je verder. | Z5: Je bent niet geslaagd, dit moet beter. Hopelijk helpen de onderstaande tips je verder. | AB5: Na 7 weken | AD5: 2 | AF5: Voor 15 augustus | AH5: >75%
C6: 46027 | E6: 2 - 2,5 cm | G6: 6 - 6,5 | I6: 8 - 9 cm | K6: > 3 dagen | O6: Standweiden - roterend | R6: > 4 weken | T6: 45-50% | V6: 5 | X6: 0 | Y6: Je bent zwaar gebuisd op dit thema. Door onderstaande adviezen ter harte te nemen, kan je veel succesvoller worden. | Z6: Je bent zwaar gebuisd op deze beoordeling van je graslandbeheer. Volg onderstaande adviezen dringend op! | AB6: Na 8 weken | AD6: 3 | AH6: >85%
C7: 46028 | E7: 2,5 - 3 cm | G7: 6,5 - 7 | I7: 9 - 10 cm | O7: ABC weiden | T7: 50-55% | V7: 6 | AB7: Na > 8 weken | AD7: 4
C8: 46029 | G8: 7 - 7,5 | O8: ABS weiden | T8: 55-60% | V8: 7 | AD8: 5
C9: 46030 | G9: 7,5 - 8 | O9: ASS weiden | AD9: 6
C10: 46031 | O10: Kurzrasenweiden | AD10: 7
C11: 46032 | AD11: 8
C12: 46033 | AD12: 9
C13: 46034 | AD13: 10
C14: 46035
C15: 46036
C16: 46037
C17: 46038
C18: 46039
C19: 46040
C20: 46041
C21: 46042
C22: 46043
C23: 46044
C24: 46045
C25: 46046
... C366: 46387
