Workbook
Name Diercategorie: 'Lijsten en tabellen'!$AI$3:$AI$10
Name Melkkoeien: 'Lijsten en tabellen'!$AJ$3:$AJ$28

Sheet Handleiding
A7: Deze bemestingstool werd ontwikkeld binnen het demoproject "Graskracht". De tool helpt een correct bemestingschema op te stellen specifiek voor grasland en grasmengsels met vlinderbloemigen en/of kruiden. Deze werd initieel ontwikkeld als hulpmiddel voor adviseurs, maar kan eveneens door de geïnteresseerde landbouwer worden gebruikt als hulpmiddel.
A11: Enkel de cellen met onderstaande kleuren dienen ingevuld te worden.
B12: Gele cellen moeten worden ingevuld om correcte adviezen en berekeningen van de bemesting te verkrijgen.
B14: Lichtgele cellen kunnen voorwaardelijk worden ingevuld. Deze cellen zijn niet essentieel voor de berekeningen, maar wanneer ingevuld worden deze benamingen/waarden wel gebruikt in de verdere berekeningen.
A17: Stap 1: Toevoegen van de te gebruiken meststoffen
A18: Vul het tabblad "Te gebruiken meststoffen" steeds van boven naar onder in. Zo wordt de volgorde van de keuzelijsten gerespecteerd. Dus vul eerst "Type mest" in en erna de "Officiële benaming". Indien je een alternatieve benaming wenst te gebruiken i.p.v. de officiële benaming, kan je deze invullen in de lichtgele cellen in het linkergedeelte van het tabblad. In het rechtergedeelte kan er ook steeds een alternatieve samenstelling worden ingegeven van bv. een eigen mestanalyse. Wanneer je 2 putten met verschillende inhoud hebt, kan je deze beide een "Eigen naam" geven en bijhorende inhoud invullen. Kostprijzen kunnen eveneens per mestsoort worden toegevoegd. Let echter op de eenheid, voor een correcte berekening later in de tool.
A25: Stap 2: Vul algemene perceelsinformatie in
A26: Na het invullen van het tabblad " Te gebruiken meststoffen" kan je naar de volgende tabbladen gaan voor de bemestingschema's per perceel (zoals "Perceel_1"). Om correcte adviezen voor te stellen en de juiste bemestingsnormen weer te geven, dienen er enkele algemene perceelsgegevens ingevuld te worden in de gele cellen via keuzelijstjes.
A31: Stap 3: Controleer het voorgestelde advies en wijzig indien nodig
A32: Bekijk het voorgestelde advies en vergelijk dit eventueel met andere adviezen zoals deze bij je bodemanalyses. Indien nodig kan je dan een eigen advies invullen in de lichtgele cellen. Via de gele cel kan je kiezen of je een advies per jaar invult of per snede.
A35: Stap 4: Indien begrazing, vul dan ook hier de nodige cijfers van in
A36: Onder gegevens begrazing kan je invullen hoeveel runderen voor welke periode en duur per dag aan begrazing deden per snede. Hieruit wordt er automatisch een N- en P-uitscheiding berekend (zoals te zien onderaan bij de "te gebruiken meststoffen), die later dan ook als bemesting kan worden ingevuld.
A39: Stap 5: Bemesting invullen
A40: Na alle benodigde gegevens in te vullen, kan er aan de effectieve bemesting worden gestart. Vul per snede de gele cellen in met de toe te dienen meststof en hoeveelheid. Onderaan het tablad kan je controleren hoe de zelf ingevulde bemesting overeenkomt met het voorziene advies via een tabel of de beschikbare grafieken. Pas aan de hand daarvan de bemesting aan om verder te optimaliseren. Aan de linkerkant wordt er eveneens een overzicht gegeven van de kostprijs van het bemestingsschema.
A45: Stap 6: Oogstgegevens invullen en NUE bepalen
A46: De NUE of Nitrogen Use Efficiency is een kengetal voor de bruto stikstofefficiëntie van het perceel. Dit betekent de verhouding waarin er stikstof wordt geoogst in de vorm van eiwit in het gras per hoeveelheid stikstof die via bemesting werd toegediend. Dit kengetal kan je automatisch laten berekenen door de oogstgegevens in te vullen.

Sheet Te gebruiken meststoffen
A1: Welke meststoffen wens je in te zetten? | D1: Als eigen naam mest of analysewaarden zijn ingevuld, worden deze ook gebruikt verder in de tool. | U1: Werkzame
A2: Meststof 1 | C2: Eenheid inhoud: | D2: =_xlfn.CONCAT("Inhoud (",C3,")") -> #N/A | E2: N | F2: P2O5 | G2: K2O | H2: MgO | I2: CaO | J2: Na2O | K2: SO3 | L2: N-vrijgave 1st volgende snede | M2: N-vrijgave 2de snede | N2: N-vrijgave 3de snede | O2: N-vrijgave 4de snede | Q2: Meststoffenlijst | S2: Eenheid inhoud | T2: Ndier | U2: Nwz | V2: P2O5 | W2: K2O | X2: MgO | Y2: CaO | Z2: Na2O | AA2: SO3 | AB2: Bron | AC2: Eenheid dosering | AD2: N-vrijgave 1st volgende snede | AE2: N-vrijgave 2de snede | AF2: N-vrijgave 3de snede | AG2: N-vrijgave 4de snede | AH2: Kostprijs
A3: Type mest: | C3: =VLOOKUP(B4,Meststoffenlijst!E3:I184,4,FALSE) -> #N/A | D3: Forfaitair: | E3: =IF(B4="","",IF(VLOOKUP(B4,Meststoffenlijst!$E$3:$AF$184,6,FALSE)=0,"",VLOOKUP(B4,Meststoffenlijst!$E$3:$AF$184,6,FALSE))) | F3: =IF(B4="","",IF(VLOOKUP(B4,Meststoffenlijst!$E$3:$AF$184,10,FALSE)=0,"",VLOOKUP(B4,Meststoffenlijst!$E$3:$AF$184,10,FALSE))) | G3: =IF(B4="","",IF(VLOOKUP(B4,Meststoffenlijst!$E$3:$AF$184,13,FALSE)=0,"",VLOOKUP(B4,Meststoffenlijst!$E$3:$AF$184,13,FALSE))) | H3: =IF(B4="","",IF(VLOOKUP(B4,Meststoffenlijst!$E$3:$AF$184,16,FALSE)=0,"",VLOOKUP(B4,Meststoffenlijst!$E$3:$AF$184,16,FALSE))) | I3: =IF(B4="","",IF(VLOOKUP(B4,Meststoffenlijst!$E$3:$AF$184,19,FALSE)=0,"",VLOOKUP(B4,Meststoffenlijst!$E$3:$AF$184,19,FALSE))) | J3: =IF(B4="","",IF(VLOOKUP(B4,Meststoffenlijst!$E$3:$AF$184,22,FALSE)=0,"",VLOOKUP(B4,Meststoffenlijst!$E$3:$AF$184,22,FALSE))) | K3: =IF(B4="","",IF(VLOOKUP(B4,Meststoffenlijst!$E$3:$AF$184,25,FALSE)=0,"",VLOOKUP(B4,Meststoffenlijst!$E$3:$AF$184,25,FALSE))) | Q3: Meststof 1 | R3: =B7 -> 0 | S3: =C3 -> #N/A | T3: =IF(AB3="DIERLIJKE",IF(E4="",E3,E4),0) -> 0 | U3: =IF(E6="",0,E6) -> 0 | V3: =IF(F6="",0,F6) -> 0 | W3: =IF(G6="",0,G6) -> 0 | X3: =IF(H6="",0,H6) -> 0 | Y3: =IF(I6="",0,I6) -> 0 | Z3: =IF(J6="",0,J6) -> 0 | AA3: =IF(K6="",0,K6) -> 0 | AB3: =B3 -> 0 | AC3: =A7 -> #N/A | AD3: =L6 -> 0 | AE3: =M6 -> 0 | AF3: =N6 -> 0 | AG3: =O6 -> 0 | AH3: =B6 -> 0
A4: Officiële naam mest: | D4: Eigen analyse/meststof: | Q4: Meststof 2 | R4: =B13 -> 0 | S4: =C9 -> #N/A | T4: =IF(AB4="DIERLIJKE",IF(E10="",E9,E10),0) -> 0 | U4: =IF(E12="",0,E12) -> 0 | V4: =IF(F12="",0,F12) -> 0 | W4: =IF(G12="",0,G12) -> 0 | X4: =IF(H12="",0,H12) -> 0 | Y4: =IF(I12="",0,I12) -> 0 | Z4: =IF(J12="",0,J12) -> 0 | AA4: =IF(K12="",0,K12) -> 0 | AB4: =B9 -> 0 | AC4: =A13 -> #N/A | AD4: =L12 -> 0 | AE4: =M12 -> 0 | AF4: =N12 -> 0 | AG4: =O12 -> 0 | AH4: =B12 -> 0
A5: Eigen naam mest: | D5: Werkingscoëfficiënt (%): | E5: =IF(B4="","",IF(VLOOKUP(B4,Meststoffenlijst!$E$3:$AF$184,7,FALSE)=0,"",VLOOKUP(B4,Meststoffenlijst!$E$3:$AF$184,7,FALSE))) | F5: =IF(B4="","",IF(VLOOKUP(B4,Meststoffenlijst!$E$3:$AF$184,11,FALSE)=0,"",VLOOKUP(B4,Meststoffenlijst!$E$3:$AF$184,11,FALSE))) | G5: =IF(B4="","",IF(VLOOKUP(B4,Meststoffenlijst!$E$3:$AF$184,14,FALSE)=0,"",VLOOKUP(B4,Meststoffenlijst!$E$3:$AF$184,14,FALSE))) | H5: =IF(B4="","",IF(VLOOKUP(B4,Meststoffenlijst!$E$3:$AF$184,17,FALSE)=0,"",VLOOKUP(B4,Meststoffenlijst!$E$3:$AF$184,17,FALSE))) | I5: =IF(B4="","",IF(VLOOKUP(B4,Meststoffenlijst!$E$3:$AF$184,20,FALSE)=0,"",VLOOKUP(B4,Meststoffenlijst!$E$3:$AF$184,20,FALSE))) | J5: =IF(B4="","",IF(VLOOKUP(B4,Meststoffenlijst!$E$3:$AF$184,23,FALSE)=0,"",VLOOKUP(B4,Meststoffenlijst!$E$3:$AF$184,23,FALSE))) | K5: =IF(B4="","",IF(VLOOKUP(B4,Meststoffenlijst!$E$3:$AF$184,26,FALSE)=0,"",VLOOKUP(B4,Meststoffenlijst!$E$3:$AF$184,26,FALSE))) | L5: =IF(B4="","",IF(VLOOKUP(B4,Meststoffenlijst!$E$3:$AJ$184,29,FALSE)=0,"",VLOOKUP(B4,Meststoffenlijst!$E$3:$AJ$184,29,FALSE))) | M5: =IF(B4="","",IF(VLOOKUP(B4,Meststoffenlijst!$E$3:$AJ$184,30,FALSE)=0,"",VLOOKUP(B4,Meststoffenlijst!$E$3:$AJ$184,30,FALSE))) | N5: =IF(B4="","",IF(VLOOKUP(B4,Meststoffenlijst!$E$3:$AJ$184,31,FALSE)=0,"",VLOOKUP(B4,Meststoffenlijst!$E$3:$AJ$184,31,FALSE))) | O5: =IF(B4="","",IF(VLOOKUP(B4,Meststoffenlijst!$E$3:$AJ$184,32,FALSE)=0,"",VLOOKUP(B4,Meststoffenlijst!$E$3:$AJ$184,32,FALSE))) | Q5: Meststof 3 | R5: =B19 -> 0 | S5: =C15 -> #N/A | T5: =IF(AB5="DIERLIJKE",IF(E16="",E15,E16),0) -> 0 | U5: =IF(E18="",0,E18) -> 0 | V5: =IF(F18="",0,F18) -> 0 | W5: =IF(G18="",0,G18) -> 0 | X5: =IF(H18="",0,H18) -> 0 | Y5: =IF(I18="",0,I18) -> 0 | Z5: =IF(J18="",0,J18) -> 0 | AA5: =IF(K18="",0,K18) -> 0 | AB5: =B15 -> 0 | AC5: =A19 -> #N/A | AD5: =L18 -> 0 | AE5: =M18 -> 0 | AF5: =N18 -> 0 | AG5: =O18 -> 0 | AH5: =B18 -> 0
A6: =IFERROR(_xlfn.CONCAT("Prijs (EUR/",A7,")"),"") | D6: Werkzaam: | E6: =IF(B4="",IF(E4="","",E4),IF(E4="",IF(VLOOKUP(B4,Meststoffenlijst!$E$3:$AF$184,8,FALSE)=0,"",VLOOKUP(B4,Meststoffenlijst!$E$3:$AF$184,8,FALSE)),IF(E5="",E4,E4*E5/100))) | F6: =IF(B4="",IF(F4="","",F4),IF(F4="",IF(VLOOKUP(B4,Meststoffenlijst!$E$3:$AF$184,12,FALSE)=0,"",VLOOKUP(B4,Meststoffenlijst!$E$3:$AF$184,12,FALSE)),IF(F5="",F4,F4*F5/100))) | G6: =IF(B4="",IF(G4="","",G4),IF(G4="",IF(VLOOKUP(B4,Meststoffenlijst!$E$3:$AF$184,15,FALSE)=0,"",VLOOKUP(B4,Meststoffenlijst!$E$3:$AF$184,15,FALSE)),IF(G5="",G4,G4*G5/100))) | H6: =IF(B4="",IF(H4="","",H4),IF(H4="",IF(VLOOKUP(B4,Meststoffenlijst!$E$3:$AF$184,18,FALSE)=0,"",VLOOKUP(B4,Meststoffenlijst!$E$3:$AF$184,18,FALSE)),IF(H5="",H4,H4*H5/100))) | I6: =IF(B4="",IF(I4="","",I4),IF(I4="",IF(VLOOKUP(B4,Meststoffenlijst!$E$3:$AF$184,21,FALSE)=0,"",VLOOKUP(B4,Meststoffenlijst!$E$3:$AF$184,21,FALSE)),IF(I5="",I4,I4*I5/100))) | J6: =IF(B4="",IF(J4="","",J4),IF(J4="",IF(VLOOKUP(B4,Meststoffenlijst!$E$3:$AF$184,24,FALSE)=0,"",VLOOKUP(B4,Meststoffenlijst!$E$3:$AF$184,24,FALSE)),IF(J5="",J4,J4*J5/100))) | K6: =IF(B4="",IF(K4="","",K4),IF(K4="",IF(VLOOKUP(B4,Meststoffenlijst!$E$3:$AF$184,27,FALSE)=0,"",VLOOKUP(B4,Meststoffenlijst!$E$3:$AF$184,27,FALSE)),IF(K5="",K4,K4*K5/100))) | L6: =IFERROR($E$6*L5/100,0) -> 0 | M6: =IFERROR($E$6*M5/100,0) -> 0 | N6: =IFERROR($E$6*N5/100,0) -> 0 | O6: =IFERROR($E$6*O5/100,0) -> 0 | Q6: Meststof 4 | R6: =B25 -> 0 | S6: =C21 -> #N/A | T6: =IF(AB6="DIERLIJKE",IF(E22="",E21,E22),0) -> 0 | U6: =IF(E24="",0,E24) -> 0 | V6: =IF(F24="",0,F24) -> 0 | W6: =IF(G24="",0,G24) -> 0 | X6: =IF(H24="",0,H24) -> 0 | Y6: =IF(I24="",0,I24) -> 0 | Z6: =IF(J24="",0,J24) -> 0 | AA6: =IF(K24="",0,K24) -> 0 | AB6: =B21 -> 0 | AC6: =A25 -> #N/A | AD6: =L24 -> 0 | AE6: =M24 -> 0 | AF6: =N24 -> 0 | AG6: =O24 -> 0 | AH6: =B24 -> 0
A7: =VLOOKUP(B4,Meststoffenlijst!E3:I184,5,FALSE) -> #N/A | B7: =IF(B5="",B4,B5) -> 0 | Q7: Meststof 5 | R7: =B31 -> 0 | S7: =C27 -> #N/A | T7: =IF(AB7="DIERLIJKE",IF(E28="",E27,E28),0) -> 0 | U7: =IF(E30="",0,E30) -> 0 | V7: =IF(F30="",0,F30) -> 0 | W7: =IF(G30="",0,G30) -> 0 | X7: =IF(H30="",0,H30) -> 0 | Y7: =IF(I30="",0,I30) -> 0 | Z7: =IF(J30="",0,J30) -> 0 | AA7: =IF(K30="",0,K30) -> 0 | AB7: =B27 -> 0 | AC7: =A31 -> #N/A | AD7: =L30 -> 0 | AE7: =M30 -> 0 | AF7: =N30 -> 0 | AG7: =O30 -> 0 | AH7: =B30 -> 0
A8: Meststof 2 | C8: Eenheid inhoud: | D8: =_xlfn.CONCAT("Inhoud (",C9,")") -> #N/A | E8: N | F8: P2O5 | G8: K2O | H8: MgO | I8: CaO | J8: Na2O | K8: SO3 | Q8: Meststof 6 | R8: =B37 -> 0 | S8: =C33 -> #N/A | T8: =IF(AB8="DIERLIJKE",IF(E34="",E33,E34),0) -> 0 | U8: =IF(E36="",0,E36) -> 0 | V8: =IF(F36="",0,F36) -> 0 | W8: =IF(G36="",0,G36) -> 0 | X8: =IF(H36="",0,H36) -> 0 | Y8: =IF(I36="",0,I36) -> 0 | Z8: =IF(J36="",0,J36) -> 0 | AA8: =IF(K36="",0,K36) -> 0 | AB8: =B33 -> 0 | AC8: =A37 -> #N/A | AD8: =L36 -> 0 | AE8: =M36 -> 0 | AF8: =N36 -> 0 | AG8: =O36 -> 0 | AH8: =B36 -> 0
A9: Type mest: | C9: =VLOOKUP(B10,Meststoffenlijst!E9:I190,4,FALSE) -> #N/A | D9: Forfaitair: | E9: =IF(B10="","",IF(VLOOKUP(B10,Meststoffenlijst!$E$3:$AF$184,6,FALSE)=0,"",VLOOKUP(B10,Meststoffenlijst!$E$3:$AF$184,6,FALSE))) | F9: =IF(B10="","",IF(VLOOKUP(B10,Meststoffenlijst!$E$3:$AF$184,10,FALSE)=0,"",VLOOKUP(B10,Meststoffenlijst!$E$3:$AF$184,10,FALSE))) | G9: =IF(B10="","",IF(VLOOKUP(B10,Meststoffenlijst!$E$3:$AF$184,13,FALSE)=0,"",VLOOKUP(B10,Meststoffenlijst!$E$3:$AF$184,13,FALSE))) | H9: =IF(B10="","",IF(VLOOKUP(B10,Meststoffenlijst!$E$3:$AF$184,16,FALSE)=0,"",VLOOKUP(B10,Meststoffenlijst!$E$3:$AF$184,16,FALSE))) | I9: =IF(B10="","",IF(VLOOKUP(B10,Meststoffenlijst!$E$3:$AF$184,19,FALSE)=0,"",VLOOKUP(B10,Meststoffenlijst!$E$3:$AF$184,19,FALSE))) | J9: =IF(B10="","",IF(VLOOKUP(B10,Meststoffenlijst!$E$3:$AF$184,22,FALSE)=0,"",VLOOKUP(B10,Meststoffenlijst!$E$3:$AF$184,22,FALSE))) | K9: =IF(B10="","",IF(VLOOKUP(B10,Meststoffenlijst!$E$3:$AF$184,25,FALSE)=0,"",VLOOKUP(B10,Meststoffenlijst!$E$3:$AF$184,25,FALSE))) | Q9: Meststof 7 | R9: =B43 -> 0 | S9: =C39 -> #N/A | T9: =IF(AB9="DIERLIJKE",IF(E40="",E39,E40),0) -> 0 | U9: =IF(E42="",0,E42) -> 0 | V9: =IF(F42="",0,F42) -> 0 | W9: =IF(G42="",0,G42) -> 0 | X9: =IF(H42="",0,H42) -> 0 | Y9: =IF(I42="",0,I42) -> 0 | Z9: =IF(J42="",0,J42) -> 0 | AA9: =IF(K42="",0,K42) -> 0 | AB9: =B39 -> 0 | AC9: =A43 -> #N/A | AD9: =L42 -> 0 | AE9: =M42 -> 0 | AF9: =N42 -> 0 | AG9: =O42 -> 0 | AH9: =B42 -> 0
A10: Officiële naam mest: | D10: Eigen analyse/meststof: | Q10: Meststof 8 | R10: =B49 -> 0 | S10: =C45 -> #N/A | T10: =IF(AB10="DIERLIJKE",IF(E46="",E45,E46),0) -> 0 | U10: =IF(E48="",0,E48) -> 0 | V10: =IF(F48="",0,F48) -> 0 | W10: =IF(G48="",0,G48) -> 0 | X10: =IF(H48="",0,H48) -> 0 | Y10: =IF(I48="",0,I48) -> 0 | Z10: =IF(J48="",0,J48) -> 0 | AA10: =IF(K48="",0,K48) -> 0 | AB10: =B45 -> 0 | AC10: =A49 -> #N/A | AD10: =L48 -> 0 | AE10: =M48 -> 0 | AF10: =N48 -> 0 | AG10: =O48 -> 0 | AH10: =B48 -> 0
A11: Eigen naam mest: | D11: Werkingscoëfficiënt (%): | E11: =IF(B10="","",IF(VLOOKUP(B10,Meststoffenlijst!$E$3:$AF$184,7,FALSE)=0,"",VLOOKUP(B10,Meststoffenlijst!$E$3:$AF$184,7,FALSE))) | F11: =IF(B10="","",IF(VLOOKUP(B10,Meststoffenlijst!$E$3:$AF$184,11,FALSE)=0,"",VLOOKUP(B10,Meststoffenlijst!$E$3:$AF$184,11,FALSE))) | G11: =IF(B10="","",IF(VLOOKUP(B10,Meststoffenlijst!$E$3:$AF$184,14,FALSE)=0,"",VLOOKUP(B10,Meststoffenlijst!$E$3:$AF$184,14,FALSE))) | H11: =IF(B10="","",IF(VLOOKUP(B10,Meststoffenlijst!$E$3:$AF$184,17,FALSE)=0,"",VLOOKUP(B10,Meststoffenlijst!$E$3:$AF$184,17,FALSE))) | I11: =IF(B10="","",IF(VLOOKUP(B10,Meststoffenlijst!$E$3:$AF$184,20,FALSE)=0,"",VLOOKUP(B10,Meststoffenlijst!$E$3:$AF$184,20,FALSE))) | J11: =IF(B10="","",IF(VLOOKUP(B10,Meststoffenlijst!$E$3:$AF$184,23,FALSE)=0,"",VLOOKUP(B10,Meststoffenlijst!$E$3:$AF$184,23,FALSE))) | K11: =IF(B10="","",IF(VLOOKUP(B10,Meststoffenlijst!$E$3:$AF$184,26,FALSE)=0,"",VLOOKUP(B10,Meststoffenlijst!$E$3:$AF$184,26,FALSE))) | L11: =IF(B10="","",IF(VLOOKUP(B10,Meststoffenlijst!$E$3:$AJ$184,29,FALSE)=0,"",VLOOKUP(B10,Meststoffenlijst!$E$3:$AJ$184,29,FALSE))) | M11: =IF(B10="","",IF(VLOOKUP(B10,Meststoffenlijst!$E$3:$AJ$184,30,FALSE)=0,"",VLOOKUP(B10,Meststoffenlijst!$E$3:$AJ$184,30,FALSE))) | N11: =IF(B10="","",IF(VLOOKUP(B10,Meststoffenlijst!$E$3:$AJ$184,31,FALSE)=0,"",VLOOKUP(B10,Meststoffenlijst!$E$3:$AJ$184,31,FALSE))) | O11: =IF(B10="","",IF(VLOOKUP(B10,Meststoffenlijst!$E$3:$AJ$184,32,FALSE)=0,"",VLOOKUP(B10,Meststoffenlijst!$E$3:$AJ$184,32,FALSE)))
A12: =IFERROR(_xlfn.CONCAT("Prijs (EUR/",A13,")"),"") | D12: Werkzaam: | E12: =IF(B10="",IF(E10="","",E10),IF(E10="",IF(VLOOKUP(B10,Meststoffenlijst!$E$3:$AF$184,8,FALSE)=0,"",VLOOKUP(B10,Meststoffenlijst!$E$3:$AF$184,8,FALSE)),IF(E11="",E10,E10*E11/100))) | F12: =IF(B10="",IF(F10="","",F10),IF(F10="",IF(VLOOKUP(B10,Meststoffenlijst!$E$3:$AF$184,12,FALSE)=0,"",VLOOKUP(B10,Meststoffenlijst!$E$3:$AF$184,12,FALSE)),IF(F11="",F10,F10*F11/100))) | G12: =IF(B10="",IF(G10="","",G10),IF(G10="",IF(VLOOKUP(B10,Meststoffenlijst!$E$3:$AF$184,15,FALSE)=0,"",VLOOKUP(B10,Meststoffenlijst!$E$3:$AF$184,15,FALSE)),IF(G11="",G10,G10*G11/100))) | H12: =IF(B10="",IF(H10="","",H10),IF(H10="",IF(VLOOKUP(B10,Meststoffenlijst!$E$3:$AF$184,18,FALSE)=0,"",VLOOKUP(B10,Meststoffenlijst!$E$3:$AF$184,18,FALSE)),IF(H11="",H10,H10*H11/100))) | I12: =IF(B10="",IF(I10="","",I10),IF(I10="",IF(VLOOKUP(B10,Meststoffenlijst!$E$3:$AF$184,21,FALSE)=0,"",VLOOKUP(B10,Meststoffenlijst!$E$3:$AF$184,21,FALSE)),IF(I11="",I10,I10*I11/100))) | J12: =IF(B10="",IF(J10="","",J10),IF(J10="",IF(VLOOKUP(B10,Meststoffenlijst!$E$3:$AF$184,24,FALSE)=0,"",VLOOKUP(B10,Meststoffenlijst!$E$3:$AF$184,24,FALSE)),IF(J11="",J10,J10*J11/100))) | K12: =IF(B10="",IF(K10="","",K10),IF(K10="",IF(VLOOKUP(B10,Meststoffenlijst!$E$3:$AF$184,27,FALSE)=0,"",VLOOKUP(B10,Meststoffenlijst!$E$3:$AF$184,27,FALSE)),IF(K11="",K10,K10*K11/100))) | L12: =IFERROR($E$12*L11/100,0) -> 0 | M12: =IFERROR($E$12*M11/100,0) -> 0 | N12: =IFERROR($E$12*N11/100,0) -> 0 | O12: =IFERROR($E$12*O11/100,0) -> 0
A13: =VLOOKUP(B10,Meststoffenlijst!E3:I184,5,FALSE) -> #N/A | B13: =IF(B11="",B10,B11) -> 0
A14: Meststof 3 | C14: Eenheid inhoud: | D14: =_xlfn.CONCAT("Inhoud (",C15,")") -> #N/A | E14: N | F14: P2O5 | G14: K2O | H14: MgO | I14: CaO | J14: Na2O | K14: SO3
A15: Type mest: | C15: =VLOOKUP(B16,Meststoffenlijst!E15:I196,4,FALSE) -> #N/A | D15: Forfaitair: | E15: =IF(B16="","",IF(VLOOKUP(B16,Meststoffenlijst!$E$3:$AF$184,6,FALSE)=0,"",VLOOKUP(B16,Meststoffenlijst!$E$3:$AF$184,6,FALSE))) | F15: =IF(B16="","",IF(VLOOKUP(B16,Meststoffenlijst!$E$3:$AF$184,10,FALSE)=0,"",VLOOKUP(B16,Meststoffenlijst!$E$3:$AF$184,10,FALSE))) | G15: =IF(B16="","",IF(VLOOKUP(B16,Meststoffenlijst!$E$3:$AF$184,13,FALSE)=0,"",VLOOKUP(B16,Meststoffenlijst!$E$3:$AF$184,13,FALSE))) | H15: =IF(B16="","",IF(VLOOKUP(B16,Meststoffenlijst!$E$3:$AF$184,16,FALSE)=0,"",VLOOKUP(B16,Meststoffenlijst!$E$3:$AF$184,16,FALSE))) | I15: =IF(B16="","",IF(VLOOKUP(B16,Meststoffenlijst!$E$3:$AF$184,19,FALSE)=0,"",VLOOKUP(B16,Meststoffenlijst!$E$3:$AF$184,19,FALSE))) | J15: =IF(B16="","",IF(VLOOKUP(B16,Meststoffenlijst!$E$3:$AF$184,22,FALSE)=0,"",VLOOKUP(B16,Meststoffenlijst!$E$3:$AF$184,22,FALSE))) | K15: =IF(B16="","",IF(VLOOKUP(B16,Meststoffenlijst!$E$3:$AF$184,25,FALSE)=0,"",VLOOKUP(B16,Meststoffenlijst!$E$3:$AF$184,25,FALSE)))
A16: Officiële naam mest: | D16: Eigen analyse/meststof:
A17: Eigen naam mest: | D17: Werkingscoëfficiënt (%): | E17: =IF(B16="","",IF(VLOOKUP(B16,Meststoffenlijst!$E$3:$AF$184,7,FALSE)=0,"",VLOOKUP(B16,Meststoffenlijst!$E$3:$AF$184,7,FALSE))) | F17: =IF(B16="","",IF(VLOOKUP(B16,Meststoffenlijst!$E$3:$AF$184,11,FALSE)=0,"",VLOOKUP(B16,Meststoffenlijst!$E$3:$AF$184,11,FALSE))) | G17: =IF(B16="","",IF(VLOOKUP(B16,Meststoffenlijst!$E$3:$AF$184,14,FALSE)=0,"",VLOOKUP(B16,Meststoffenlijst!$E$3:$AF$184,14,FALSE))) | H17: =IF(B16="","",IF(VLOOKUP(B16,Meststoffenlijst!$E$3:$AF$184,17,FALSE)=0,"",VLOOKUP(B16,Meststoffenlijst!$E$3:$AF$184,17,FALSE))) | I17: =IF(B16="","",IF(VLOOKUP(B16,Meststoffenlijst!$E$3:$AF$184,20,FALSE)=0,"",VLOOKUP(B16,Meststoffenlijst!$E$3:$AF$184,20,FALSE))) | J17: =IF(B16="","",IF(VLOOKUP(B16,Meststoffenlijst!$E$3:$AF$184,23,FALSE)=0,"",VLOOKUP(B16,Meststoffenlijst!$E$3:$AF$184,23,FALSE))) | K17: =IF(B16="","",IF(VLOOKUP(B16,Meststoffenlijst!$E$3:$AF$184,26,FALSE)=0,"",VLOOKUP(B16,Meststoffenlijst!$E$3:$AF$184,26,FALSE))) | L17: =IF(B16="","",IF(VLOOKUP(B16,Meststoffenlijst!$E$3:$AJ$184,29,FALSE)=0,"",VLOOKUP(B16,Meststoffenlijst!$E$3:$AJ$184,29,FALSE))) | M17: =IF(B16="","",IF(VLOOKUP(B16,Meststoffenlijst!$E$3:$AJ$184,30,FALSE)=0,"",VLOOKUP(B16,Meststoffenlijst!$E$3:$AJ$184,30,FALSE))) | N17: =IF(B16="","",IF(VLOOKUP(B16,Meststoffenlijst!$E$3:$AJ$184,31,FALSE)=0,"",VLOOKUP(B16,Meststoffenlijst!$E$3:$AJ$184,31,FALSE))) | O17: =IF(B16="","",IF(VLOOKUP(B16,Meststoffenlijst!$E$3:$AJ$184,32,FALSE)=0,"",VLOOKUP(B16,Meststoffenlijst!$E$3:$AJ$184,32,FALSE)))
A18: =IFERROR(_xlfn.CONCAT("Prijs (EUR/",A19,")"),"") | D18: Werkzaam: | E18: =IF(B16="",IF(E16="","",E16),IF(E16="",IF(VLOOKUP(B16,Meststoffenlijst!$E$3:$AF$184,8,FALSE)=0,"",VLOOKUP(B16,Meststoffenlijst!$E$3:$AF$184,8,FALSE)),IF(E17="",E16,E16*E17/100))) | F18: =IF(B16="",IF(F16="","",F16),IF(F16="",IF(VLOOKUP(B16,Meststoffenlijst!$E$3:$AF$184,12,FALSE)=0,"",VLOOKUP(B16,Meststoffenlijst!$E$3:$AF$184,12,FALSE)),IF(F17="",F16,F16*F17/100))) | G18: =IF(B16="",IF(G16="","",G16),IF(G16="",IF(VLOOKUP(B16,Meststoffenlijst!$E$3:$AF$184,15,FALSE)=0,"",VLOOKUP(B16,Meststoffenlijst!$E$3:$AF$184,15,FALSE)),IF(G17="",G16,G16*G17/100))) | H18: =IF(B16="",IF(H16="","",H16),IF(H16="",IF(VLOOKUP(B16,Meststoffenlijst!$E$3:$AF$184,18,FALSE)=0,"",VLOOKUP(B16,Meststoffenlijst!$E$3:$AF$184,18,FALSE)),IF(H17="",H16,H16*H17/100))) | I18: =IF(B16="",IF(I16="","",I16),IF(I16="",IF(VLOOKUP(B16,Meststoffenlijst!$E$3:$AF$184,21,FALSE)=0,"",VLOOKUP(B16,Meststoffenlijst!$E$3:$AF$184,21,FALSE)),IF(I17="",I16,I16*I17/100))) | J18: =IF(B16="",IF(J16="","",J16),IF(J16="",IF(VLOOKUP(B16,Meststoffenlijst!$E$3:$AF$184,24,FALSE)=0,"",VLOOKUP(B16,Meststoffenlijst!$E$3:$AF$184,24,FALSE)),IF(J17="",J16,J16*J17/100))) | K18: =IF(B16="",IF(K16="","",K16),IF(K16="",IF(VLOOKUP(B16,Meststoffenlijst!$E$3:$AF$184,27,FALSE)=0,"",VLOOKUP(B16,Meststoffenlijst!$E$3:$AF$184,27,FALSE)),IF(K17="",K16,K16*K17/100))) | L18: =IFERROR($E$18*L17/100,0) -> 0 | M18: =IFERROR($E$18*M17/100,0) -> 0 | N18: =IFERROR($E$18*N17/100,0) -> 0 | O18: =IFERROR($E$18*O17/100,0) -> 0
A19: =VLOOKUP(B16,Meststoffenlijst!E3:I184,5,FALSE) -> #N/A | B19: =IF(B17="",B16,B17) -> 0
A20: Meststof 4 | C20: Eenheid inhoud: | D20: =_xlfn.CONCAT("Inhoud (",C21,")") -> #N/A | E20: N | F20: P2O5 | G20: K2O | H20: MgO | I20: CaO | J20: Na2O | K20: SO3
A21: Type mest: | C21: =VLOOKUP(B22,Meststoffenlijst!E21:I202,4,FALSE) -> #N/A | D21: Forfaitair: | E21: =IF(B22="","",IF(VLOOKUP(B22,Meststoffenlijst!$E$3:$AF$184,6,FALSE)=0,"",VLOOKUP(B22,Meststoffenlijst!$E$3:$AF$184,6,FALSE))) | F21: =IF(B22="","",IF(VLOOKUP(B22,Meststoffenlijst!$E$3:$AF$184,10,FALSE)=0,"",VLOOKUP(B22,Meststoffenlijst!$E$3:$AF$184,10,FALSE))) | G21: =IF(B22="","",IF(VLOOKUP(B22,Meststoffenlijst!$E$3:$AF$184,13,FALSE)=0,"",VLOOKUP(B22,Meststoffenlijst!$E$3:$AF$184,13,FALSE))) | H21: =IF(B22="","",IF(VLOOKUP(B22,Meststoffenlijst!$E$3:$AF$184,16,FALSE)=0,"",VLOOKUP(B22,Meststoffenlijst!$E$3:$AF$184,16,FALSE))) | I21: =IF(B22="","",IF(VLOOKUP(B22,Meststoffenlijst!$E$3:$AF$184,19,FALSE)=0,"",VLOOKUP(B22,Meststoffenlijst!$E$3:$AF$184,19,FALSE))) | J21: =IF(B22="","",IF(VLOOKUP(B22,Meststoffenlijst!$E$3:$AF$184,22,FALSE)=0,"",VLOOKUP(B22,Meststoffenlijst!$E$3:$AF$184,22,FALSE))) | K21: =IF(B22="","",IF(VLOOKUP(B22,Meststoffenlijst!$E$3:$AF$184,25,FALSE)=0,"",VLOOKUP(B22,Meststoffenlijst!$E$3:$AF$184,25,FALSE)))
A22: Officiële naam mest: | D22: Eigen analyse/meststof:
A23: Eigen naam mest: | D23: Werkingscoëfficiënt (%): | E23: =IF(B22="","",IF(VLOOKUP(B22,Meststoffenlijst!$E$3:$AF$184,7,FALSE)=0,"",VLOOKUP(B22,Meststoffenlijst!$E$3:$AF$184,7,FALSE))) | F23: =IF(B22="","",IF(VLOOKUP(B22,Meststoffenlijst!$E$3:$AF$184,11,FALSE)=0,"",VLOOKUP(B22,Meststoffenlijst!$E$3:$AF$184,11,FALSE))) | G23: =IF(B22="","",IF(VLOOKUP(B22,Meststoffenlijst!$E$3:$AF$184,14,FALSE)=0,"",VLOOKUP(B22,Meststoffenlijst!$E$3:$AF$184,14,FALSE))) | H23: =IF(B22="","",IF(VLOOKUP(B22,Meststoffenlijst!$E$3:$AF$184,17,FALSE)=0,"",VLOOKUP(B22,Meststoffenlijst!$E$3:$AF$184,17,FALSE))) | I23: =IF(B22="","",IF(VLOOKUP(B22,Meststoffenlijst!$E$3:$AF$184,20,FALSE)=0,"",VLOOKUP(B22,Meststoffenlijst!$E$3:$AF$184,20,FALSE))) | J23: =IF(B22="","",IF(VLOOKUP(B22,Meststoffenlijst!$E$3:$AF$184,23,FALSE)=0,"",VLOOKUP(B22,Meststoffenlijst!$E$3:$AF$184,23,FALSE))) | K23: =IF(B22="","",IF(VLOOKUP(B22,Meststoffenlijst!$E$3:$AF$184,26,FALSE)=0,"",VLOOKUP(B22,Meststoffenlijst!$E$3:$AF$184,26,FALSE))) | L23: =IF(B22="","",IF(VLOOKUP(B22,Meststoffenlijst!$E$3:$AJ$184,29,FALSE)=0,"",VLOOKUP(B22,Meststoffenlijst!$E$3:$AJ$184,29,FALSE))) | M23: =IF(B22="","",IF(VLOOKUP(B22,Meststoffenlijst!$E$3:$AJ$184,30,FALSE)=0,"",VLOOKUP(B22,Meststoffenlijst!$E$3:$AJ$184,30,FALSE))) | N23: =IF(B22="","",IF(VLOOKUP(B22,Meststoffenlijst!$E$3:$AJ$184,31,FALSE)=0,"",VLOOKUP(B22,Meststoffenlijst!$E$3:$AJ$184,31,FALSE))) | O23: =IF(B22="","",IF(VLOOKUP(B22,Meststoffenlijst!$E$3:$AJ$184,32,FALSE)=0,"",VLOOKUP(B22,Meststoffenlijst!$E$3:$AJ$184,32,FALSE)))
A24: =IFERROR(_xlfn.CONCAT("Prijs (EUR/",A25,")"),"") | D24: Werkzaam: | E24: =IF(B22="",IF(E22="","",E22),IF(E22="",IF(VLOOKUP(B22,Meststoffenlijst!$E$3:$AF$184,8,FALSE)=0,"",VLOOKUP(B22,Meststoffenlijst!$E$3:$AF$184,8,FALSE)),IF(E23="",E22,E22*E23/100))) | F24: =IF(B22="",IF(F22="","",F22),IF(F22="",IF(VLOOKUP(B22,Meststoffenlijst!$E$3:$AF$184,12,FALSE)=0,"",VLOOKUP(B22,Meststoffenlijst!$E$3:$AF$184,12,FALSE)),IF(F23="",F22,F22*F23/100))) | G24: =IF(B22="",IF(G22="","",G22),IF(G22="",IF(VLOOKUP(B22,Meststoffenlijst!$E$3:$AF$184,15,FALSE)=0,"",VLOOKUP(B22,Meststoffenlijst!$E$3:$AF$184,15,FALSE)),IF(G23="",G22,G22*G23/100))) | H24: =IF(B22="",IF(H22="","",H22),IF(H22="",IF(VLOOKUP(B22,Meststoffenlijst!$E$3:$AF$184,18,FALSE)=0,"",VLOOKUP(B22,Meststoffenlijst!$E$3:$AF$184,18,FALSE)),IF(H23="",H22,H22*H23/100))) | I24: =IF(B22="",IF(I22="","",I22),IF(I22="",IF(VLOOKUP(B22,Meststoffenlijst!$E$3:$AF$184,21,FALSE)=0,"",VLOOKUP(B22,Meststoffenlijst!$E$3:$AF$184,21,FALSE)),IF(I23="",I22,I22*I23/100))) | J24: =IF(B22="",IF(J22="","",J22),IF(J22="",IF(VLOOKUP(B22,Meststoffenlijst!$E$3:$AF$184,24,FALSE)=0,"",VLOOKUP(B22,Meststoffenlijst!$E$3:$AF$184,24,FALSE)),IF(J23="",J22,J22*J23/100))) | K24: =IF(B22="",IF(K22="","",K22),IF(K22="",IF(VLOOKUP(B22,Meststoffenlijst!$E$3:$AF$184,27,FALSE)=0,"",VLOOKUP(B22,Meststoffenlijst!$E$3:$AF$184,27,FALSE)),IF(K23="",K22,K22*K23/100))) | L24: =IFERROR($E$24*L23/100,0) -> 0 | M24: =IFERROR($E$24*M23/100,0) -> 0 | N24: =IFERROR($E$24*N23/100,0) -> 0 | O24: =IFERROR($E$24*O23/100,0) -> 0
A25: =VLOOKUP(B22,Meststoffenlijst!E3:I184,5,FALSE) -> #N/A | B25: =IF(B23="",B22,B23) -> 0
A26: Meststof 5 | C26: Eenheid inhoud: | D26: =_xlfn.CONCAT("Inhoud (",C27,")") -> #N/A | E26: N | F26: P2O5 | G26: K2O | H26: MgO | I26: CaO | J26: Na2O | K26: SO3
A27: Type mest: | C27: =VLOOKUP(B28,Meststoffenlijst!E27:I208,4,FALSE) -> #N/A | D27: Forfaitair: | E27: =IF(B28="","",IF(VLOOKUP(B28,Meststoffenlijst!$E$3:$AF$184,6,FALSE)=0,"",VLOOKUP(B28,Meststoffenlijst!$E$3:$AF$184,6,FALSE))) | F27: =IF(B28="","",IF(VLOOKUP(B28,Meststoffenlijst!$E$3:$AF$184,10,FALSE)=0,"",VLOOKUP(B28,Meststoffenlijst!$E$3:$AF$184,10,FALSE))) | G27: =IF(B28="","",IF(VLOOKUP(B28,Meststoffenlijst!$E$3:$AF$184,13,FALSE)=0,"",VLOOKUP(B28,Meststoffenlijst!$E$3:$AF$184,13,FALSE))) | H27: =IF(B28="","",IF(VLOOKUP(B28,Meststoffenlijst!$E$3:$AF$184,16,FALSE)=0,"",VLOOKUP(B28,Meststoffenlijst!$E$3:$AF$184,16,FALSE))) | I27: =IF(B28="","",IF(VLOOKUP(B28,Meststoffenlijst!$E$3:$AF$184,19,FALSE)=0,"",VLOOKUP(B28,Meststoffenlijst!$E$3:$AF$184,19,FALSE))) | J27: =IF(B28="","",IF(VLOOKUP(B28,Meststoffenlijst!$E$3:$AF$184,22,FALSE)=0,"",VLOOKUP(B28,Meststoffenlijst!$E$3:$AF$184,22,FALSE))) | K27: =IF(B28="","",IF(VLOOKUP(B28,Meststoffenlijst!$E$3:$AF$184,25,FALSE)=0,"",VLOOKUP(B28,Meststoffenlijst!$E$3:$AF$184,25,FALSE)))
A28: Officiële naam mest: | D28: Eigen analyse/meststof:
A29: Eigen naam mest: | D29: Werkingscoëfficiënt (%): | E29: =IF(B28="","",IF(VLOOKUP(B28,Meststoffenlijst!$E$3:$AF$184,7,FALSE)=0,"",VLOOKUP(B28,Meststoffenlijst!$E$3:$AF$184,7,FALSE))) | F29: =IF(B28="","",IF(VLOOKUP(B28,Meststoffenlijst!$E$3:$AF$184,11,FALSE)=0,"",VLOOKUP(B28,Meststoffenlijst!$E$3:$AF$184,11,FALSE))) | G29: =IF(B28="","",IF(VLOOKUP(B28,Meststoffenlijst!$E$3:$AF$184,14,FALSE)=0,"",VLOOKUP(B28,Meststoffenlijst!$E$3:$AF$184,14,FALSE))) | H29: =IF(B28="","",IF(VLOOKUP(B28,Meststoffenlijst!$E$3:$AF$184,17,FALSE)=0,"",VLOOKUP(B28,Meststoffenlijst!$E$3:$AF$184,17,FALSE))) | I29: =IF(B28="","",IF(VLOOKUP(B28,Meststoffenlijst!$E$3:$AF$184,20,FALSE)=0,"",VLOOKUP(B28,Meststoffenlijst!$E$3:$AF$184,20,FALSE))) | J29: =IF(B28="","",IF(VLOOKUP(B28,Meststoffenlijst!$E$3:$AF$184,23,FALSE)=0,"",VLOOKUP(B28,Meststoffenlijst!$E$3:$AF$184,23,FALSE))) | K29: =IF(B28="","",IF(VLOOKUP(B28,Meststoffenlijst!$E$3:$AF$184,26,FALSE)=0,"",VLOOKUP(B28,Meststoffenlijst!$E$3:$AF$184,26,FALSE))) | L29: =IF(B28="","",IF(VLOOKUP(B28,Meststoffenlijst!$E$3:$AJ$184,29,FALSE)=0,"",VLOOKUP(B28,Meststoffenlijst!$E$3:$AJ$184,29,FALSE))) | M29: =IF(B28="","",IF(VLOOKUP(B28,Meststoffenlijst!$E$3:$AJ$184,30,FALSE)=0,"",VLOOKUP(B28,Meststoffenlijst!$E$3:$AJ$184,30,FALSE))) | N29: =IF(B28="","",IF(VLOOKUP(B28,Meststoffenlijst!$E$3:$AJ$184,31,FALSE)=0,"",VLOOKUP(B28,Meststoffenlijst!$E$3:$AJ$184,31,FALSE))) | O29: =IF(B28="","",IF(VLOOKUP(B28,Meststoffenlijst!$E$3:$AJ$184,32,FALSE)=0,"",VLOOKUP(B28,Meststoffenlijst!$E$3:$AJ$184,32,FALSE)))
A30: =IFERROR(_xlfn.CONCAT("Prijs (EUR/",A31,")"),"") | D30: Werkzaam: | E30: =IF(B28="",IF(E28="","",E28),IF(E28="",IF(VLOOKUP(B28,Meststoffenlijst!$E$3:$AF$184,8,FALSE)=0,"",VLOOKUP(B28,Meststoffenlijst!$E$3:$AF$184,8,FALSE)),IF(E29="",E28,E28*E29/100))) | F30: =IF(B28="",IF(F28="","",F28),IF(F28="",IF(VLOOKUP(B28,Meststoffenlijst!$E$3:$AF$184,12,FALSE)=0,"",VLOOKUP(B28,Meststoffenlijst!$E$3:$AF$184,12,FALSE)),IF(F29="",F28,F28*F29/100))) | G30: =IF(B28="",IF(G28="","",G28),IF(G28="",IF(VLOOKUP(B28,Meststoffenlijst!$E$3:$AF$184,15,FALSE)=0,"",VLOOKUP(B28,Meststoffenlijst!$E$3:$AF$184,15,FALSE)),IF(G29="",G28,G28*G29/100))) | H30: =IF(B28="",IF(H28="","",H28),IF(H28="",IF(VLOOKUP(B28,Meststoffenlijst!$E$3:$AF$184,18,FALSE)=0,"",VLOOKUP(B28,Meststoffenlijst!$E$3:$AF$184,18,FALSE)),IF(H29="",H28,H28*H29/100))) | I30: =IF(B28="",IF(I28="","",I28),IF(I28="",IF(VLOOKUP(B28,Meststoffenlijst!$E$3:$AF$184,21,FALSE)=0,"",VLOOKUP(B28,Meststoffenlijst!$E$3:$AF$184,21,FALSE)),IF(I29="",I28,I28*I29/100))) | J30: =IF(B28="",IF(J28="","",J28),IF(J28="",IF(VLOOKUP(B28,Meststoffenlijst!$E$3:$AF$184,24,FALSE)=0,"",VLOOKUP(B28,Meststoffenlijst!$E$3:$AF$184,24,FALSE)),IF(J29="",J28,J28*J29/100))) | K30: =IF(B28="",IF(K28="","",K28),IF(K28="",IF(VLOOKUP(B28,Meststoffenlijst!$E$3:$AF$184,27,FALSE)=0,"",VLOOKUP(B28,Meststoffenlijst!$E$3:$AF$184,27,FALSE)),IF(K29="",K28,K28*K29/100))) | L30: =IFERROR($E$30*L29/100,0) -> 0 | M30: =IFERROR($E$30*M29/100,0) -> 0 | N30: =IFERROR($E$30*N29/100,0) -> 0 | O30: =IFERROR($E$30*O29/100,0) -> 0
A31: =VLOOKUP(B28,Meststoffenlijst!E3:I184,5,FALSE) -> #N/A | B31: =IF(B29="",B28,B29) -> 0
A32: Meststof 6 | C32: Eenheid inhoud: | D32: =_xlfn.CONCAT("Inhoud (",C33,")") -> #N/A | E32: N | F32: P2O5 | G32: K2O | H32: MgO | I32: CaO | J32: Na2O | K32: SO3
A33: Type mest: | C33: =VLOOKUP(B34,Meststoffenlijst!E33:I214,4,FALSE) -> #N/A | D33: Forfaitair: | E33: =IF(B34="","",IF(VLOOKUP(B34,Meststoffenlijst!$E$3:$AF$184,6,FALSE)=0,"",VLOOKUP(B34,Meststoffenlijst!$E$3:$AF$184,6,FALSE))) | F33: =IF(B34="","",IF(VLOOKUP(B34,Meststoffenlijst!$E$3:$AF$184,10,FALSE)=0,"",VLOOKUP(B34,Meststoffenlijst!$E$3:$AF$184,10,FALSE))) | G33: =IF(B34="","",IF(VLOOKUP(B34,Meststoffenlijst!$E$3:$AF$184,13,FALSE)=0,"",VLOOKUP(B34,Meststoffenlijst!$E$3:$AF$184,13,FALSE))) | H33: =IF(B34="","",IF(VLOOKUP(B34,Meststoffenlijst!$E$3:$AF$184,16,FALSE)=0,"",VLOOKUP(B34,Meststoffenlijst!$E$3:$AF$184,16,FALSE))) | I33: =IF(B34="","",IF(VLOOKUP(B34,Meststoffenlijst!$E$3:$AF$184,19,FALSE)=0,"",VLOOKUP(B34,Meststoffenlijst!$E$3:$AF$184,19,FALSE))) | J33: =IF(B34="","",IF(VLOOKUP(B34,Meststoffenlijst!$E$3:$AF$184,22,FALSE)=0,"",VLOOKUP(B34,Meststoffenlijst!$E$3:$AF$184,22,FALSE))) | K33: =IF(B34="","",IF(VLOOKUP(B34,Meststoffenlijst!$E$3:$AF$184,25,FALSE)=0,"",VLOOKUP(B34,Meststoffenlijst!$E$3:$AF$184,25,FALSE)))
A34: Officiële naam mest: | D34: Eigen analyse/meststof:
A35: Eigen naam mest: | D35: Werkingscoëfficiënt (%): | E35: =IF(B34="","",IF(VLOOKUP(B34,Meststoffenlijst!$E$3:$AF$184,7,FALSE)=0,"",VLOOKUP(B34,Meststoffenlijst!$E$3:$AF$184,7,FALSE))) | F35: =IF(B34="","",IF(VLOOKUP(B34,Meststoffenlijst!$E$3:$AF$184,11,FALSE)=0,"",VLOOKUP(B34,Meststoffenlijst!$E$3:$AF$184,11,FALSE))) | G35: =IF(B34="","",IF(VLOOKUP(B34,Meststoffenlijst!$E$3:$AF$184,14,FALSE)=0,"",VLOOKUP(B34,Meststoffenlijst!$E$3:$AF$184,14,FALSE))) | H35: =IF(B34="","",IF(VLOOKUP(B34,Meststoffenlijst!$E$3:$AF$184,17,FALSE)=0,"",VLOOKUP(B34,Meststoffenlijst!$E$3:$AF$184,17,FALSE))) | I35: =IF(B34="","",IF(VLOOKUP(B34,Meststoffenlijst!$E$3:$AF$184,20,FALSE)=0,"",VLOOKUP(B34,Meststoffenlijst!$E$3:$AF$184,20,FALSE))) | J35: =IF(B34="","",IF(VLOOKUP(B34,Meststoffenlijst!$E$3:$AF$184,23,FALSE)=0,"",VLOOKUP(B34,Meststoffenlijst!$E$3:$AF$184,23,FALSE))) | K35: =IF(B34="","",IF(VLOOKUP(B34,Meststoffenlijst!$E$3:$AF$184,26,FALSE)=0,"",VLOOKUP(B34,Meststoffenlijst!$E$3:$AF$184,26,FALSE))) | L35: =IF(B34="","",IF(VLOOKUP(B34,Meststoffenlijst!$E$3:$AJ$184,29,FALSE)=0,"",VLOOKUP(B34,Meststoffenlijst!$E$3:$AJ$184,29,FALSE))) | M35: =IF(B34="","",IF(VLOOKUP(B34,Meststoffenlijst!$E$3:$AJ$184,30,FALSE)=0,"",VLOOKUP(B34,Meststoffenlijst!$E$3:$AJ$184,30,FALSE))) | N35: =IF(B34="","",IF(VLOOKUP(B34,Meststoffenlijst!$E$3:$AJ$184,31,FALSE)=0,"",VLOOKUP(B34,Meststoffenlijst!$E$3:$AJ$184,31,FALSE))) | O35: =IF(B34="","",IF(VLOOKUP(B34,Meststoffenlijst!$E$3:$AJ$184,32,FALSE)=0,"",VLOOKUP(B34,Meststoffenlijst!$E$3:$AJ$184,32,FALSE)))
A36: =IFERROR(_xlfn.CONCAT("Prijs (EUR/",A37,")"),"") | D36: Werkzaam: | E36: =IF(B34="",IF(E34="","",E34),IF(E34="",IF(VLOOKUP(B34,Meststoffenlijst!$E$3:$AF$184,8,FALSE)=0,"",VLOOKUP(B34,Meststoffenlijst!$E$3:$AF$184,8,FALSE)),IF(E35="",E34,E34*E35/100))) | F36: =IF(B34="",IF(F34="","",F34),IF(F34="",IF(VLOOKUP(B34,Meststoffenlijst!$E$3:$AF$184,12,FALSE)=0,"",VLOOKUP(B34,Meststoffenlijst!$E$3:$AF$184,12,FALSE)),IF(F35="",F34,F34*F35/100))) | G36: =IF(B34="",IF(G34="","",G34),IF(G34="",IF(VLOOKUP(B34,Meststoffenlijst!$E$3:$AF$184,15,FALSE)=0,"",VLOOKUP(B34,Meststoffenlijst!$E$3:$AF$184,15,FALSE)),IF(G35="",G34,G34*G35/100))) | H36: =IF(B34="",IF(H34="","",H34),IF(H34="",IF(VLOOKUP(B34,Meststoffenlijst!$E$3:$AF$184,18,FALSE)=0,"",VLOOKUP(B34,Meststoffenlijst!$E$3:$AF$184,18,FALSE)),IF(H35="",H34,H34*H35/100))) | I36: =IF(B34="",IF(I34="","",I34),IF(I34="",IF(VLOOKUP(B34,Meststoffenlijst!$E$3:$AF$184,21,FALSE)=0,"",VLOOKUP(B34,Meststoffenlijst!$E$3:$AF$184,21,FALSE)),IF(I35="",I34,I34*I35/100))) | J36: =IF(B34="",IF(J34="","",J34),IF(J34="",IF(VLOOKUP(B34,Meststoffenlijst!$E$3:$AF$184,24,FALSE)=0,"",VLOOKUP(B34,Meststoffenlijst!$E$3:$AF$184,24,FALSE)),IF(J35="",J34,J34*J35/100))) | K36: =IF(B34="",IF(K34="","",K34),IF(K34="",IF(VLOOKUP(B34,Meststoffenlijst!$E$3:$AF$184,27,FALSE)=0,"",VLOOKUP(B34,Meststoffenlijst!$E$3:$AF$184,27,FALSE)),IF(K35="",K34,K34*K35/100))) | L36: =IFERROR($E$36*L35/100,0) -> 0 | M36: =IFERROR($E$36*M35/100,0) -> 0 | N36: =IFERROR($E$36*N35/100,0) -> 0 | O36: =IFERROR($E$36*O35/100,0) -> 0
A37: =VLOOKUP(B34,Meststoffenlijst!E3:I184,5,FALSE) -> #N/A | B37: =IF(B35="",B34,B35) -> 0
A38: Meststof 7 | C38: Eenheid inhoud: | D38: =_xlfn.CONCAT("Inhoud (",C39,")") -> #N/A | E38: N | F38: P2O5 | G38: K2O | H38: MgO | I38: CaO | J38: Na2O | K38: SO3
A39: Type mest: | C39: =VLOOKUP(B40,Meststoffenlijst!E39:I220,4,FALSE) -> #N/A | D39: Forfaitair: | E39: =IF(B40="","",IF(VLOOKUP(B40,Meststoffenlijst!$E$3:$AF$184,6,FALSE)=0,"",VLOOKUP(B40,Meststoffenlijst!$E$3:$AF$184,6,FALSE))) | F39: =IF(B40="","",IF(VLOOKUP(B40,Meststoffenlijst!$E$3:$AF$184,10,FALSE)=0,"",VLOOKUP(B40,Meststoffenlijst!$E$3:$AF$184,10,FALSE))) | G39: =IF(B40="","",IF(VLOOKUP(B40,Meststoffenlijst!$E$3:$AF$184,13,FALSE)=0,"",VLOOKUP(B40,Meststoffenlijst!$E$3:$AF$184,13,FALSE))) | H39: =IF(B40="","",IF(VLOOKUP(B40,Meststoffenlijst!$E$3:$AF$184,16,FALSE)=0,"",VLOOKUP(B40,Meststoffenlijst!$E$3:$AF$184,16,FALSE))) | I39: =IF(B40="","",IF(VLOOKUP(B40,Meststoffenlijst!$E$3:$AF$184,19,FALSE)=0,"",VLOOKUP(B40,Meststoffenlijst!$E$3:$AF$184,19,FALSE))) | J39: =IF(B40="","",IF(VLOOKUP(B40,Meststoffenlijst!$E$3:$AF$184,22,FALSE)=0,"",VLOOKUP(B40,Meststoffenlijst!$E$3:$AF$184,22,FALSE))) | K39: =IF(B40="","",IF(VLOOKUP(B40,Meststoffenlijst!$E$3:$AF$184,25,FALSE)=0,"",VLOOKUP(B40,Meststoffenlijst!$E$3:$AF$184,25,FALSE)))
A40: Officiële naam mest: | D40: Eigen analyse/meststof:
A41: Eigen naam mest: | D41: Werkingscoëfficiënt (%): | E41: =IF(B40="","",IF(VLOOKUP(B40,Meststoffenlijst!$E$3:$AF$184,7,FALSE)=0,"",VLOOKUP(B40,Meststoffenlijst!$E$3:$AF$184,7,FALSE))) | F41: =IF(B40="","",IF(VLOOKUP(B40,Meststoffenlijst!$E$3:$AF$184,11,FALSE)=0,"",VLOOKUP(B40,Meststoffenlijst!$E$3:$AF$184,11,FALSE))) | G41: =IF(B40="","",IF(VLOOKUP(B40,Meststoffenlijst!$E$3:$AF$184,14,FALSE)=0,"",VLOOKUP(B40,Meststoffenlijst!$E$3:$AF$184,14,FALSE))) | H41: =IF(B40="","",IF(VLOOKUP(B40,Meststoffenlijst!$E$3:$AF$184,17,FALSE)=0,"",VLOOKUP(B40,Meststoffenlijst!$E$3:$AF$184,17,FALSE))) | I41: =IF(B40="","",IF(VLOOKUP(B40,Meststoffenlijst!$E$3:$AF$184,20,FALSE)=0,"",VLOOKUP(B40,Meststoffenlijst!$E$3:$AF$184,20,FALSE))) | J41: =IF(B40="","",IF(VLOOKUP(B40,Meststoffenlijst!$E$3:$AF$184,23,FALSE)=0,"",VLOOKUP(B40,Meststoffenlijst!$E$3:$AF$184,23,FALSE))) | K41: =IF(B40="","",IF(VLOOKUP(B40,Meststoffenlijst!$E$3:$AF$184,26,FALSE)=0,"",VLOOKUP(B40,Meststoffenlijst!$E$3:$AF$184,26,FALSE))) | L41: =IF(B40="","",IF(VLOOKUP(B40,Meststoffenlijst!$E$3:$AJ$184,29,FALSE)=0,"",VLOOKUP(B40,Meststoffenlijst!$E$3:$AJ$184,29,FALSE))) | M41: =IF(B40="","",IF(VLOOKUP(B40,Meststoffenlijst!$E$3:$AJ$184,30,FALSE)=0,"",VLOOKUP(B40,Meststoffenlijst!$E$3:$AJ$184,30,FALSE))) | N41: =IF(B40="","",IF(VLOOKUP(B40,Meststoffenlijst!$E$3:$AJ$184,31,FALSE)=0,"",VLOOKUP(B40,Meststoffenlijst!$E$3:$AJ$184,31,FALSE))) | O41: =IF(B40="","",IF(VLOOKUP(B40,Meststoffenlijst!$E$3:$AJ$184,32,FALSE)=0,"",VLOOKUP(B40,Meststoffenlijst!$E$3:$AJ$184,32,FALSE)))
A42: =IFERROR(_xlfn.CONCAT("Prijs (EUR/",A43,")"),"") | D42: Werkzaam: | E42: =IF(B40="",IF(E40="","",E40),IF(E40="",IF(VLOOKUP(B40,Meststoffenlijst!$E$3:$AF$184,8,FALSE)=0,"",VLOOKUP(B40,Meststoffenlijst!$E$3:$AF$184,8,FALSE)),IF(E41="",E40,E40*E41/100))) | F42: =IF(B40="",IF(F40="","",F40),IF(F40="",IF(VLOOKUP(B40,Meststoffenlijst!$E$3:$AF$184,12,FALSE)=0,"",VLOOKUP(B40,Meststoffenlijst!$E$3:$AF$184,12,FALSE)),IF(F41="",F40,F40*F41/100))) | G42: =IF(B40="",IF(G40="","",G40),IF(G40="",IF(VLOOKUP(B40,Meststoffenlijst!$E$3:$AF$184,15,FALSE)=0,"",VLOOKUP(B40,Meststoffenlijst!$E$3:$AF$184,15,FALSE)),IF(G41="",G40,G40*G41/100))) | H42: =IF(B40="",IF(H40="","",H40),IF(H40="",IF(VLOOKUP(B40,Meststoffenlijst!$E$3:$AF$184,18,FALSE)=0,"",VLOOKUP(B40,Meststoffenlijst!$E$3:$AF$184,18,FALSE)),IF(H41="",H40,H40*H41/100))) | I42: =IF(B40="",IF(I40="","",I40),IF(I40="",IF(VLOOKUP(B40,Meststoffenlijst!$E$3:$AF$184,21,FALSE)=0,"",VLOOKUP(B40,Meststoffenlijst!$E$3:$AF$184,21,FALSE)),IF(I41="",I40,I40*I41/100))) | J42: =IF(B40="",IF(J40="","",J40),IF(J40="",IF(VLOOKUP(B40,Meststoffenlijst!$E$3:$AF$184,24,FALSE)=0,"",VLOOKUP(B40,Meststoffenlijst!$E$3:$AF$184,24,FALSE)),IF(J41="",J40,J40*J41/100))) | K42: =IF(B40="",IF(K40="","",K40),IF(K40="",IF(VLOOKUP(B40,Meststoffenlijst!$E$3:$AF$184,27,FALSE)=0,"",VLOOKUP(B40,Meststoffenlijst!$E$3:$AF$184,27,FALSE)),IF(K41="",K40,K40*K41/100))) | L42: =IFERROR($E$36*L41/100,0) -> 0 | M42: =IFERROR($E$36*M41/100,0) -> 0 | N42: =IFERROR($E$36*N41/100,0) -> 0 | O42: =IFERROR($E$36*O41/100,0) -> 0
A43: =VLOOKUP(B40,Meststoffenlijst!E9:I184,5,FALSE) -> #N/A | B43: =IF(B41="",B40,B41) -> 0
A44: Meststof 8 | C44: Eenheid inhoud: | D44: =_xlfn.CONCAT("Inhoud (",C45,")") -> #N/A | E44: N | F44: P2O5 | G44: K2O | H44: MgO | I44: CaO | J44: Na2O | K44: SO3
A45: Type mest: | C45: =VLOOKUP(B46,Meststoffenlijst!E45:I226,4,FALSE) -> #N/A | D45: Forfaitair: | E45: =IF(B46="","",IF(VLOOKUP(B46,Meststoffenlijst!$E$3:$AF$184,6,FALSE)=0,"",VLOOKUP(B46,Meststoffenlijst!$E$3:$AF$184,6,FALSE))) | F45: =IF(B46="","",IF(VLOOKUP(B46,Meststoffenlijst!$E$3:$AF$184,10,FALSE)=0,"",VLOOKUP(B46,Meststoffenlijst!$E$3:$AF$184,10,FALSE))) | G45: =IF(B46="","",IF(VLOOKUP(B46,Meststoffenlijst!$E$3:$AF$184,13,FALSE)=0,"",VLOOKUP(B46,Meststoffenlijst!$E$3:$AF$184,13,FALSE))) | H45: =IF(B46="","",IF(VLOOKUP(B46,Meststoffenlijst!$E$3:$AF$184,16,FALSE)=0,"",VLOOKUP(B46,Meststoffenlijst!$E$3:$AF$184,16,FALSE))) | I45: =IF(B46="","",IF(VLOOKUP(B46,Meststoffenlijst!$E$3:$AF$184,19,FALSE)=0,"",VLOOKUP(B46,Meststoffenlijst!$E$3:$AF$184,19,FALSE))) | J45: =IF(B46="","",IF(VLOOKUP(B46,Meststoffenlijst!$E$3:$AF$184,22,FALSE)=0,"",VLOOKUP(B46,Meststoffenlijst!$E$3:$AF$184,22,FALSE))) | K45: =IF(B46="","",IF(VLOOKUP(B46,Meststoffenlijst!$E$3:$AF$184,25,FALSE)=0,"",VLOOKUP(B46,Meststoffenlijst!$E$3:$AF$184,25,FALSE)))
A46: Officiële naam mest: | D46: Eigen analyse/meststof:
A47: Eigen naam mest: | D47: Werkingscoëfficiënt (%): | E47: =IF(B46="","",IF(VLOOKUP(B46,Meststoffenlijst!$E$3:$AF$184,7,FALSE)=0,"",VLOOKUP(B46,Meststoffenlijst!$E$3:$AF$184,7,FALSE))) | F47: =IF(B46="","",IF(VLOOKUP(B46,Meststoffenlijst!$E$3:$AF$184,11,FALSE)=0,"",VLOOKUP(B46,Meststoffenlijst!$E$3:$AF$184,11,FALSE))) | G47: =IF(B46="","",IF(VLOOKUP(B46,Meststoffenlijst!$E$3:$AF$184,14,FALSE)=0,"",VLOOKUP(B46,Meststoffenlijst!$E$3:$AF$184,14,FALSE))) | H47: =IF(B46="","",IF(VLOOKUP(B46,Meststoffenlijst!$E$3:$AF$184,17,FALSE)=0,"",VLOOKUP(B46,Meststoffenlijst!$E$3:$AF$184,17,FALSE))) | I47: =IF(B46="","",IF(VLOOKUP(B46,Meststoffenlijst!$E$3:$AF$184,20,FALSE)=0,"",VLOOKUP(B46,Meststoffenlijst!$E$3:$AF$184,20,FALSE))) | J47: =IF(B46="","",IF(VLOOKUP(B46,Meststoffenlijst!$E$3:$AF$184,23,FALSE)=0,"",VLOOKUP(B46,Meststoffenlijst!$E$3:$AF$184,23,FALSE))) | K47: =IF(B46="","",IF(VLOOKUP(B46,Meststoffenlijst!$E$3:$AF$184,26,FALSE)=0,"",VLOOKUP(B46,Meststoffenlijst!$E$3:$AF$184,26,FALSE))) | L47: =IF(B46="","",IF(VLOOKUP(B46,Meststoffenlijst!$E$3:$AJ$184,29,FALSE)=0,"",VLOOKUP(B46,Meststoffenlijst!$E$3:$AJ$184,29,FALSE))) | M47: =IF(B46="","",IF(VLOOKUP(B46,Meststoffenlijst!$E$3:$AJ$184,30,FALSE)=0,"",VLOOKUP(B46,Meststoffenlijst!$E$3:$AJ$184,30,FALSE))) | N47: =IF(B46="","",IF(VLOOKUP(B46,Meststoffenlijst!$E$3:$AJ$184,31,FALSE)=0,"",VLOOKUP(B46,Meststoffenlijst!$E$3:$AJ$184,31,FALSE))) | O47: =IF(B46="","",IF(VLOOKUP(B46,Meststoffenlijst!$E$3:$AJ$184,32,FALSE)=0,"",VLOOKUP(B46,Meststoffenlijst!$E$3:$AJ$184,32,FALSE)))
A48: =IFERROR(_xlfn.CONCAT("Prijs (EUR/",A49,")"),"") | D48: Werkzaam: | E48: =IF(B46="",IF(E46="","",E46),IF(E46="",IF(VLOOKUP(B46,Meststoffenlijst!$E$3:$AF$184,8,FALSE)=0,"",VLOOKUP(B46,Meststoffenlijst!$E$3:$AF$184,8,FALSE)),IF(E47="",E46,E46*E47/100))) | F48: =IF(B46="",IF(F46="","",F46),IF(F46="",IF(VLOOKUP(B46,Meststoffenlijst!$E$3:$AF$184,12,FALSE)=0,"",VLOOKUP(B46,Meststoffenlijst!$E$3:$AF$184,12,FALSE)),IF(F47="",F46,F46*F47/100))) | G48: =IF(B46="",IF(G46="","",G46),IF(G46="",IF(VLOOKUP(B46,Meststoffenlijst!$E$3:$AF$184,15,FALSE)=0,"",VLOOKUP(B46,Meststoffenlijst!$E$3:$AF$184,15,FALSE)),IF(G47="",G46,G46*G47/100))) | H48: =IF(B46="",IF(H46="","",H46),IF(H46="",IF(VLOOKUP(B46,Meststoffenlijst!$E$3:$AF$184,18,FALSE)=0,"",VLOOKUP(B46,Meststoffenlijst!$E$3:$AF$184,18,FALSE)),IF(H47="",H46,H46*H47/100))) | I48: =IF(B46="",IF(I46="","",I46),IF(I46="",IF(VLOOKUP(B46,Meststoffenlijst!$E$3:$AF$184,21,FALSE)=0,"",VLOOKUP(B46,Meststoffenlijst!$E$3:$AF$184,21,FALSE)),IF(I47="",I46,I46*I47/100))) | J48: =IF(B46="",IF(J46="","",J46),IF(J46="",IF(VLOOKUP(B46,Meststoffenlijst!$E$3:$AF$184,24,FALSE)=0,"",VLOOKUP(B46,Meststoffenlijst!$E$3:$AF$184,24,FALSE)),IF(J47="",J46,J46*J47/100))) | K48: =IF(B46="",IF(K46="","",K46),IF(K46="",IF(VLOOKUP(B46,Meststoffenlijst!$E$3:$AF$184,27,FALSE)=0,"",VLOOKUP(B46,Meststoffenlijst!$E$3:$AF$184,27,FALSE)),IF(K47="",K46,K46*K47/100))) | L48: =IFERROR($E$36*L47/100,0) -> 0 | M48: =IFERROR($E$36*M47/100,0) -> 0 | N48: =IFERROR($E$36*N47/100,0) -> 0 | O48: =IFERROR($E$36*O47/100,0) -> 0
A49: =VLOOKUP(B46,Meststoffenlijst!E15:I190,5,FALSE) -> #N/A | B49: =IF(B47="",B46,B47) -> 0

Sheet Perceel_1
C1: Algemene gegevens
C2: Naam perceel | G2: Gegevens begrazing | N2: Uitscheiding kg/dier/jaar | P2: Bemesting via begrazing tijdens begrazingsbeurt
C3: Bodemtype | G3: Begrazingsnede | H3: Diercategorie | I3: Melkproductie (kg melk/jaar) | J3: Aantal grazende dieren | K3: Datum start begrazing | L3: Datum einde begrazing | M3: Uren begrazing per dag | N3: Ndier | O3: P2O5 | P3: Ndier | Q3: Nwz | R3: P2O5
B4: =IF(D4="Graskruiden mengsel","Ja","Nee") -> Nee | C4: Teeltomschrijving | E4: =VLOOKUP(D4,'Lijsten en tabellen'!X2:Z23,3,FALSE) -> #N/A | G4: =IFERROR(IF($D$11>0,1,""),"") | N4: =IFERROR(IF( H4="Melkkoeien", VLOOKUP(_xlfn.CONCAT(H4,I4),'Lijsten en tabellen'!$AK$3:$AM$35,3,FALSE),VLOOKUP(H4,'Lijsten en tabellen'!$AK$2:$AM$35,3,FALSE)),"") | O4: =IFERROR(IF( H4="Melkkoeien", VLOOKUP(_xlfn.CONCAT(H4,I4),'Lijsten en tabellen'!$AK$3:$AM$35,2,FALSE),VLOOKUP(H4,'Lijsten en tabellen'!$AK$2:$AM$35,2,FALSE)),"") | P4: =IFERROR(J4*(L4-K4)*(M4/24)*(N4/365),"") | Q4: =IFERROR(P4*0.2,"") | R4: =IFERROR(J4*(L4-K4)*(M4/24)*(O4/365),"")
C5: Beheer | E5: =VLOOKUP(D4,'Lijsten en tabellen'!X2:AA23,4,FALSE) -> #N/A | G5: =IFERROR(IF($D$11>1,2,""),"") | N5: =IFERROR(IF( H5="Melkkoeien", VLOOKUP(_xlfn.CONCAT(H5,I5),'Lijsten en tabellen'!$AK$3:$AM$35,3,FALSE),VLOOKUP(H5,'Lijsten en tabellen'!$AK$2:$AM$35,3,FALSE)),"") | O5: =IFERROR(IF( H5="Melkkoeien", VLOOKUP(_xlfn.CONCAT(H5,I5),'Lijsten en tabellen'!$AK$3:$AM$35,2,FALSE),VLOOKUP(H5,'Lijsten en tabellen'!$AK$2:$AM$35,2,FALSE)),"") | P5: =IFERROR(J5*(L5-K5)*(M5/24)*(N5/365),"") | Q5: =IFERROR(P5*0.2,"") | R5: =IFERROR(J5*(L5-K5)*(M5/24)*(O5/365),"")
C6: Gebiedstype | E6: =_xlfn.CONCAT(D6,D3,D5,E4) -> #N/A | G6: =IFERROR(IF($D$11>2,3,""),"") | N6: =IFERROR(IF( H6="Melkkoeien", VLOOKUP(_xlfn.CONCAT(H6,I6),'Lijsten en tabellen'!$AK$3:$AM$35,3,FALSE),VLOOKUP(H6,'Lijsten en tabellen'!$AK$2:$AM$35,3,FALSE)),"") | O6: =IFERROR(IF( H6="Melkkoeien", VLOOKUP(_xlfn.CONCAT(H6,I6),'Lijsten en tabellen'!$AK$3:$AM$35,2,FALSE),VLOOKUP(H6,'Lijsten en tabellen'!$AK$2:$AM$35,2,FALSE)),"") | P6: =IFERROR(J6*(L6-K6)*(M6/24)*(N6/365),"") | Q6: =IFERROR(P6*0.2,"") | R6: =IFERROR(J6*(L6-K6)*(M6/24)*(O6/365),"")
C7: Vrijstelling gebiedsgerichte maatregelen | G7: =IFERROR(IF($D$11>3,4,""),"") | N7: =IFERROR(IF( H7="Melkkoeien", VLOOKUP(_xlfn.CONCAT(H7,I7),'Lijsten en tabellen'!$AK$3:$AM$35,3,FALSE),VLOOKUP(H7,'Lijsten en tabellen'!$AK$2:$AM$35,3,FALSE)),"") | O7: =IFERROR(IF( H7="Melkkoeien", VLOOKUP(_xlfn.CONCAT(H7,I7),'Lijsten en tabellen'!$AK$3:$AM$35,2,FALSE),VLOOKUP(H7,'Lijsten en tabellen'!$AK$2:$AM$35,2,FALSE)),"") | P7: =IFERROR(J7*(L7-K7)*(M7/24)*(N7/365),"") | Q7: =IFERROR(P7*0.2,"") | R7: =IFERROR(J7*(L7-K7)*(M7/24)*(O7/365),"")
C8: Fosfaatklasse | G8: =IFERROR(IF($D$11>4,5,""),"") | N8: =IFERROR(IF( H8="Melkkoeien", VLOOKUP(_xlfn.CONCAT(H8,I8),'Lijsten en tabellen'!$AK$3:$AM$35,3,FALSE),VLOOKUP(H8,'Lijsten en tabellen'!$AK$2:$AM$35,3,FALSE)),"") | O8: =IFERROR(IF( H8="Melkkoeien", VLOOKUP(_xlfn.CONCAT(H8,I8),'Lijsten en tabellen'!$AK$3:$AM$35,2,FALSE),VLOOKUP(H8,'Lijsten en tabellen'!$AK$2:$AM$35,2,FALSE)),"") | P8: =IFERROR(J8*(L8-K8)*(M8/24)*(N8/365),"") | Q8: =IFERROR(P8*0.2,"") | R8: =IFERROR(J8*(L8-K8)*(M8/24)*(O8/365),"")
C9: Oppervlakte (ha) | G9: =IFERROR(IF($D$11>5,6,""),"") | N9: =IFERROR(IF( H9="Melkkoeien", VLOOKUP(_xlfn.CONCAT(H9,I9),'Lijsten en tabellen'!$AK$3:$AM$35,3,FALSE),VLOOKUP(H9,'Lijsten en tabellen'!$AK$2:$AM$35,3,FALSE)),"") | O9: =IFERROR(IF( H9="Melkkoeien", VLOOKUP(_xlfn.CONCAT(H9,I9),'Lijsten en tabellen'!$AK$3:$AM$35,2,FALSE),VLOOKUP(H9,'Lijsten en tabellen'!$AK$2:$AM$35,2,FALSE)),"") | P9: =IFERROR(J9*(L9-K9)*(M9/24)*(N9/365),"") | Q9: =IFERROR(P9*0.2,"") | R9: =IFERROR(J9*(L9-K9)*(M9/24)*(O9/365),"")
C10: Verwacht aantal snedes
C11: Waarvan begrazingssnedes
C12: =_xlfn.CONCAT(D6,D3,D5,E4) -> #N/A | D12: =_xlfn.CONCAT(D7,D3,D5)
C14: Bemestingsnormen (kg/ha)
C15: Ndierlijk | D15: Nwz | E15: P2O5
C16: 170 | D16: =IFERROR(IF(D7="Ja",VLOOKUP(D12,'Lijsten en tabellen'!E11:F14,2,FALSE),VLOOKUP(C12,'Lijsten en tabellen'!B10:C42,2,FALSE)),"") | E16: =IF(D8="I",'Lijsten en tabellen'!S4,IF(D8="II",'Lijsten en tabellen'!T4,IF(D8="III",'Lijsten en tabellen'!U4,IF(D8="IV",'Lijsten en tabellen'!V4,""))))
C17: Let op er werd geen rekening gehouden met eventuele verscherpingen wegens ligging binnen natuur.
C18: =_xlfn.CONCAT(D3,D5,E5,B4) -> #N/A
C19: Wat is het bemestingsadvies (kg/ha) voor dit perceel?
C20: Per jaar
D21: Nwz | E21: P2O5 | F21: K2O | G21: MgO | H21: CaO | I21: Na2O | J21: SO3
B22: Per jaar | C22: Algemeen advies | D22: =VLOOKUP(C18,'Algemene adviezen'!G3:N14,2,FALSE) -> #N/A | E22: =VLOOKUP(C18,'Algemene adviezen'!G3:N14,3,FALSE) -> #N/A | F22: =VLOOKUP(C18,'Algemene adviezen'!G3:N14,4,FALSE) -> #N/A | G22: =VLOOKUP(C18,'Algemene adviezen'!G3:N14,5,FALSE) -> #N/A | H22: =VLOOKUP(C18,'Algemene adviezen'!G3:N14,6,FALSE) -> #N/A | I22: =VLOOKUP(C18,'Algemene adviezen'!G3:N14,7,FALSE) -> #N/A | J22: =VLOOKUP(C18,'Algemene adviezen'!G3:N14,8,FALSE) -> #N/A
B23: Per snede | C23: Algemeen advies per jaar | D23: =D22 -> #N/A | E23: =E22 -> #N/A | F23: =F22 -> #N/A | G23: =G22 -> #N/A | H23: =H22 -> #N/A | I23: =I22 -> #N/A | J23: =J22 -> #N/A
B24: Per jaar | C24: Advies eigen analyse
B25: =IFERROR(IF($D$10>0,"Per snede",""),"Per snede") | C25: Voor 1ste snede | D25: =IF($B$35="Per snede",D35,"") | E25: =IF($B$35="Per snede",E35,"") | F25: =IF($B$35="Per snede",F35,"") | G25: =IF($B$35="Per snede",G35,"") | H25: =IF($B$35="Per snede",H35,"") | I25: =IF($B$35="Per snede",I35,"") | J25: =IF($B$35="Per snede",J35,"")
B26: =IFERROR(IF($D$10>1,"Per snede",""),"Per snede") | C26: Voor 2de snede | D26: =IF($B$36="Per snede",D36,"") | E26: =IF($B$36="Per snede",E36,"") | F26: =IF($B$36="Per snede",F36,"") | G26: =IF($B$36="Per snede",G36,"") | H26: =IF($B$36="Per snede",H36,"") | I26: =IF($B$36="Per snede",I36,"") | J26: =IF($B$36="Per snede",J36,"")
B27: =IFERROR(IF($D$10>2,"Per snede",""),"Per snede") | C27: Voor 3de snede | D27: =IF($B$37="Per snede",D37,"") | E27: =IF($B$37="Per snede",E37,"") | F27: =IF($B$37="Per snede",F37,"") | G27: =IF($B$37="Per snede",G37,"") | H27: =IF($B$37="Per snede",H37,"") | I27: =IF($B$37="Per snede",I37,"") | J27: =IF($B$37="Per snede",J37,"")
B28: =IFERROR(IF($D$10>3,"Per snede",""),"Per snede") | C28: Voor 4de snede | D28: =IF($B$38="Per snede",D38,"") | E28: =IF($B$38="Per snede",E38,"") | F28: =IF($B$38="Per snede",F38,"") | G28: =IF($B$38="Per snede",G38,"") | H28: =IF($B$38="Per snede",H38,"") | I28: =IF($B$38="Per snede",I38,"") | J28: =IF($B$38="Per snede",J38,"")
B29: =IFERROR(IF($D$10>4,"Per snede",""),"Per snede") | C29: Voor 5de snede | D29: =IF($B$39="Per snede",D39,"") | E29: =IF($B$39="Per snede",E39,"") | F29: =IF($B$39="Per snede",F39,"") | G29: =IF($B$39="Per snede",G39,"") | H29: =IF($B$39="Per snede",H39,"") | I29: =IF($B$39="Per snede",I39,"") | J29: =IF($B$39="Per snede",J39,"")
B30: =IFERROR(IF($D$10>5,"Per snede",""),"Per snede") | C30: Voor 6de snede | D30: =IF($B$40="Per snede",D40,"") | E30: =IF($B$40="Per snede",E40,"") | F30: =IF($B$40="Per snede",F40,"") | G30: =IF($B$40="Per snede",G40,"") | H30: =IF($B$40="Per snede",H40,"") | I30: =IF($B$40="Per snede",I40,"") | J30: =IF($B$40="Per snede",J40,"")
B31: Per snede | C31: Totaal advies eigen analyse | D31: =SUM(D25:D30) -> 0 | E31: =SUM(E25:E30) -> 0 | F31: =SUM(F25:F30) -> 0 | G31: =SUM(G25:G30) -> 0 | H31: =SUM(H25:H30) -> 0 | I31: =SUM(I25:I30) -> 0 | J31: =SUM(J25:J30) -> 0
D33: Nwz | E33: P2O5 | F33: K2O | G33: MgO | H33: CaO | I33: Na2O | J33: SO3 | U33: Schatting benodigde N-bemesting
B34: {=_xlfn._xlws.FILTER(B22:C30,B22:B30=C20)} -> Per jaar | C34: Algemeen advies | D34: =IFERROR(D22,"") | E34: =IFERROR(E22,"") | F34: =IFERROR(F22,"") | G34: =IFERROR(G22,"") | H34: =IFERROR(H22,"") | I34: =IFERROR(I22,"") | J34: =IFERROR(J22,"")
B35: Per jaar | C35: Advies eigen analyse
C42: In te zetten messtoffen:
N43: N-vrijgave voor snede
C44: Naam meststof | D44: Eenheid inhoud | E44: Ndier | F44: Nwz | G44: P2O5 | H44: K2O | I44: MgO | J44: CaO | K44: Na2O | L44: SO3 | M44: Kostprijs | N44: 1st volgende snede | O44: 2de snede | P44: 3de snede | Q44: 4de snede
C45: =IF(NOT('Te gebruiken meststoffen'!R3=0), 'Te gebruiken meststoffen'!R3,"") | D45: =IFERROR(VLOOKUP(C45,'Te gebruiken meststoffen'!$R$3:$AA$10,2,FALSE),"") | E45: =IFERROR(VLOOKUP(C45,'Te gebruiken meststoffen'!$R$3:$AA$10,3,FALSE),0) -> 0 | F45: =IFERROR(VLOOKUP(C45,'Te gebruiken meststoffen'!$R$3:$AA$10,4,FALSE),0) -> 0 | G45: =IFERROR(VLOOKUP(C45,'Te gebruiken meststoffen'!$R$3:$AA$10,5,FALSE),0) -> 0 | H45: =IFERROR(VLOOKUP(C45,'Te gebruiken meststoffen'!$R$3:$AA$10,6,FALSE),0) -> 0 | I45: =IFERROR(VLOOKUP(C45,'Te gebruiken meststoffen'!$R$3:$AA$10,7,FALSE),0) -> 0 | J45: =IFERROR(VLOOKUP(C45,'Te gebruiken meststoffen'!$R$3:$AA$10,8,FALSE),0) -> 0 | K45: =IFERROR(VLOOKUP(C45,'Te gebruiken meststoffen'!$R$3:$AA$10,9,FALSE),0) -> 0 | L45: =IFERROR(VLOOKUP(C45,'Te gebruiken meststoffen'!$R$3:$AB$10,10,FALSE),0) -> 0 | M45: =IFERROR(VLOOKUP(C45,'Te gebruiken meststoffen'!$R$3:$AH$10,17,FALSE),0) -> 0 | N45: =IFERROR(VLOOKUP(C45,'Te gebruiken meststoffen'!$R$3:$AG$10,13,FALSE),0) -> 0 | O45: =IFERROR(VLOOKUP(C45,'Te gebruiken meststoffen'!$R$3:$AG$10,14,FALSE),0) -> 0 | P45: =IFERROR(VLOOKUP(C45,'Te gebruiken meststoffen'!$R$3:$AG$10,15,FALSE),0) -> 0 | Q45: =IFERROR(VLOOKUP(C45,'Te gebruiken meststoffen'!$R$3:$AG$10,16,FALSE),0) -> 0 | T45: =VLOOKUP(C45,'Te gebruiken meststoffen'!$R$3:$AB$10,11,FALSE) -> #N/A
C46: =IF(NOT('Te gebruiken meststoffen'!R4=0), 'Te gebruiken meststoffen'!R4,"") | D46: =IFERROR(VLOOKUP(C46,'Te gebruiken meststoffen'!$R$3:$AA$10,2,FALSE),"") | E46: =IFERROR(VLOOKUP(C46,'Te gebruiken meststoffen'!$R$3:$AA$10,3,FALSE),0) -> 0 | F46: =IFERROR(VLOOKUP(C46,'Te gebruiken meststoffen'!$R$3:$AA$10,4,FALSE),0) -> 0 | G46: =IFERROR(VLOOKUP(C46,'Te gebruiken meststoffen'!$R$3:$AA$10,5,FALSE),0) -> 0 | H46: =IFERROR(VLOOKUP(C46,'Te gebruiken meststoffen'!$R$3:$AA$10,6,FALSE),0) -> 0 | I46: =IFERROR(VLOOKUP(C46,'Te gebruiken meststoffen'!$R$3:$AA$10,7,FALSE),0) -> 0 | J46: =IFERROR(VLOOKUP(C46,'Te gebruiken meststoffen'!$R$3:$AA$10,8,FALSE),0) -> 0 | K46: =IFERROR(VLOOKUP(C46,'Te gebruiken meststoffen'!$R$3:$AA$10,9,FALSE),0) -> 0 | L46: =IFERROR(VLOOKUP(C46,'Te gebruiken meststoffen'!$R$3:$AB$10,10,FALSE),0) -> 0 | M46: =IFERROR(VLOOKUP(C46,'Te gebruiken meststoffen'!$R$3:$AH$10,17,FALSE),0) -> 0 | N46: =IFERROR(VLOOKUP(C46,'Te gebruiken meststoffen'!$R$3:$AG$10,13,FALSE),0) -> 0 | O46: =IFERROR(VLOOKUP(C46,'Te gebruiken meststoffen'!$R$3:$AG$10,14,FALSE),0) -> 0 | P46: =IFERROR(VLOOKUP(C46,'Te gebruiken meststoffen'!$R$3:$AG$10,15,FALSE),0) -> 0 | Q46: =IFERROR(VLOOKUP(C46,'Te gebruiken meststoffen'!$R$3:$AG$10,16,FALSE),0) -> 0 | T46: =VLOOKUP(C46,'Te gebruiken meststoffen'!$R$3:$AB$10,11,FALSE) -> #N/A
C47: =IF(NOT('Te gebruiken meststoffen'!R5=0), 'Te gebruiken meststoffen'!R5,"") | D47: =IFERROR(VLOOKUP(C47,'Te gebruiken meststoffen'!$R$3:$AA$10,2,FALSE),"") | E47: =IFERROR(VLOOKUP(C47,'Te gebruiken meststoffen'!$R$3:$AA$10,3,FALSE),0) -> 0 | F47: =IFERROR(VLOOKUP(C47,'Te gebruiken meststoffen'!$R$3:$AA$10,4,FALSE),0) -> 0 | G47: =IFERROR(VLOOKUP(C47,'Te gebruiken meststoffen'!$R$3:$AA$10,5,FALSE),0) -> 0 | H47: =IFERROR(VLOOKUP(C47,'Te gebruiken meststoffen'!$R$3:$AA$10,6,FALSE),0) -> 0 | I47: =IFERROR(VLOOKUP(C47,'Te gebruiken meststoffen'!$R$3:$AA$10,7,FALSE),0) -> 0 | J47: =IFERROR(VLOOKUP(C47,'Te gebruiken meststoffen'!$R$3:$AA$10,8,FALSE),0) -> 0 | K47: =IFERROR(VLOOKUP(C47,'Te gebruiken meststoffen'!$R$3:$AA$10,9,FALSE),0) -> 0 | L47: =IFERROR(VLOOKUP(C47,'Te gebruiken meststoffen'!$R$3:$AB$10,10,FALSE),0) -> 0 | M47: =IFERROR(VLOOKUP(C47,'Te gebruiken meststoffen'!$R$3:$AH$10,17,FALSE),0) -> 0 | N47: =IFERROR(VLOOKUP(C47,'Te gebruiken meststoffen'!$R$3:$AG$10,13,FALSE),0) -> 0 | O47: =IFERROR(VLOOKUP(C47,'Te gebruiken meststoffen'!$R$3:$AG$10,14,FALSE),0) -> 0 | P47: =IFERROR(VLOOKUP(C47,'Te gebruiken meststoffen'!$R$3:$AG$10,15,FALSE),0) -> 0 | Q47: =IFERROR(VLOOKUP(C47,'Te gebruiken meststoffen'!$R$3:$AG$10,16,FALSE),0) -> 0 | T47: =VLOOKUP(C47,'Te gebruiken meststoffen'!$R$3:$AB$10,11,FALSE) -> #N/A
C48: =IF(NOT('Te gebruiken meststoffen'!R6=0), 'Te gebruiken meststoffen'!R6,"") | D48: =IFERROR(VLOOKUP(C48,'Te gebruiken meststoffen'!$R$3:$AA$10,2,FALSE),"") | E48: =IFERROR(VLOOKUP(C48,'Te gebruiken meststoffen'!$R$3:$AA$10,3,FALSE),0) -> 0 | F48: =IFERROR(VLOOKUP(C48,'Te gebruiken meststoffen'!$R$3:$AA$10,4,FALSE),0) -> 0 | G48: =IFERROR(VLOOKUP(C48,'Te gebruiken meststoffen'!$R$3:$AA$10,5,FALSE),0) -> 0 | H48: =IFERROR(VLOOKUP(C48,'Te gebruiken meststoffen'!$R$3:$AA$10,6,FALSE),0) -> 0 | I48: =IFERROR(VLOOKUP(C48,'Te gebruiken meststoffen'!$R$3:$AA$10,7,FALSE),0) -> 0 | J48: =IFERROR(VLOOKUP(C48,'Te gebruiken meststoffen'!$R$3:$AA$10,8,FALSE),0) -> 0 | K48: =IFERROR(VLOOKUP(C48,'Te gebruiken meststoffen'!$R$3:$AA$10,9,FALSE),0) -> 0 | L48: =IFERROR(VLOOKUP(C48,'Te gebruiken meststoffen'!$R$3:$AB$10,10,FALSE),0) -> 0 | M48: =IFERROR(VLOOKUP(C48,'Te gebruiken meststoffen'!$R$3:$AH$10,17,FALSE),0) -> 0 | N48: =IFERROR(VLOOKUP(C48,'Te gebruiken meststoffen'!$R$3:$AG$10,13,FALSE),0) -> 0 | O48: =IFERROR(VLOOKUP(C48,'Te gebruiken meststoffen'!$R$3:$AG$10,14,FALSE),0) -> 0 | P48: =IFERROR(VLOOKUP(C48,'Te gebruiken meststoffen'!$R$3:$AG$10,15,FALSE),0) -> 0 | Q48: =IFERROR(VLOOKUP(C48,'Te gebruiken meststoffen'!$R$3:$AG$10,16,FALSE),0) -> 0 | T48: =VLOOKUP(C48,'Te gebruiken meststoffen'!$R$3:$AB$10,11,FALSE) -> #N/A
C49: =IF(NOT('Te gebruiken meststoffen'!R7=0), 'Te gebruiken meststoffen'!R7,"") | D49: =IFERROR(VLOOKUP(C49,'Te gebruiken meststoffen'!$R$3:$AA$10,2,FALSE),"") | E49: =IFERROR(VLOOKUP(C49,'Te gebruiken meststoffen'!$R$3:$AA$10,3,FALSE),0) -> 0 | F49: =IFERROR(VLOOKUP(C49,'Te gebruiken meststoffen'!$R$3:$AA$10,4,FALSE),0) -> 0 | G49: =IFERROR(VLOOKUP(C49,'Te gebruiken meststoffen'!$R$3:$AA$10,5,FALSE),0) -> 0 | H49: =IFERROR(VLOOKUP(C49,'Te gebruiken meststoffen'!$R$3:$AA$10,6,FALSE),0) -> 0 | I49: =IFERROR(VLOOKUP(C49,'Te gebruiken meststoffen'!$R$3:$AA$10,7,FALSE),0) -> 0 | J49: =IFERROR(VLOOKUP(C49,'Te gebruiken meststoffen'!$R$3:$AA$10,8,FALSE),0) -> 0 | K49: =IFERROR(VLOOKUP(C49,'Te gebruiken meststoffen'!$R$3:$AA$10,9,FALSE),0) -> 0 | L49: =IFERROR(VLOOKUP(C49,'Te gebruiken meststoffen'!$R$3:$AB$10,10,FALSE),0) -> 0 | M49: =IFERROR(VLOOKUP(C49,'Te gebruiken meststoffen'!$R$3:$AH$10,17,FALSE),0) -> 0 | N49: =IFERROR(VLOOKUP(C49,'Te gebruiken meststoffen'!$R$3:$AG$10,13,FALSE),0) -> 0 | O49: =IFERROR(VLOOKUP(C49,'Te gebruiken meststoffen'!$R$3:$AG$10,14,FALSE),0) -> 0 | P49: =IFERROR(VLOOKUP(C49,'Te gebruiken meststoffen'!$R$3:$AG$10,15,FALSE),0) -> 0 | Q49: =IFERROR(VLOOKUP(C49,'Te gebruiken meststoffen'!$R$3:$AG$10,16,FALSE),0) -> 0 | T49: =VLOOKUP(C49,'Te gebruiken meststoffen'!$R$3:$AB$10,11,FALSE) -> #N/A
C50: =IF(NOT('Te gebruiken meststoffen'!R8=0), 'Te gebruiken meststoffen'!R8,"") | D50: =IFERROR(VLOOKUP(C50,'Te gebruiken meststoffen'!$R$3:$AA$10,2,FALSE),"") | E50: =IFERROR(VLOOKUP(C50,'Te gebruiken meststoffen'!$R$3:$AA$10,3,FALSE),0) -> 0 | F50: =IFERROR(VLOOKUP(C50,'Te gebruiken meststoffen'!$R$3:$AA$10,4,FALSE),0) -> 0 | G50: =IFERROR(VLOOKUP(C50,'Te gebruiken meststoffen'!$R$3:$AA$10,5,FALSE),0) -> 0 | H50: =IFERROR(VLOOKUP(C50,'Te gebruiken meststoffen'!$R$3:$AA$10,6,FALSE),0) -> 0 | I50: =IFERROR(VLOOKUP(C50,'Te gebruiken meststoffen'!$R$3:$AA$10,7,FALSE),0) -> 0 | J50: =IFERROR(VLOOKUP(C50,'Te gebruiken meststoffen'!$R$3:$AA$10,8,FALSE),0) -> 0 | K50: =IFERROR(VLOOKUP(C50,'Te gebruiken meststoffen'!$R$3:$AA$10,9,FALSE),0) -> 0 | L50: =IFERROR(VLOOKUP(C50,'Te gebruiken meststoffen'!$R$3:$AB$10,10,FALSE),0) -> 0 | M50: =IFERROR(VLOOKUP(C50,'Te gebruiken meststoffen'!$R$3:$AH$10,17,FALSE),0) -> 0 | N50: =IFERROR(VLOOKUP(C50,'Te gebruiken meststoffen'!$R$3:$AG$10,13,FALSE),0) -> 0 | O50: =IFERROR(VLOOKUP(C50,'Te gebruiken meststoffen'!$R$3:$AG$10,14,FALSE),0) -> 0 | P50: =IFERROR(VLOOKUP(C50,'Te gebruiken meststoffen'!$R$3:$AG$10,15,FALSE),0) -> 0 | Q50: =IFERROR(VLOOKUP(C50,'Te gebruiken meststoffen'!$R$3:$AG$10,16,FALSE),0) -> 0 | T50: =VLOOKUP(C50,'Te gebruiken meststoffen'!$R$3:$AB$10,11,FALSE) -> #N/A
C51: =IF(NOT('Te gebruiken meststoffen'!R9=0), 'Te gebruiken meststoffen'!R9,"") | D51: =IFERROR(VLOOKUP(C51,'Te gebruiken meststoffen'!$R$3:$AA$10,2,FALSE),"") | E51: =IFERROR(VLOOKUP(C51,'Te gebruiken meststoffen'!$R$3:$AA$10,3,FALSE),0) -> 0 | F51: =IFERROR(VLOOKUP(C51,'Te gebruiken meststoffen'!$R$3:$AA$10,4,FALSE),0) -> 0 | G51: =IFERROR(VLOOKUP(C51,'Te gebruiken meststoffen'!$R$3:$AA$10,5,FALSE),0) -> 0 | H51: =IFERROR(VLOOKUP(C51,'Te gebruiken meststoffen'!$R$3:$AA$10,6,FALSE),0) -> 0 | I51: =IFERROR(VLOOKUP(C51,'Te gebruiken meststoffen'!$R$3:$AA$10,7,FALSE),0) -> 0 | J51: =IFERROR(VLOOKUP(C51,'Te gebruiken meststoffen'!$R$3:$AA$10,8,FALSE),0) -> 0 | K51: =IFERROR(VLOOKUP(C51,'Te gebruiken meststoffen'!$R$3:$AA$10,9,FALSE),0) -> 0 | L51: =IFERROR(VLOOKUP(C51,'Te gebruiken meststoffen'!$R$3:$AB$10,10,FALSE),0) -> 0 | M51: =IFERROR(VLOOKUP(C51,'Te gebruiken meststoffen'!$R$3:$AH$10,17,FALSE),0) -> 0 | N51: =IFERROR(VLOOKUP(C51,'Te gebruiken meststoffen'!$R$3:$AG$10,13,FALSE),0) -> 0 | O51: =IFERROR(VLOOKUP(C51,'Te gebruiken meststoffen'!$R$3:$AG$10,14,FALSE),0) -> 0 | P51: =IFERROR(VLOOKUP(C51,'Te gebruiken meststoffen'!$R$3:$AG$10,15,FALSE),0) -> 0 | Q51: =IFERROR(VLOOKUP(C51,'Te gebruiken meststoffen'!$R$3:$AG$10,16,FALSE),0) -> 0 | T51: =VLOOKUP(C51,'Te gebruiken meststoffen'!$R$3:$AB$10,11,FALSE) -> #N/A
C52: =IF(NOT('Te gebruiken meststoffen'!R10=0), 'Te gebruiken meststoffen'!R10,"") | D52: =IFERROR(VLOOKUP(C52,'Te gebruiken meststoffen'!$R$3:$AA$10,2,FALSE),"") | E52: =IFERROR(VLOOKUP(C52,'Te gebruiken meststoffen'!$R$3:$AA$10,3,FALSE),0) -> 0 | F52: =IFERROR(VLOOKUP(C52,'Te gebruiken meststoffen'!$R$3:$AA$10,4,FALSE),0) -> 0 | G52: =IFERROR(VLOOKUP(C52,'Te gebruiken meststoffen'!$R$3:$AA$10,5,FALSE),0) -> 0 | H52: =IFERROR(VLOOKUP(C52,'Te gebruiken meststoffen'!$R$3:$AA$10,6,FALSE),0) -> 0 | I52: =IFERROR(VLOOKUP(C52,'Te gebruiken meststoffen'!$R$3:$AA$10,7,FALSE),0) -> 0 | J52: =IFERROR(VLOOKUP(C52,'Te gebruiken meststoffen'!$R$3:$AA$10,8,FALSE),0) -> 0 | K52: =IFERROR(VLOOKUP(C52,'Te gebruiken meststoffen'!$R$3:$AA$10,9,FALSE),0) -> 0 | L52: =IFERROR(VLOOKUP(C52,'Te gebruiken meststoffen'!$R$3:$AB$10,10,FALSE),0) -> 0 | M52: =IFERROR(VLOOKUP(C52,'Te gebruiken meststoffen'!$R$3:$AH$10,17,FALSE),0) -> 0 | N52: =IFERROR(VLOOKUP(C52,'Te gebruiken meststoffen'!$R$3:$AG$10,13,FALSE),0) -> 0 | O52: =IFERROR(VLOOKUP(C52,'Te gebruiken meststoffen'!$R$3:$AG$10,14,FALSE),0) -> 0 | P52: =IFERROR(VLOOKUP(C52,'Te gebruiken meststoffen'!$R$3:$AG$10,15,FALSE),0) -> 0 | Q52: =IFERROR(VLOOKUP(C52,'Te gebruiken meststoffen'!$R$3:$AG$10,16,FALSE),0) -> 0 | T52: =VLOOKUP(C52,'Te gebruiken meststoffen'!$R$3:$AB$10,11,FALSE) -> #N/A
C53: =IF(G4=1,_xlfn.CONCAT($G$3," ",G4),"") | D53: =IF(C53="","","kg") | E53: =IF(C53="","",P4) | F53: =IF(D53="","",Q4) | G53: =IF(E53="","",R4) | N53: =F53 | T53: =IF(E53="","","DIERLIJKE")
C54: =IF(G5=2,_xlfn.CONCAT($G$3," ",G5),"") | D54: =IF(C54="","","kg") | E54: =IF(C54="","",P5) | F54: =IF(D54="","",Q5) | G54: =IF(E54="","",R5) | N54: =F54 | T54: =IF(E54="","","DIERLIJKE")
C55: =IF(G6=3,_xlfn.CONCAT($G$3," ",G6),"") | D55: =IF(C55="","","kg") | E55: =IF(C55="","",P6) | F55: =IF(D55="","",Q6) | G55: =IF(E55="","",R6) | N55: =F55 | T55: =IF(E55="","","DIERLIJKE")
C56: =IF(G7=4,_xlfn.CONCAT($G$3," ",G7),"") | D56: =IF(C56="","","kg") | E56: =IF(C56="","",P7) | F56: =IF(D56="","",Q7) | G56: =IF(E56="","",R7) | N56: =F56 | T56: =IF(E56="","","DIERLIJKE")
C57: =IF(G8=5,_xlfn.CONCAT($G$3," ",G8),"") | D57: =IF(C57="","","kg") | E57: =IF(C57="","",P8) | F57: =IF(D57="","",Q8) | G57: =IF(E57="","",R8) | N57: =F57 | T57: =IF(E57="","","DIERLIJKE")
C58: =IF(G9=6,_xlfn.CONCAT($G$3," ",G9),"") | D58: =IF(C58="","","kg") | E58: =IF(C58="","",P9) | F58: =IF(D58="","",Q9) | G58: =IF(E58="","",R9) | N58: =F58 | T58: =IF(E58="","","DIERLIJKE")
C59: Bemesting per snede
C61: Naam meststof | D61: Toegediend per ha | E61: Eenheid | F61: Ndier | G61: Nwz | H61: P2O5 | I61: K2O | J61: MgO | K61: CaO | L61: Na2O | M61: SO3 | N61: NWZ deze snede | O61: Nvoor1stvolgende | P61: Nvoor2de | Q61: Nvoor3de | R61: Nvoor4de | S61: N-totaal | T61: Toe te dienen op volledige oppervlakte perceel | V61: Kostrpijs bemesting (EUR/ha) | W61: Kostrpijs bemesting (EUR) | Y61: =_xlfn.CONCAT("Kostprijs bemesting ",C45," (EUR/ha)") -> Kostprijs bemesting (EUR/ha) | Z61: =_xlfn.CONCAT("Kostprijs bemesting ",C46," (EUR/ha)") -> Kostprijs bemesting (EUR/ha) | AA61: =_xlfn.CONCAT("Kostprijs bemesting ",C47," (EUR/ha)") -> Kostprijs bemesting (EUR/ha) | AB61: =_xlfn.CONCAT("Kostprijs bemesting ",C48," (EUR/ha)") -> Kostprijs bemesting (EUR/ha) | AC61: =_xlfn.CONCAT("Kostprijs bemesting ",C49," (EUR/ha)") -> Kostprijs bemesting (EUR/ha) | AD61: =_xlfn.CONCAT("Kostprijs bemesting ",C50," (EUR/ha)") -> Kostprijs bemesting (EUR/ha) | AE61: =_xlfn.CONCAT("Kostprijs bemesting ",C51," (EUR/ha)") -> Kostprijs bemesting (EUR/ha) | AF61: =_xlfn.CONCAT("Kostprijs bemesting ",C52," (EUR/ha)") -> Kostprijs bemesting (EUR/ha) | AG61: =_xlfn.CONCAT("Kostprijs bemesting ",C53," (EUR/ha)") -> Kostprijs bemesting (EUR/ha) | AH61: =_xlfn.CONCAT("Kostprijs bemesting ",C54," (EUR/ha)") -> Kostprijs bemesting (EUR/ha) | AI61: =_xlfn.CONCAT("Kostprijs bemesting ",C55," (EUR/ha)") -> Kostprijs bemesting (EUR/ha) | AJ61: =_xlfn.CONCAT("Kostprijs bemesting ",C56," (EUR/ha)") -> Kostprijs bemesting (EUR/ha) | AK61: =_xlfn.CONCAT("Kostprijs bemesting ",C57," (EUR/ha)") -> Kostprijs bemesting (EUR/ha) | AL61: =_xlfn.CONCAT("Kostprijs bemesting ",C58," (EUR/ha)") -> Kostprijs bemesting (EUR/ha)
A62: Datum toepassing | C62: Voor 1ste snede | Y62: =C45 | Z62: =C46 | AA62: =C47 | AB62: =C48 | AC62: =C49 | AD62: =C50 | AE62: =C51 | AF62: =C52 | AG62: =C53 | AH62: =C54 | AI62: =C55 | AJ62: =C56 | AK62: =C57 | AL62: =C58
E63: =_xlfn.IFNA(VLOOKUP(C63,'Te gebruiken meststoffen'!$R$3:$AC$10,12,FALSE),"") | F63: =D63*(IFERROR(VLOOKUP(C63,$C$45:$Q$58,3,FALSE),0)) -> 0 | G63: =O63 -> 0 | H63: =D63*(IFERROR(VLOOKUP(C63,$C$45:$Q$58,5,FALSE),0)) -> 0 | I63: =D63*(IFERROR(VLOOKUP(C63,$C$45:$Q$58,6,FALSE),0)) -> 0 | J63: =D63*(IFERROR(VLOOKUP(C63,$C$45:$Q$58,7,FALSE),0)) -> 0 | K63: =D63*(IFERROR(VLOOKUP(C63,$C$45:$Q$58,8,FALSE),0)) -> 0 | L63: =D63*(IFERROR(VLOOKUP(C63,$C$45:$Q$58,9,FALSE),0)) -> 0 | M63: =D63*(IFERROR(VLOOKUP(C63,$C$45:$Q$58,10,FALSE),0)) -> 0 | N63: =O63 -> 0 | O63: =D63*(IFERROR(VLOOKUP(C63,$C$45:$Q$58,12,FALSE),0)) -> 0 | P63: =D63*(IFERROR(VLOOKUP(C63,$C$45:$Q$58,13,FALSE),0)) -> 0 | Q63: =D63*(IFERROR(VLOOKUP(C63,$C$45:$Q$58,14,FALSE),0)) -> 0 | R63: =D63*(IFERROR(VLOOKUP(C63,$C$45:$Q$58,15,FALSE),0)) -> 0 | S63: =IF(F63>0,F63,G63) -> 0 | T63: =IF(D63="","",D63*$D$9) | U63: =IF(D63="","",E63) | V63: =IF(D63="","",D63*(VLOOKUP(C63,$C$45:$M$58,11,FALSE))) | W63: =IF(T63="","",T63*(VLOOKUP(C63,$C$45:$M$58,11,FALSE))) | Y63: =IF(C63=$C$45,V63,"") | Z63: =IF(C63=$C$46,V63,"") | AA63: =IF(C63=$C$47,V63,"") | AB63: =IF(C63=$C$48,V63,"") | AC63: =IF(C63=$C$49,V63,"") | AD63: =IF(C63=$C$50,V63,"") | AE63: =IF(C63=$C$51,V63,"") | AF63: =IF(C63=$C$52,V63,"") | AG63: =IF(C63=$C$53,V63,"") | AH63: =IF(C63=$C$54,V63,"") | AI63: =IF(C63=$C$55,V63,"") | AJ63: =IF(C63=$C$56,V63,"") | AK63: =IF(C63=$C$57,V63,"") | AL63: =IF(C63=$C$58,V63,"")
E64: =_xlfn.IFNA(VLOOKUP(C64,'Te gebruiken meststoffen'!$R$3:$AC$10,12,FALSE),"") | F64: =D64*(IFERROR(VLOOKUP(C64,$C$45:$Q$58,3,FALSE),0)) -> 0 | G64: =O64 -> 0 | H64: =D64*(IFERROR(VLOOKUP(C64,$C$45:$Q$58,5,FALSE),0)) -> 0 | I64: =D64*(IFERROR(VLOOKUP(C64,$C$45:$Q$58,6,FALSE),0)) -> 0 | J64: =D64*(IFERROR(VLOOKUP(C64,$C$45:$Q$58,7,FALSE),0)) -> 0 | K64: =D64*(IFERROR(VLOOKUP(C64,$C$45:$Q$58,8,FALSE),0)) -> 0 | L64: =D64*(IFERROR(VLOOKUP(C64,$C$45:$Q$58,9,FALSE),0)) -> 0 | M64: =D64*(IFERROR(VLOOKUP(C64,$C$45:$Q$58,10,FALSE),0)) -> 0 | N64: =O64 -> 0 | O64: =D64*(IFERROR(VLOOKUP(C64,$C$45:$Q$58,12,FALSE),0)) -> 0 | P64: =D64*(IFERROR(VLOOKUP(C64,$C$45:$Q$58,13,FALSE),0)) -> 0 | Q64: =D64*(IFERROR(VLOOKUP(C64,$C$45:$Q$58,14,FALSE),0)) -> 0 | R64: =D64*(IFERROR(VLOOKUP(C64,$C$45:$Q$58,15,FALSE),0)) -> 0 | S64: =IF(F64>0,F64,G64) -> 0 | T64: =IF(D64="","",D64*$D$9) | U64: =IF(D64="","",E64) | V64: =IF(D64="","",D64*(VLOOKUP(C64,$C$45:$M$58,11,FALSE))) | W64: =IF(T64="","",T64*(VLOOKUP(C64,$C$45:$M$58,11,FALSE))) | Y64: =IF(C64=$C$45,V64,"") | Z64: =IF(C64=$C$46,V64,"") | AA64: =IF(C64=$C$47,V64,"") | AB64: =IF(C64=$C$48,V64,"") | AC64: =IF(C64=$C$49,V64,"") | AD64: =IF(C64=$C$50,V64,"") | AE64: =IF(C64=$C$51,V64,"") | AF64: =IF(C64=$C$52,V64,"") | AG64: =IF(C64=$C$53,V64,"") | AH64: =IF(C64=$C$54,V64,"") | AI64: =IF(C64=$C$55,V64,"") | AJ64: =IF(C64=$C$56,V64,"") | AK64: =IF(C64=$C$57,V64,"") | AL64: =IF(C64=$C$58,V64,"")
E65: =_xlfn.IFNA(VLOOKUP(C65,'Te gebruiken meststoffen'!$R$3:$AC$10,12,FALSE),"") | F65: =D65*(IFERROR(VLOOKUP(C65,$C$45:$Q$58,3,FALSE),0)) -> 0 | G65: =O65 -> 0 | H65: =D65*(IFERROR(VLOOKUP(C65,$C$45:$Q$58,5,FALSE),0)) -> 0 | I65: =D65*(IFERROR(VLOOKUP(C65,$C$45:$Q$58,6,FALSE),0)) -> 0 | J65: =D65*(IFERROR(VLOOKUP(C65,$C$45:$Q$58,7,FALSE),0)) -> 0 | K65: =D65*(IFERROR(VLOOKUP(C65,$C$45:$Q$58,8,FALSE),0)) -> 0 | L65: =D65*(IFERROR(VLOOKUP(C65,$C$45:$Q$58,9,FALSE),0)) -> 0 | M65: =D65*(IFERROR(VLOOKUP(C65,$C$45:$Q$58,10,FALSE),0)) -> 0 | N65: =O65 -> 0 | O65: =D65*(IFERROR(VLOOKUP(C65,$C$45:$Q$58,12,FALSE),0)) -> 0 | P65: =D65*(IFERROR(VLOOKUP(C65,$C$45:$Q$58,13,FALSE),0)) -> 0 | Q65: =D65*(IFERROR(VLOOKUP(C65,$C$45:$Q$58,14,FALSE),0)) -> 0 | R65: =D65*(IFERROR(VLOOKUP(C65,$C$45:$Q$58,15,FALSE),0)) -> 0 | S65: =IF(F65>0,F65,G65) -> 0 | T65: =IF(D65="","",D65*$D$9) | U65: =IF(D65="","",E65) | V65: =IF(D65="","",D65*(VLOOKUP(C65,$C$45:$M$58,11,FALSE))) | W65: =IF(T65="","",T65*(VLOOKUP(C65,$C$45:$M$58,11,FALSE))) | Y65: =IF(C65=$C$45,V65,"") | Z65: =IF(C65=$C$46,V65,"") | AA65: =IF(C65=$C$47,V65,"") | AB65: =IF(C65=$C$48,V65,"") | AC65: =IF(C65=$C$49,V65,"") | AD65: =IF(C65=$C$50,V65,"") | AE65: =IF(C65=$C$51,V65,"") | AF65: =IF(C65=$C$52,V65,"") | AG65: =IF(C65=$C$53,V65,"") | AH65: =IF(C65=$C$54,V65,"") | AI65: =IF(C65=$C$55,V65,"") | AJ65: =IF(C65=$C$56,V65,"") | AK65: =IF(C65=$C$57,V65,"") | AL65: =IF(C65=$C$58,V65,"")
E66: =_xlfn.IFNA(VLOOKUP(C66,'Te gebruiken meststoffen'!$R$3:$AC$10,12,FALSE),"") | F66: =D66*(IFERROR(VLOOKUP(C66,$C$45:$Q$58,3,FALSE),0)) -> 0 | G66: =O66 -> 0 | H66: =D66*(IFERROR(VLOOKUP(C66,$C$45:$Q$58,5,FALSE),0)) -> 0 | I66: =D66*(IFERROR(VLOOKUP(C66,$C$45:$Q$58,6,FALSE),0)) -> 0 | J66: =D66*(IFERROR(VLOOKUP(C66,$C$45:$Q$58,7,FALSE),0)) -> 0 | K66: =D66*(IFERROR(VLOOKUP(C66,$C$45:$Q$58,8,FALSE),0)) -> 0 | L66: =D66*(IFERROR(VLOOKUP(C66,$C$45:$Q$58,9,FALSE),0)) -> 0 | M66: =D66*(IFERROR(VLOOKUP(C66,$C$45:$Q$58,10,FALSE),0)) -> 0 | N66: =O66 -> 0 | O66: =D66*(IFERROR(VLOOKUP(C66,$C$45:$Q$58,12,FALSE),0)) -> 0 | P66: =D66*(IFERROR(VLOOKUP(C66,$C$45:$Q$58,13,FALSE),0)) -> 0 | Q66: =D66*(IFERROR(VLOOKUP(C66,$C$45:$Q$58,14,FALSE),0)) -> 0 | R66: =D66*(IFERROR(VLOOKUP(C66,$C$45:$Q$58,15,FALSE),0)) -> 0 | S66: =IF(F66>0,F66,G66) -> 0 | T66: =IF(D66="","",D66*$D$9) | U66: =IF(D66="","",E66) | V66: =IF(D66="","",D66*(VLOOKUP(C66,$C$45:$M$58,11,FALSE))) | W66: =IF(T66="","",T66*(VLOOKUP(C66,$C$45:$M$58,11,FALSE))) | Y66: =IF(C66=$C$45,V66,"") | Z66: =IF(C66=$C$46,V66,"") | AA66: =IF(C66=$C$47,V66,"") | AB66: =IF(C66=$C$48,V66,"") | AC66: =IF(C66=$C$49,V66,"") | AD66: =IF(C66=$C$50,V66,"") | AE66: =IF(C66=$C$51,V66,"") | AF66: =IF(C66=$C$52,V66,"") | AG66: =IF(C66=$C$53,V66,"") | AH66: =IF(C66=$C$54,V66,"") | AI66: =IF(C66=$C$55,V66,"") | AJ66: =IF(C66=$C$56,V66,"") | AK66: =IF(C66=$C$57,V66,"") | AL66: =IF(C66=$C$58,V66,"")
E67: =_xlfn.IFNA(VLOOKUP(C67,'Te gebruiken meststoffen'!$R$3:$AC$10,12,FALSE),"") | F67: =D67*(IFERROR(VLOOKUP(C67,$C$45:$Q$58,3,FALSE),0)) -> 0 | G67: =O67 -> 0 | H67: =D67*(IFERROR(VLOOKUP(C67,$C$45:$Q$58,5,FALSE),0)) -> 0 | I67: =D67*(IFERROR(VLOOKUP(C67,$C$45:$Q$58,6,FALSE),0)) -> 0 | J67: =D67*(IFERROR(VLOOKUP(C67,$C$45:$Q$58,7,FALSE),0)) -> 0 | K67: =D67*(IFERROR(VLOOKUP(C67,$C$45:$Q$58,8,FALSE),0)) -> 0 | L67: =D67*(IFERROR(VLOOKUP(C67,$C$45:$Q$58,9,FALSE),0)) -> 0 | M67: =D67*(IFERROR(VLOOKUP(C67,$C$45:$Q$58,10,FALSE),0)) -> 0 | N67: =O67 -> 0 | O67: =D67*(IFERROR(VLOOKUP(C67,$C$45:$Q$58,12,FALSE),0)) -> 0 | P67: =D67*(IFERROR(VLOOKUP(C67,$C$45:$Q$58,13,FALSE),0)) -> 0 | Q67: =D67*(IFERROR(VLOOKUP(C67,$C$45:$Q$58,14,FALSE),0)) -> 0 | R67: =D67*(IFERROR(VLOOKUP(C67,$C$45:$Q$58,15,FALSE),0)) -> 0 | S67: =IF(F67>0,F67,G67) -> 0 | T67: =IF(D67="","",D67*$D$9) | U67: =IF(D67="","",E67) | V67: =IF(D67="","",D67*(VLOOKUP(C67,$C$45:$M$58,11,FALSE))) | W67: =IF(T67="","",T67*(VLOOKUP(C67,$C$45:$M$58,11,FALSE))) | Y67: =IF(C67=$C$45,V67,"") | Z67: =IF(C67=$C$46,V67,"") | AA67: =IF(C67=$C$47,V67,"") | AB67: =IF(C67=$C$48,V67,"") | AC67: =IF(C67=$C$49,V67,"") | AD67: =IF(C67=$C$50,V67,"") | AE67: =IF(C67=$C$51,V67,"") | AF67: =IF(C67=$C$52,V67,"") | AG67: =IF(C67=$C$53,V67,"") | AH67: =IF(C67=$C$54,V67,"") | AI67: =IF(C67=$C$55,V67,"") | AJ67: =IF(C67=$C$56,V67,"") | AK67: =IF(C67=$C$57,V67,"") | AL67: =IF(C67=$C$58,V67,"")
E68: =_xlfn.IFNA(VLOOKUP(C68,'Te gebruiken meststoffen'!$R$3:$AC$10,12,FALSE),"") | F68: =D68*(IFERROR(VLOOKUP(C68,$C$45:$Q$58,3,FALSE),0)) -> 0 | G68: =O68 -> 0 | H68: =D68*(IFERROR(VLOOKUP(C68,$C$45:$Q$58,5,FALSE),0)) -> 0 | I68: =D68*(IFERROR(VLOOKUP(C68,$C$45:$Q$58,6,FALSE),0)) -> 0 | J68: =D68*(IFERROR(VLOOKUP(C68,$C$45:$Q$58,7,FALSE),0)) -> 0 | K68: =D68*(IFERROR(VLOOKUP(C68,$C$45:$Q$58,8,FALSE),0)) -> 0 | L68: =D68*(IFERROR(VLOOKUP(C68,$C$45:$Q$58,9,FALSE),0)) -> 0 | M68: =D68*(IFERROR(VLOOKUP(C68,$C$45:$Q$58,10,FALSE),0)) -> 0 | N68: =O68 -> 0 | O68: =D68*(IFERROR(VLOOKUP(C68,$C$45:$Q$58,12,FALSE),0)) -> 0 | P68: =D68*(IFERROR(VLOOKUP(C68,$C$45:$Q$58,13,FALSE),0)) -> 0 | Q68: =D68*(IFERROR(VLOOKUP(C68,$C$45:$Q$58,14,FALSE),0)) -> 0 | R68: =D68*(IFERROR(VLOOKUP(C68,$C$45:$Q$58,15,FALSE),0)) -> 0 | S68: =IF(F68>0,F68,G68) -> 0 | T68: =IF(D68="","",D68*$D$9) | U68: =IF(D68="","",E68) | V68: =IF(D68="","",D68*(VLOOKUP(C68,$C$45:$M$58,11,FALSE))) | W68: =IF(T68="","",T68*(VLOOKUP(C68,$C$45:$M$58,11,FALSE))) | Y68: =IF(C68=$C$45,V68,"") | Z68: =IF(C68=$C$46,V68,"") | AA68: =IF(C68=$C$47,V68,"") | AB68: =IF(C68=$C$48,V68,"") | AC68: =IF(C68=$C$49,V68,"") | AD68: =IF(C68=$C$50,V68,"") | AE68: =IF(C68=$C$51,V68,"") | AF68: =IF(C68=$C$52,V68,"") | AG68: =IF(C68=$C$53,V68,"") | AH68: =IF(C68=$C$54,V68,"") | AI68: =IF(C68=$C$55,V68,"") | AJ68: =IF(C68=$C$56,V68,"") | AK68: =IF(C68=$C$57,V68,"") | AL68: =IF(C68=$C$58,V68,"")
E69: Totaal voor 1ste snede | F69: =SUM(F63:F68) -> 0 | G69: =SUM(G63:G68) -> 0 | H69: =SUM(H63:H68) -> 0 | I69: =SUM(I63:I68) -> 0 | J69: =SUM(J63:J68) -> 0 | K69: =SUM(K63:K68) -> 0 | L69: =SUM(L63:L68) -> 0 | M69: =SUM(M63:M68) -> 0 | N69: =SUM(O63:O68) -> 0 | S69: =SUM(S63:S68) -> 0 | V69: =SUM(V63:V68) -> 0 | W69: =SUM(W63:W68) -> 0
A70: Datum toepassing | C70: Voor 2de snede | D70: Nwerkzaam uit bemesting vorige snede | G70: =N77-SUM(G71:G76) -> 0 | S70: =SUM(S71:S76) -> 0
E71: =_xlfn.IFNA(VLOOKUP(C71,'Te gebruiken meststoffen'!$R$3:$AC$10,12,FALSE),"") | F71: =D71*(IFERROR(VLOOKUP(C71,$C$45:$Q$58,3,FALSE),0)) -> 0 | G71: =O71 -> 0 | H71: =D71*(IFERROR(VLOOKUP(C71,$C$45:$Q$58,5,FALSE),0)) -> 0 | I71: =D71*(IFERROR(VLOOKUP(C71,$C$45:$Q$58,6,FALSE),0)) -> 0 | J71: =D71*(IFERROR(VLOOKUP(C71,$C$45:$Q$58,7,FALSE),0)) -> 0 | K71: =D71*(IFERROR(VLOOKUP(C71,$C$45:$Q$58,8,FALSE),0)) -> 0 | L71: =D71*(IFERROR(VLOOKUP(C71,$C$45:$Q$58,9,FALSE),0)) -> 0 | M71: =D71*(IFERROR(VLOOKUP(C71,$C$45:$Q$58,10,FALSE),0)) -> 0 | N71: =O71+P63 -> 0 | O71: =D71*(IFERROR(VLOOKUP(C71,$C$45:$Q$58,12,FALSE),0)) -> 0 | P71: =D71*(IFERROR(VLOOKUP(C71,$C$45:$Q$58,13,FALSE),0)) -> 0 | Q71: =D71*(IFERROR(VLOOKUP(C71,$C$45:$Q$58,14,FALSE),0)) -> 0 | R71: =D71*(IFERROR(VLOOKUP(C71,$C$45:$Q$58,15,FALSE),0)) -> 0 | S71: =IF(F71>0,F71,G71) -> 0 | T71: =IF(D71="","",D71*$D$9) | U71: =IF(D71="","",E71) | V71: =IF(D71="","",D71*(VLOOKUP(C71,$C$45:$M$58,11,FALSE))) | W71: =IF(T71="","",T71*(VLOOKUP(C71,$C$45:$M$58,11,FALSE))) | Y71: =IF(C71=$C$45,V71,"") | Z71: =IF(C71=$C$46,V71,"") | AA71: =IF(C71=$C$47,V71,"") | AB71: =IF(C71=$C$48,V71,"") | AC71: =IF(C71=$C$49,V71,"") | AD71: =IF(C71=$C$50,V71,"") | AE71: =IF(C71=$C$51,V71,"") | AF71: =IF(C71=$C$52,V71,"") | AG71: =IF(C71=$C$53,V71,"") | AH71: =IF(C71=$C$54,V71,"") | AI71: =IF(C71=$C$55,V71,"") | AJ71: =IF(C71=$C$56,V71,"") | AK71: =IF(C71=$C$57,V71,"") | AL71: =IF(C71=$C$58,V71,"")
E72: =_xlfn.IFNA(VLOOKUP(C72,'Te gebruiken meststoffen'!$R$3:$AC$10,12,FALSE),"") | F72: =D72*(IFERROR(VLOOKUP(C72,$C$45:$Q$58,3,FALSE),0)) -> 0 | G72: =O72 -> 0 | H72: =D72*(IFERROR(VLOOKUP(C72,$C$45:$Q$58,5,FALSE),0)) -> 0 | I72: =D72*(IFERROR(VLOOKUP(C72,$C$45:$Q$58,6,FALSE),0)) -> 0 | J72: =D72*(IFERROR(VLOOKUP(C72,$C$45:$Q$58,7,FALSE),0)) -> 0 | K72: =D72*(IFERROR(VLOOKUP(C72,$C$45:$Q$58,8,FALSE),0)) -> 0 | L72: =D72*(IFERROR(VLOOKUP(C72,$C$45:$Q$58,9,FALSE),0)) -> 0 | M72: =D72*(IFERROR(VLOOKUP(C72,$C$45:$Q$58,10,FALSE),0)) -> 0 | N72: =O72+P64 -> 0 | O72: =D72*(IFERROR(VLOOKUP(C72,$C$45:$Q$58,12,FALSE),0)) -> 0 | P72: =D72*(IFERROR(VLOOKUP(C72,$C$45:$Q$58,13,FALSE),0)) -> 0 | Q72: =D72*(IFERROR(VLOOKUP(C72,$C$45:$Q$58,14,FALSE),0)) -> 0 | R72: =D72*(IFERROR(VLOOKUP(C72,$C$45:$Q$58,15,FALSE),0)) -> 0 | S72: =IF(F72>0,F72,G72) -> 0 | T72: =IF(D72="","",D72*$D$9) | U72: =IF(D72="","",E72) | V72: =IF(D72="","",D72*(VLOOKUP(C72,$C$45:$M$58,11,FALSE))) | W72: =IF(T72="","",T72*(VLOOKUP(C72,$C$45:$M$58,11,FALSE))) | Y72: =IF(C72=$C$45,V72,"") | Z72: =IF(C72=$C$46,V72,"") | AA72: =IF(C72=$C$47,V72,"") | AB72: =IF(C72=$C$48,V72,"") | AC72: =IF(C72=$C$49,V72,"") | AD72: =IF(C72=$C$50,V72,"") | AE72: =IF(C72=$C$51,V72,"") | AF72: =IF(C72=$C$52,V72,"") | AG72: =IF(C72=$C$53,V72,"") | AH72: =IF(C72=$C$54,V72,"") | AI72: =IF(C72=$C$55,V72,"") | AJ72: =IF(C72=$C$56,V72,"") | AK72: =IF(C72=$C$57,V72,"") | AL72: =IF(C72=$C$58,V72,"")
E73: =_xlfn.IFNA(VLOOKUP(C73,'Te gebruiken meststoffen'!$R$3:$AC$10,12,FALSE),"") | F73: =D73*(IFERROR(VLOOKUP(C73,$C$45:$Q$58,3,FALSE),0)) -> 0 | G73: =O73 -> 0 | H73: =D73*(IFERROR(VLOOKUP(C73,$C$45:$Q$58,5,FALSE),0)) -> 0 | I73: =D73*(IFERROR(VLOOKUP(C73,$C$45:$Q$58,6,FALSE),0)) -> 0 | J73: =D73*(IFERROR(VLOOKUP(C73,$C$45:$Q$58,7,FALSE),0)) -> 0 | K73: =D73*(IFERROR(VLOOKUP(C73,$C$45:$Q$58,8,FALSE),0)) -> 0 | L73: =D73*(IFERROR(VLOOKUP(C73,$C$45:$Q$58,9,FALSE),0)) -> 0 | M73: =D73*(IFERROR(VLOOKUP(C73,$C$45:$Q$58,10,FALSE),0)) -> 0 | N73: =O73+P65 -> 0 | O73: =D73*(IFERROR(VLOOKUP(C73,$C$45:$Q$58,12,FALSE),0)) -> 0 | P73: =D73*(IFERROR(VLOOKUP(C73,$C$45:$Q$58,13,FALSE),0)) -> 0 | Q73: =D73*(IFERROR(VLOOKUP(C73,$C$45:$Q$58,14,FALSE),0)) -> 0 | R73: =D73*(IFERROR(VLOOKUP(C73,$C$45:$Q$58,15,FALSE),0)) -> 0 | S73: =IF(F73>0,F73,G73) -> 0 | T73: =IF(D73="","",D73*$D$9) | U73: =IF(D73="","",E73) | V73: =IF(D73="","",D73*(VLOOKUP(C73,$C$45:$M$58,11,FALSE))) | W73: =IF(T73="","",T73*(VLOOKUP(C73,$C$45:$M$58,11,FALSE))) | Y73: =IF(C73=$C$45,V73,"") | Z73: =IF(C73=$C$46,V73,"") | AA73: =IF(C73=$C$47,V73,"") | AB73: =IF(C73=$C$48,V73,"") | AC73: =IF(C73=$C$49,V73,"") | AD73: =IF(C73=$C$50,V73,"") | AE73: =IF(C73=$C$51,V73,"") | AF73: =IF(C73=$C$52,V73,"") | AG73: =IF(C73=$C$53,V73,"") | AH73: =IF(C73=$C$54,V73,"") | AI73: =IF(C73=$C$55,V73,"") | AJ73: =IF(C73=$C$56,V73,"") | AK73: =IF(C73=$C$57,V73,"") | AL73: =IF(C73=$C$58,V73,"")
E74: =_xlfn.IFNA(VLOOKUP(C74,'Te gebruiken meststoffen'!$R$3:$AC$10,12,FALSE),"") | F74: =D74*(IFERROR(VLOOKUP(C74,$C$45:$Q$58,3,FALSE),0)) -> 0 | G74: =O74 -> 0 | H74: =D74*(IFERROR(VLOOKUP(C74,$C$45:$Q$58,5,FALSE),0)) -> 0 | I74: =D74*(IFERROR(VLOOKUP(C74,$C$45:$Q$58,6,FALSE),0)) -> 0 | J74: =D74*(IFERROR(VLOOKUP(C74,$C$45:$Q$58,7,FALSE),0)) -> 0 | K74: =D74*(IFERROR(VLOOKUP(C74,$C$45:$Q$58,8,FALSE),0)) -> 0 | L74: =D74*(IFERROR(VLOOKUP(C74,$C$45:$Q$58,9,FALSE),0)) -> 0 | M74: =D74*(IFERROR(VLOOKUP(C74,$C$45:$Q$58,10,FALSE),0)) -> 0 | N74: =O74+P66 -> 0 | O74: =D74*(IFERROR(VLOOKUP(C74,$C$45:$Q$58,12,FALSE),0)) -> 0 | P74: =D74*(IFERROR(VLOOKUP(C74,$C$45:$Q$58,13,FALSE),0)) -> 0 | Q74: =D74*(IFERROR(VLOOKUP(C74,$C$45:$Q$58,14,FALSE),0)) -> 0 | R74: =D74*(IFERROR(VLOOKUP(C74,$C$45:$Q$58,15,FALSE),0)) -> 0 | S74: =IF(F74>0,F74,G74) -> 0 | T74: =IF(D74="","",D74*$D$9) | U74: =IF(D74="","",E74) | V74: =IF(D74="","",D74*(VLOOKUP(C74,$C$45:$M$58,11,FALSE))) | W74: =IF(T74="","",T74*(VLOOKUP(C74,$C$45:$M$58,11,FALSE))) | Y74: =IF(C74=$C$45,V74,"") | Z74: =IF(C74=$C$46,V74,"") | AA74: =IF(C74=$C$47,V74,"") | AB74: =IF(C74=$C$48,V74,"") | AC74: =IF(C74=$C$49,V74,"") | AD74: =IF(C74=$C$50,V74,"") | AE74: =IF(C74=$C$51,V74,"") | AF74: =IF(C74=$C$52,V74,"") | AG74: =IF(C74=$C$53,V74,"") | AH74: =IF(C74=$C$54,V74,"") | AI74: =IF(C74=$C$55,V74,"") | AJ74: =IF(C74=$C$56,V74,"") | AK74: =IF(C74=$C$57,V74,"") | AL74: =IF(C74=$C$58,V74,"")
E75: =_xlfn.IFNA(VLOOKUP(C75,'Te gebruiken meststoffen'!$R$3:$AC$10,12,FALSE),"") | F75: =D75*(IFERROR(VLOOKUP(C75,$C$45:$Q$58,3,FALSE),0)) -> 0 | G75: =O75 -> 0 | H75: =D75*(IFERROR(VLOOKUP(C75,$C$45:$Q$58,5,FALSE),0)) -> 0 | I75: =D75*(IFERROR(VLOOKUP(C75,$C$45:$Q$58,6,FALSE),0)) -> 0 | J75: =D75*(IFERROR(VLOOKUP(C75,$C$45:$Q$58,7,FALSE),0)) -> 0 | K75: =D75*(IFERROR(VLOOKUP(C75,$C$45:$Q$58,8,FALSE),0)) -> 0 | L75: =D75*(IFERROR(VLOOKUP(C75,$C$45:$Q$58,9,FALSE),0)) -> 0 | M75: =D75*(IFERROR(VLOOKUP(C75,$C$45:$Q$58,10,FALSE),0)) -> 0 | N75: =O75+P67 -> 0 | O75: =D75*(IFERROR(VLOOKUP(C75,$C$45:$Q$58,12,FALSE),0)) -> 0 | P75: =D75*(IFERROR(VLOOKUP(C75,$C$45:$Q$58,13,FALSE),0)) -> 0 | Q75: =D75*(IFERROR(VLOOKUP(C75,$C$45:$Q$58,14,FALSE),0)) -> 0 | R75: =D75*(IFERROR(VLOOKUP(C75,$C$45:$Q$58,15,FALSE),0)) -> 0 | S75: =IF(F75>0,F75,G75) -> 0 | T75: =IF(D75="","",D75*$D$9) | U75: =IF(D75="","",E75) | V75: =IF(D75="","",D75*(VLOOKUP(C75,$C$45:$M$58,11,FALSE))) | W75: =IF(T75="","",T75*(VLOOKUP(C75,$C$45:$M$58,11,FALSE))) | Y75: =IF(C75=$C$45,V75,"") | Z75: =IF(C75=$C$46,V75,"") | AA75: =IF(C75=$C$47,V75,"") | AB75: =IF(C75=$C$48,V75,"") | AC75: =IF(C75=$C$49,V75,"") | AD75: =IF(C75=$C$50,V75,"") | AE75: =IF(C75=$C$51,V75,"") | AF75: =IF(C75=$C$52,V75,"") | AG75: =IF(C75=$C$53,V75,"") | AH75: =IF(C75=$C$54,V75,"") | AI75: =IF(C75=$C$55,V75,"") | AJ75: =IF(C75=$C$56,V75,"") | AK75: =IF(C75=$C$57,V75,"") | AL75: =IF(C75=$C$58,V75,"")
E76: =_xlfn.IFNA(VLOOKUP(C76,'Te gebruiken meststoffen'!$R$3:$AC$10,12,FALSE),"") | F76: =D76*(IFERROR(VLOOKUP(C76,$C$45:$Q$58,3,FALSE),0)) -> 0 | G76: =O76 -> 0 | H76: =D76*(IFERROR(VLOOKUP(C76,$C$45:$Q$58,5,FALSE),0)) -> 0 | I76: =D76*(IFERROR(VLOOKUP(C76,$C$45:$Q$58,6,FALSE),0)) -> 0 | J76: =D76*(IFERROR(VLOOKUP(C76,$C$45:$Q$58,7,FALSE),0)) -> 0 | K76: =D76*(IFERROR(VLOOKUP(C76,$C$45:$Q$58,8,FALSE),0)) -> 0 | L76: =D76*(IFERROR(VLOOKUP(C76,$C$45:$Q$58,9,FALSE),0)) -> 0 | M76: =D76*(IFERROR(VLOOKUP(C76,$C$45:$Q$58,10,FALSE),0)) -> 0 | N76: =O76+P68 -> 0 | O76: =D76*(IFERROR(VLOOKUP(C76,$C$45:$Q$58,12,FALSE),0)) -> 0 | P76: =D76*(IFERROR(VLOOKUP(C76,$C$45:$Q$58,13,FALSE),0)) -> 0 | Q76: =D76*(IFERROR(VLOOKUP(C76,$C$45:$Q$58,14,FALSE),0)) -> 0 | R76: =D76*(IFERROR(VLOOKUP(C76,$C$45:$Q$58,15,FALSE),0)) -> 0 | S76: =IF(F76>0,F76,G76) -> 0 | T76: =IF(D76="","",D76*$D$9) | U76: =IF(D76="","",E76) | V76: =IF(D76="","",D76*(VLOOKUP(C76,$C$45:$M$58,11,FALSE))) | W76: =IF(T76="","",T76*(VLOOKUP(C76,$C$45:$M$58,11,FALSE))) | Y76: =IF(C76=$C$45,V76,"") | Z76: =IF(C76=$C$46,V76,"") | AA76: =IF(C76=$C$47,V76,"") | AB76: =IF(C76=$C$48,V76,"") | AC76: =IF(C76=$C$49,V76,"") | AD76: =IF(C76=$C$50,V76,"") | AE76: =IF(C76=$C$51,V76,"") | AF76: =IF(C76=$C$52,V76,"") | AG76: =IF(C76=$C$53,V76,"") | AH76: =IF(C76=$C$54,V76,"") | AI76: =IF(C76=$C$55,V76,"") | AJ76: =IF(C76=$C$56,V76,"") | AK76: =IF(C76=$C$57,V76,"") | AL76: =IF(C76=$C$58,V76,"")
E77: Totaal voor 2de snede | F77: =SUM(F71:F76) -> 0 | G77: =SUM(G70:G76) -> 0 | H77: =SUM(H71:H76) -> 0 | I77: =SUM(I71:I76) -> 0 | J77: =SUM(J71:J76) -> 0 | K77: =SUM(K71:K76) -> 0 | L77: =SUM(L71:L76) -> 0 | M77: =SUM(M71:M76) -> 0 | N77: =SUM(P63:P68,O71:O76) -> 0 | V77: =SUM(V71:V76) -> 0 | W77: =SUM(W71:W76) -> 0
A78: Datum toepassing | C78: Voor 3de snede | D78: Nwerkzaam uit bemesting vorige snedes | G78: =N85-SUM(G79:G84) -> 0 | S78: =SUM(S79:S84) -> 0
E79: =_xlfn.IFNA(VLOOKUP(C79,'Te gebruiken meststoffen'!$R$3:$AC$10,12,FALSE),"") | F79: =D79*(IFERROR(VLOOKUP(C79,$C$45:$Q$58,3,FALSE),0)) -> 0 | G79: =O79 -> 0 | H79: =D79*(IFERROR(VLOOKUP(C79,$C$45:$Q$58,5,FALSE),0)) -> 0 | I79: =D79*(IFERROR(VLOOKUP(C79,$C$45:$Q$58,6,FALSE),0)) -> 0 | J79: =D79*(IFERROR(VLOOKUP(C79,$C$45:$Q$58,7,FALSE),0)) -> 0 | K79: =D79*(IFERROR(VLOOKUP(C79,$C$45:$Q$58,8,FALSE),0)) -> 0 | L79: =D79*(IFERROR(VLOOKUP(C79,$C$45:$Q$58,9,FALSE),0)) -> 0 | M79: =D79*(IFERROR(VLOOKUP(C79,$C$45:$Q$58,10,FALSE),0)) -> 0 | N79: =O79+P71+Q63 -> 0 | O79: =D79*(IFERROR(VLOOKUP(C79,$C$45:$Q$58,12,FALSE),0)) -> 0 | P79: =D79*(IFERROR(VLOOKUP(C79,$C$45:$Q$58,13,FALSE),0)) -> 0 | Q79: =D79*(IFERROR(VLOOKUP(C79,$C$45:$Q$58,14,FALSE),0)) -> 0 | R79: =D79*(IFERROR(VLOOKUP(C79,$C$45:$Q$58,15,FALSE),0)) -> 0 | S79: =IF(F79>0,F79,G79) -> 0 | T79: =IF(D79="","",D79*$D$9) | U79: =IF(D79="","",E79) | V79: =IF(D79="","",D79*(VLOOKUP(C79,$C$45:$M$58,11,FALSE))) | W79: =IF(T79="","",T79*(VLOOKUP(C79,$C$45:$M$58,11,FALSE))) | Y79: =IF(C79=$C$45,V79,"") | Z79: =IF(C79=$C$46,V79,"") | AA79: =IF(C79=$C$47,V79,"") | AB79: =IF(C79=$C$48,V79,"") | AC79: =IF(C79=$C$49,V79,"") | AD79: =IF(C79=$C$50,V79,"") | AE79: =IF(C79=$C$51,V79,"") | AF79: =IF(C79=$C$52,V79,"") | AG79: =IF(C79=$C$53,V79,"") | AH79: =IF(C79=$C$54,V79,"") | AI79: =IF(C79=$C$55,V79,"") | AJ79: =IF(C79=$C$56,V79,"") | AK79: =IF(C79=$C$57,V79,"") | AL79: =IF(C79=$C$58,V79,"")
E80: =_xlfn.IFNA(VLOOKUP(C80,'Te gebruiken meststoffen'!$R$3:$AC$10,12,FALSE),"") | F80: =D80*(IFERROR(VLOOKUP(C80,$C$45:$Q$58,3,FALSE),0)) -> 0 | G80: =O80 -> 0 | H80: =D80*(IFERROR(VLOOKUP(C80,$C$45:$Q$58,5,FALSE),0)) -> 0 | I80: =D80*(IFERROR(VLOOKUP(C80,$C$45:$Q$58,6,FALSE),0)) -> 0 | J80: =D80*(IFERROR(VLOOKUP(C80,$C$45:$Q$58,7,FALSE),0)) -> 0 | K80: =D80*(IFERROR(VLOOKUP(C80,$C$45:$Q$58,8,FALSE),0)) -> 0 | L80: =D80*(IFERROR(VLOOKUP(C80,$C$45:$Q$58,9,FALSE),0)) -> 0 | M80: =D80*(IFERROR(VLOOKUP(C80,$C$45:$Q$58,10,FALSE),0)) -> 0 | N80: =O80+P72+Q64 -> 0 | O80: =D80*(IFERROR(VLOOKUP(C80,$C$45:$Q$58,12,FALSE),0)) -> 0 | P80: =D80*(IFERROR(VLOOKUP(C80,$C$45:$Q$58,13,FALSE),0)) -> 0 | Q80: =D80*(IFERROR(VLOOKUP(C80,$C$45:$Q$58,14,FALSE),0)) -> 0 | R80: =D80*(IFERROR(VLOOKUP(C80,$C$45:$Q$58,15,FALSE),0)) -> 0 | S80: =IF(F80>0,F80,G80) -> 0 | T80: =IF(D80="","",D80*$D$9) | U80: =IF(D80="","",E80) | V80: =IF(D80="","",D80*(VLOOKUP(C80,$C$45:$M$58,11,FALSE))) | W80: =IF(T80="","",T80*(VLOOKUP(C80,$C$45:$M$58,11,FALSE))) | Y80: =IF(C80=$C$45,V80,"") | Z80: =IF(C80=$C$46,V80,"") | AA80: =IF(C80=$C$47,V80,"") | AB80: =IF(C80=$C$48,V80,"") | AC80: =IF(C80=$C$49,V80,"") | AD80: =IF(C80=$C$50,V80,"") | AE80: =IF(C80=$C$51,V80,"") | AF80: =IF(C80=$C$52,V80,"") | AG80: =IF(C80=$C$53,V80,"") | AH80: =IF(C80=$C$54,V80,"") | AI80: =IF(C80=$C$55,V80,"") | AJ80: =IF(C80=$C$56,V80,"") | AK80: =IF(C80=$C$57,V80,"") | AL80: =IF(C80=$C$58,V80,"")
E81: =_xlfn.IFNA(VLOOKUP(C81,'Te gebruiken meststoffen'!$R$3:$AC$10,12,FALSE),"") | F81: =D81*(IFERROR(VLOOKUP(C81,$C$45:$Q$58,3,FALSE),0)) -> 0 | G81: =O81 -> 0 | H81: =D81*(IFERROR(VLOOKUP(C81,$C$45:$Q$58,5,FALSE),0)) -> 0 | I81: =D81*(IFERROR(VLOOKUP(C81,$C$45:$Q$58,6,FALSE),0)) -> 0 | J81: =D81*(IFERROR(VLOOKUP(C81,$C$45:$Q$58,7,FALSE),0)) -> 0 | K81: =D81*(IFERROR(VLOOKUP(C81,$C$45:$Q$58,8,FALSE),0)) -> 0 | L81: =D81*(IFERROR(VLOOKUP(C81,$C$45:$Q$58,9,FALSE),0)) -> 0 | M81: =D81*(IFERROR(VLOOKUP(C81,$C$45:$Q$58,10,FALSE),0)) -> 0 | N81: =O81+P73+Q65 -> 0 | O81: =D81*(IFERROR(VLOOKUP(C81,$C$45:$Q$58,12,FALSE),0)) -> 0 | P81: =D81*(IFERROR(VLOOKUP(C81,$C$45:$Q$58,13,FALSE),0)) -> 0 | Q81: =D81*(IFERROR(VLOOKUP(C81,$C$45:$Q$58,14,FALSE),0)) -> 0 | R81: =D81*(IFERROR(VLOOKUP(C81,$C$45:$Q$58,15,FALSE),0)) -> 0 | S81: =IF(F81>0,F81,G81) -> 0 | T81: =IF(D81="","",D81*$D$9) | U81: =IF(D81="","",E81) | V81: =IF(D81="","",D81*(VLOOKUP(C81,$C$45:$M$58,11,FALSE))) | W81: =IF(T81="","",T81*(VLOOKUP(C81,$C$45:$M$58,11,FALSE))) | Y81: =IF(C81=$C$45,V81,"") | Z81: =IF(C81=$C$46,V81,"") | AA81: =IF(C81=$C$47,V81,"") | AB81: =IF(C81=$C$48,V81,"") | AC81: =IF(C81=$C$49,V81,"") | AD81: =IF(C81=$C$50,V81,"") | AE81: =IF(C81=$C$51,V81,"") | AF81: =IF(C81=$C$52,V81,"") | AG81: =IF(C81=$C$53,V81,"") | AH81: =IF(C81=$C$54,V81,"") | AI81: =IF(C81=$C$55,V81,"") | AJ81: =IF(C81=$C$56,V81,"") | AK81: =IF(C81=$C$57,V81,"") | AL81: =IF(C81=$C$58,V81,"")
E82: =_xlfn.IFNA(VLOOKUP(C82,'Te gebruiken meststoffen'!$R$3:$AC$10,12,FALSE),"") | F82: =D82*(IFERROR(VLOOKUP(C82,$C$45:$Q$58,3,FALSE),0)) -> 0 | G82: =O82 -> 0 | H82: =D82*(IFERROR(VLOOKUP(C82,$C$45:$Q$58,5,FALSE),0)) -> 0 | I82: =D82*(IFERROR(VLOOKUP(C82,$C$45:$Q$58,6,FALSE),0)) -> 0 | J82: =D82*(IFERROR(VLOOKUP(C82,$C$45:$Q$58,7,FALSE),0)) -> 0 | K82: =D82*(IFERROR(VLOOKUP(C82,$C$45:$Q$58,8,FALSE),0)) -> 0 | L82: =D82*(IFERROR(VLOOKUP(C82,$C$45:$Q$58,9,FALSE),0)) -> 0 | M82: =D82*(IFERROR(VLOOKUP(C82,$C$45:$Q$58,10,FALSE),0)) -> 0 | N82: =O82+P74+Q66 -> 0 | O82: =D82*(IFERROR(VLOOKUP(C82,$C$45:$Q$58,12,FALSE),0)) -> 0 | P82: =D82*(IFERROR(VLOOKUP(C82,$C$45:$Q$58,13,FALSE),0)) -> 0 | Q82: =D82*(IFERROR(VLOOKUP(C82,$C$45:$Q$58,14,FALSE),0)) -> 0 | R82: =D82*(IFERROR(VLOOKUP(C82,$C$45:$Q$58,15,FALSE),0)) -> 0 | S82: =IF(F82>0,F82,G82) -> 0 | T82: =IF(D82="","",D82*$D$9) | U82: =IF(D82="","",E82) | V82: =IF(D82="","",D82*(VLOOKUP(C82,$C$45:$M$58,11,FALSE))) | W82: =IF(T82="","",T82*(VLOOKUP(C82,$C$45:$M$58,11,FALSE))) | Y82: =IF(C82=$C$45,V82,"") | Z82: =IF(C82=$C$46,V82,"") | AA82: =IF(C82=$C$47,V82,"") | AB82: =IF(C82=$C$48,V82,"") | AC82: =IF(C82=$C$49,V82,"") | AD82: =IF(C82=$C$50,V82,"") | AE82: =IF(C82=$C$51,V82,"") | AF82: =IF(C82=$C$52,V82,"") | AG82: =IF(C82=$C$53,V82,"") | AH82: =IF(C82=$C$54,V82,"") | AI82: =IF(C82=$C$55,V82,"") | AJ82: =IF(C82=$C$56,V82,"") | AK82: =IF(C82=$C$57,V82,"") | AL82: =IF(C82=$C$58,V82,"")
E83: =_xlfn.IFNA(VLOOKUP(C83,'Te gebruiken meststoffen'!$R$3:$AC$10,12,FALSE),"") | F83: =D83*(IFERROR(VLOOKUP(C83,$C$45:$Q$58,3,FALSE),0)) -> 0 | G83: =O83 -> 0 | H83: =D83*(IFERROR(VLOOKUP(C83,$C$45:$Q$58,5,FALSE),0)) -> 0 | I83: =D83*(IFERROR(VLOOKUP(C83,$C$45:$Q$58,6,FALSE),0)) -> 0 | J83: =D83*(IFERROR(VLOOKUP(C83,$C$45:$Q$58,7,FALSE),0)) -> 0 | K83: =D83*(IFERROR(VLOOKUP(C83,$C$45:$Q$58,8,FALSE),0)) -> 0 | L83: =D83*(IFERROR(VLOOKUP(C83,$C$45:$Q$58,9,FALSE),0)) -> 0 | M83: =D83*(IFERROR(VLOOKUP(C83,$C$45:$Q$58,10,FALSE),0)) -> 0 | N83: =O83+P75+Q67 -> 0 | O83: =D83*(IFERROR(VLOOKUP(C83,$C$45:$Q$58,12,FALSE),0)) -> 0 | P83: =D83*(IFERROR(VLOOKUP(C83,$C$45:$Q$58,13,FALSE),0)) -> 0 | Q83: =D83*(IFERROR(VLOOKUP(C83,$C$45:$Q$58,14,FALSE),0)) -> 0 | R83: =D83*(IFERROR(VLOOKUP(C83,$C$45:$Q$58,15,FALSE),0)) -> 0 | S83: =IF(F83>0,F83,G83) -> 0 | T83: =IF(D83="","",D83*$D$9) | U83: =IF(D83="","",E83) | V83: =IF(D83="","",D83*(VLOOKUP(C83,$C$45:$M$58,11,FALSE))) | W83: =IF(T83="","",T83*(VLOOKUP(C83,$C$45:$M$58,11,FALSE))) | Y83: =IF(C83=$C$45,V83,"") | Z83: =IF(C83=$C$46,V83,"") | AA83: =IF(C83=$C$47,V83,"") | AB83: =IF(C83=$C$48,V83,"") | AC83: =IF(C83=$C$49,V83,"") | AD83: =IF(C83=$C$50,V83,"") | AE83: =IF(C83=$C$51,V83,"") | AF83: =IF(C83=$C$52,V83,"") | AG83: =IF(C83=$C$53,V83,"") | AH83: =IF(C83=$C$54,V83,"") | AI83: =IF(C83=$C$55,V83,"") | AJ83: =IF(C83=$C$56,V83,"") | AK83: =IF(C83=$C$57,V83,"") | AL83: =IF(C83=$C$58,V83,"")
E84: =_xlfn.IFNA(VLOOKUP(C84,'Te gebruiken meststoffen'!$R$3:$AC$10,12,FALSE),"") | F84: =D84*(IFERROR(VLOOKUP(C84,$C$45:$Q$58,3,FALSE),0)) -> 0 | G84: =O84 -> 0 | H84: =D84*(IFERROR(VLOOKUP(C84,$C$45:$Q$58,5,FALSE),0)) -> 0 | I84: =D84*(IFERROR(VLOOKUP(C84,$C$45:$Q$58,6,FALSE),0)) -> 0 | J84: =D84*(IFERROR(VLOOKUP(C84,$C$45:$Q$58,7,FALSE),0)) -> 0 | K84: =D84*(IFERROR(VLOOKUP(C84,$C$45:$Q$58,8,FALSE),0)) -> 0 | L84: =D84*(IFERROR(VLOOKUP(C84,$C$45:$Q$58,9,FALSE),0)) -> 0 | M84: =D84*(IFERROR(VLOOKUP(C84,$C$45:$Q$58,10,FALSE),0)) -> 0 | N84: =O84+P76+Q68 -> 0 | O84: =D84*(IFERROR(VLOOKUP(C84,$C$45:$Q$58,12,FALSE),0)) -> 0 | P84: =D84*(IFERROR(VLOOKUP(C84,$C$45:$Q$58,13,FALSE),0)) -> 0 | Q84: =D84*(IFERROR(VLOOKUP(C84,$C$45:$Q$58,14,FALSE),0)) -> 0 | R84: =D84*(IFERROR(VLOOKUP(C84,$C$45:$Q$58,15,FALSE),0)) -> 0 | S84: =IF(F84>0,F84,G84) -> 0 | T84: =IF(D84="","",D84*$D$9) | U84: =IF(D84="","",E84) | V84: =IF(D84="","",D84*(VLOOKUP(C84,$C$45:$M$58,11,FALSE))) | W84: =IF(T84="","",T84*(VLOOKUP(C84,$C$45:$M$58,11,FALSE))) | Y84: =IF(C84=$C$45,V84,"") | Z84: =IF(C84=$C$46,V84,"") | AA84: =IF(C84=$C$47,V84,"") | AB84: =IF(C84=$C$48,V84,"") | AC84: =IF(C84=$C$49,V84,"") | AD84: =IF(C84=$C$50,V84,"") | AE84: =IF(C84=$C$51,V84,"") | AF84: =IF(C84=$C$52,V84,"") | AG84: =IF(C84=$C$53,V84,"") | AH84: =IF(C84=$C$54,V84,"") | AI84: =IF(C84=$C$55,V84,"") | AJ84: =IF(C84=$C$56,V84,"") | AK84: =IF(C84=$C$57,V84,"") | AL84: =IF(C84=$C$58,V84,"")
E85: Totaal voor 3de snede | F85: =SUM(F79:F84) -> 0 | G85: =SUM(G78:G84) -> 0 | H85: =SUM(H79:H84) -> 0 | I85: =SUM(I79:I84) -> 0 | J85: =SUM(J79:J84) -> 0 | K85: =SUM(K79:K84) -> 0 | L85: =SUM(L79:L84) -> 0 | M85: =SUM(M79:M84) -> 0 | N85: =SUM(O79:O84,P71:P76,Q63:Q68) -> 0 | V85: =SUM(V79:V84) -> 0 | W85: =SUM(W79:W84) -> 0
A86: Datum toepassing | C86: Voor 4de snede | D86: Nwerkzaam uit bemesting vorige snedes | G86: =N93-SUM(G87:G92) -> 0 | S86: =SUM(S87:S92) -> 0
E87: =_xlfn.IFNA(VLOOKUP(C87,'Te gebruiken meststoffen'!$R$3:$AC$10,12,FALSE),"") | F87: =D87*(IFERROR(VLOOKUP(C87,$C$45:$Q$58,3,FALSE),0)) -> 0 | G87: =O87 -> 0 | H87: =D87*(IFERROR(VLOOKUP(C87,$C$45:$Q$58,5,FALSE),0)) -> 0 | I87: =D87*(IFERROR(VLOOKUP(C87,$C$45:$Q$58,6,FALSE),0)) -> 0 | J87: =D87*(IFERROR(VLOOKUP(C87,$C$45:$Q$58,7,FALSE),0)) -> 0 | K87: =D87*(IFERROR(VLOOKUP(C87,$C$45:$Q$58,8,FALSE),0)) -> 0 | L87: =D87*(IFERROR(VLOOKUP(C87,$C$45:$Q$58,9,FALSE),0)) -> 0 | M87: =D87*(IFERROR(VLOOKUP(C87,$C$45:$Q$58,10,FALSE),0)) -> 0 | N87: =O87+P79+Q71+R63 -> 0 | O87: =D87*(IFERROR(VLOOKUP(C87,$C$45:$Q$58,12,FALSE),0)) -> 0 | P87: =D87*(IFERROR(VLOOKUP(C87,$C$45:$Q$58,13,FALSE),0)) -> 0 | Q87: =D87*(IFERROR(VLOOKUP(C87,$C$45:$Q$58,14,FALSE),0)) -> 0 | R87: =D87*(IFERROR(VLOOKUP(C87,$C$45:$Q$58,15,FALSE),0)) -> 0 | S87: =IF(F87>0,F87,G87) -> 0 | T87: =IF(D87="","",D87*$D$9) | U87: =IF(D87="","",E87) | V87: =IF(D87="","",D87*(VLOOKUP(C87,$C$45:$M$58,11,FALSE))) | W87: =IF(T87="","",T87*(VLOOKUP(C87,$C$45:$M$58,11,FALSE))) | Y87: =IF(C87=$C$45,V87,"") | Z87: =IF(C87=$C$46,V87,"") | AA87: =IF(C87=$C$47,V87,"") | AB87: =IF(C87=$C$48,V87,"") | AC87: =IF(C87=$C$49,V87,"") | AD87: =IF(C87=$C$50,V87,"") | AE87: =IF(C87=$C$51,V87,"") | AF87: =IF(C87=$C$52,V87,"") | AG87: =IF(C87=$C$53,V87,"") | AH87: =IF(C87=$C$54,V87,"") | AI87: =IF(C87=$C$55,V87,"") | AJ87: =IF(C87=$C$56,V87,"") | AK87: =IF(C87=$C$57,V87,"") | AL87: =IF(C87=$C$58,V87,"")
E88: =_xlfn.IFNA(VLOOKUP(C88,'Te gebruiken meststoffen'!$R$3:$AC$10,12,FALSE),"") | F88: =D88*(IFERROR(VLOOKUP(C88,$C$45:$Q$58,3,FALSE),0)) -> 0 | G88: =O88 -> 0 | H88: =D88*(IFERROR(VLOOKUP(C88,$C$45:$Q$58,5,FALSE),0)) -> 0 | I88: =D88*(IFERROR(VLOOKUP(C88,$C$45:$Q$58,6,FALSE),0)) -> 0 | J88: =D88*(IFERROR(VLOOKUP(C88,$C$45:$Q$58,7,FALSE),0)) -> 0 | K88: =D88*(IFERROR(VLOOKUP(C88,$C$45:$Q$58,8,FALSE),0)) -> 0 | L88: =D88*(IFERROR(VLOOKUP(C88,$C$45:$Q$58,9,FALSE),0)) -> 0 | M88: =D88*(IFERROR(VLOOKUP(C88,$C$45:$Q$58,10,FALSE),0)) -> 0 | N88: =O88+P80+Q72+R64 -> 0 | O88: =D88*(IFERROR(VLOOKUP(C88,$C$45:$Q$58,12,FALSE),0)) -> 0 | P88: =D88*(IFERROR(VLOOKUP(C88,$C$45:$Q$58,13,FALSE),0)) -> 0 | Q88: =D88*(IFERROR(VLOOKUP(C88,$C$45:$Q$58,14,FALSE),0)) -> 0 | R88: =D88*(IFERROR(VLOOKUP(C88,$C$45:$Q$58,15,FALSE),0)) -> 0 | S88: =IF(F88>0,F88,G88) -> 0 | T88: =IF(D88="","",D88*$D$9) | U88: =IF(D88="","",E88) | V88: =IF(D88="","",D88*(VLOOKUP(C88,$C$45:$M$58,11,FALSE))) | W88: =IF(T88="","",T88*(VLOOKUP(C88,$C$45:$M$58,11,FALSE))) | Y88: =IF(C88=$C$45,V88,"") | Z88: =IF(C88=$C$46,V88,"") | AA88: =IF(C88=$C$47,V88,"") | AB88: =IF(C88=$C$48,V88,"") | AC88: =IF(C88=$C$49,V88,"") | AD88: =IF(C88=$C$50,V88,"") | AE88: =IF(C88=$C$51,V88,"") | AF88: =IF(C88=$C$52,V88,"") | AG88: =IF(C88=$C$53,V88,"") | AH88: =IF(C88=$C$54,V88,"") | AI88: =IF(C88=$C$55,V88,"") | AJ88: =IF(C88=$C$56,V88,"") | AK88: =IF(C88=$C$57,V88,"") | AL88: =IF(C88=$C$58,V88,"")
E89: =_xlfn.IFNA(VLOOKUP(C89,'Te gebruiken meststoffen'!$R$3:$AC$10,12,FALSE),"") | F89: =D89*(IFERROR(VLOOKUP(C89,$C$45:$Q$58,3,FALSE),0)) -> 0 | G89: =O89 -> 0 | H89: =D89*(IFERROR(VLOOKUP(C89,$C$45:$Q$58,5,FALSE),0)) -> 0 | I89: =D89*(IFERROR(VLOOKUP(C89,$C$45:$Q$58,6,FALSE),0)) -> 0 | J89: =D89*(IFERROR(VLOOKUP(C89,$C$45:$Q$58,7,FALSE),0)) -> 0 | K89: =D89*(IFERROR(VLOOKUP(C89,$C$45:$Q$58,8,FALSE),0)) -> 0 | L89: =D89*(IFERROR(VLOOKUP(C89,$C$45:$Q$58,9,FALSE),0)) -> 0 | M89: =D89*(IFERROR(VLOOKUP(C89,$C$45:$Q$58,10,FALSE),0)) -> 0 | N89: =O89+P81+Q73+R65 -> 0 | O89: =D89*(IFERROR(VLOOKUP(C89,$C$45:$Q$58,12,FALSE),0)) -> 0 | P89: =D89*(IFERROR(VLOOKUP(C89,$C$45:$Q$58,13,FALSE),0)) -> 0 | Q89: =D89*(IFERROR(VLOOKUP(C89,$C$45:$Q$58,14,FALSE),0)) -> 0 | R89: =D89*(IFERROR(VLOOKUP(C89,$C$45:$Q$58,15,FALSE),0)) -> 0 | S89: =IF(F89>0,F89,G89) -> 0 | T89: =IF(D89="","",D89*$D$9) | U89: =IF(D89="","",E89) | V89: =IF(D89="","",D89*(VLOOKUP(C89,$C$45:$M$58,11,FALSE))) | W89: =IF(T89="","",T89*(VLOOKUP(C89,$C$45:$M$58,11,FALSE))) | Y89: =IF(C89=$C$45,V89,"") | Z89: =IF(C89=$C$46,V89,"") | AA89: =IF(C89=$C$47,V89,"") | AB89: =IF(C89=$C$48,V89,"") | AC89: =IF(C89=$C$49,V89,"") | AD89: =IF(C89=$C$50,V89,"") | AE89: =IF(C89=$C$51,V89,"") | AF89: =IF(C89=$C$52,V89,"") | AG89: =IF(C89=$C$53,V89,"") | AH89: =IF(C89=$C$54,V89,"") | AI89: =IF(C89=$C$55,V89,"") | AJ89: =IF(C89=$C$56,V89,"") | AK89: =IF(C89=$C$57,V89,"") | AL89: =IF(C89=$C$58,V89,"")
E90: =_xlfn.IFNA(VLOOKUP(C90,'Te gebruiken meststoffen'!$R$3:$AC$10,12,FALSE),"") | F90: =D90*(IFERROR(VLOOKUP(C90,$C$45:$Q$58,3,FALSE),0)) -> 0 | G90: =O90 -> 0 | H90: =D90*(IFERROR(VLOOKUP(C90,$C$45:$Q$58,5,FALSE),0)) -> 0 | I90: =D90*(IFERROR(VLOOKUP(C90,$C$45:$Q$58,6,FALSE),0)) -> 0 | J90: =D90*(IFERROR(VLOOKUP(C90,$C$45:$Q$58,7,FALSE),0)) -> 0 | K90: =D90*(IFERROR(VLOOKUP(C90,$C$45:$Q$58,8,FALSE),0)) -> 0 | L90: =D90*(IFERROR(VLOOKUP(C90,$C$45:$Q$58,9,FALSE),0)) -> 0 | M90: =D90*(IFERROR(VLOOKUP(C90,$C$45:$Q$58,10,FALSE),0)) -> 0 | N90: =O90+P82+Q74+R66 -> 0 | O90: =D90*(IFERROR(VLOOKUP(C90,$C$45:$Q$58,12,FALSE),0)) -> 0 | P90: =D90*(IFERROR(VLOOKUP(C90,$C$45:$Q$58,13,FALSE),0)) -> 0 | Q90: =D90*(IFERROR(VLOOKUP(C90,$C$45:$Q$58,14,FALSE),0)) -> 0 | R90: =D90*(IFERROR(VLOOKUP(C90,$C$45:$Q$58,15,FALSE),0)) -> 0 | S90: =IF(F90>0,F90,G90) -> 0 | T90: =IF(D90="","",D90*$D$9) | U90: =IF(D90="","",E90) | V90: =IF(D90="","",D90*(VLOOKUP(C90,$C$45:$M$58,11,FALSE))) | W90: =IF(T90="","",T90*(VLOOKUP(C90,$C$45:$M$58,11,FALSE))) | Y90: =IF(C90=$C$45,V90,"") | Z90: =IF(C90=$C$46,V90,"") | AA90: =IF(C90=$C$47,V90,"") | AB90: =IF(C90=$C$48,V90,"") | AC90: =IF(C90=$C$49,V90,"") | AD90: =IF(C90=$C$50,V90,"") | AE90: =IF(C90=$C$51,V90,"") | AF90: =IF(C90=$C$52,V90,"") | AG90: =IF(C90=$C$53,V90,"") | AH90: =IF(C90=$C$54,V90,"") | AI90: =IF(C90=$C$55,V90,"") | AJ90: =IF(C90=$C$56,V90,"") | AK90: =IF(C90=$C$57,V90,"") | AL90: =IF(C90=$C$58,V90,"")
E91: =_xlfn.IFNA(VLOOKUP(C91,'Te gebruiken meststoffen'!$R$3:$AC$10,12,FALSE),"") | F91: =D91*(IFERROR(VLOOKUP(C91,$C$45:$Q$58,3,FALSE),0)) -> 0 | G91: =O91 -> 0 | H91: =D91*(IFERROR(VLOOKUP(C91,$C$45:$Q$58,5,FALSE),0)) -> 0 | I91: =D91*(IFERROR(VLOOKUP(C91,$C$45:$Q$58,6,FALSE),0)) -> 0 | J91: =D91*(IFERROR(VLOOKUP(C91,$C$45:$Q$58,7,FALSE),0)) -> 0 | K91: =D91*(IFERROR(VLOOKUP(C91,$C$45:$Q$58,8,FALSE),0)) -> 0 | L91: =D91*(IFERROR(VLOOKUP(C91,$C$45:$Q$58,9,FALSE),0)) -> 0 | M91: =D91*(IFERROR(VLOOKUP(C91,$C$45:$Q$58,10,FALSE),0)) -> 0 | N91: =O91+P83+Q75+R67 -> 0 | O91: =D91*(IFERROR(VLOOKUP(C91,$C$45:$Q$58,12,FALSE),0)) -> 0 | P91: =D91*(IFERROR(VLOOKUP(C91,$C$45:$Q$58,13,FALSE),0)) -> 0 | Q91: =D91*(IFERROR(VLOOKUP(C91,$C$45:$Q$58,14,FALSE),0)) -> 0 | R91: =D91*(IFERROR(VLOOKUP(C91,$C$45:$Q$58,15,FALSE),0)) -> 0 | S91: =IF(F91>0,F91,G91) -> 0 | T91: =IF(D91="","",D91*$D$9) | U91: =IF(D91="","",E91) | V91: =IF(D91="","",D91*(VLOOKUP(C91,$C$45:$M$58,11,FALSE))) | W91: =IF(T91="","",T91*(VLOOKUP(C91,$C$45:$M$58,11,FALSE))) | Y91: =IF(C91=$C$45,V91,"") | Z91: =IF(C91=$C$46,V91,"") | AA91: =IF(C91=$C$47,V91,"") | AB91: =IF(C91=$C$48,V91,"") | AC91: =IF(C91=$C$49,V91,"") | AD91: =IF(C91=$C$50,V91,"") | AE91: =IF(C91=$C$51,V91,"") | AF91: =IF(C91=$C$52,V91,"") | AG91: =IF(C91=$C$53,V91,"") | AH91: =IF(C91=$C$54,V91,"") | AI91: =IF(C91=$C$55,V91,"") | AJ91: =IF(C91=$C$56,V91,"") | AK91: =IF(C91=$C$57,V91,"") | AL91: =IF(C91=$C$58,V91,"")
E92: =_xlfn.IFNA(VLOOKUP(C92,'Te gebruiken meststoffen'!$R$3:$AC$10,12,FALSE),"") | F92: =D92*(IFERROR(VLOOKUP(C92,$C$45:$Q$58,3,FALSE),0)) -> 0 | G92: =O92 -> 0 | H92: =D92*(IFERROR(VLOOKUP(C92,$C$45:$Q$58,5,FALSE),0)) -> 0 | I92: =D92*(IFERROR(VLOOKUP(C92,$C$45:$Q$58,6,FALSE),0)) -> 0 | J92: =D92*(IFERROR(VLOOKUP(C92,$C$45:$Q$58,7,FALSE),0)) -> 0 | K92: =D92*(IFERROR(VLOOKUP(C92,$C$45:$Q$58,8,FALSE),0)) -> 0 | L92: =D92*(IFERROR(VLOOKUP(C92,$C$45:$Q$58,9,FALSE),0)) -> 0 | M92: =D92*(IFERROR(VLOOKUP(C92,$C$45:$Q$58,10,FALSE),0)) -> 0 | N92: =O92+P84+Q76+R68 -> 0 | O92: =D92*(IFERROR(VLOOKUP(C92,$C$45:$Q$58,12,FALSE),0)) -> 0 | P92: =D92*(IFERROR(VLOOKUP(C92,$C$45:$Q$58,13,FALSE),0)) -> 0 | Q92: =D92*(IFERROR(VLOOKUP(C92,$C$45:$Q$58,14,FALSE),0)) -> 0 | R92: =D92*(IFERROR(VLOOKUP(C92,$C$45:$Q$58,15,FALSE),0)) -> 0 | S92: =IF(F92>0,F92,G92) -> 0 | T92: =IF(D92="","",D92*$D$9) | U92: =IF(D92="","",E92) | V92: =IF(D92="","",D92*(VLOOKUP(C92,$C$45:$M$58,11,FALSE))) | W92: =IF(T92="","",T92*(VLOOKUP(C92,$C$45:$M$58,11,FALSE))) | Y92: =IF(C92=$C$45,V92,"") | Z92: =IF(C92=$C$46,V92,"") | AA92: =IF(C92=$C$47,V92,"") | AB92: =IF(C92=$C$48,V92,"") | AC92: =IF(C92=$C$49,V92,"") | AD92: =IF(C92=$C$50,V92,"") | AE92: =IF(C92=$C$51,V92,"") | AF92: =IF(C92=$C$52,V92,"") | AG92: =IF(C92=$C$53,V92,"") | AH92: =IF(C92=$C$54,V92,"") | AI92: =IF(C92=$C$55,V92,"") | AJ92: =IF(C92=$C$56,V92,"") | AK92: =IF(C92=$C$57,V92,"") | AL92: =IF(C92=$C$58,V92,"")
E93: Totaal voor 4de snede | F93: =SUM(F87:F92) -> 0 | G93: =SUM(G86:G92) -> 0 | H93: =SUM(H87:H92) -> 0 | I93: =SUM(I87:I92) -> 0 | J93: =SUM(J87:J92) -> 0 | K93: =SUM(K87:K92) -> 0 | L93: =SUM(L87:L92) -> 0 | M93: =SUM(M87:M92) -> 0 | N93: =SUM(O87:O92,P79:P84,Q71:Q76,R63:R68) -> 0 | V93: =SUM(V87:V92) -> 0 | W93: =SUM(W87:W92) -> 0
A94: Datum toepassing | C94: Voor 5de snede | D94: Nwerkzaam uit bemesting vorige snedes | G94: =N101-SUM(G95:G100) -> 0 | S94: =SUM(S95:S100) -> 0
E95: =_xlfn.IFNA(VLOOKUP(C95,'Te gebruiken meststoffen'!$R$3:$AC$10,12,FALSE),"") | F95: =D95*(IFERROR(VLOOKUP(C95,$C$45:$Q$58,3,FALSE),0)) -> 0 | G95: =O95 -> 0 | H95: =D95*(IFERROR(VLOOKUP(C95,$C$45:$Q$58,5,FALSE),0)) -> 0 | I95: =D95*(IFERROR(VLOOKUP(C95,$C$45:$Q$58,6,FALSE),0)) -> 0 | J95: =D95*(IFERROR(VLOOKUP(C95,$C$45:$Q$58,7,FALSE),0)) -> 0 | K95: =D95*(IFERROR(VLOOKUP(C95,$C$45:$Q$58,8,FALSE),0)) -> 0 | L95: =D95*(IFERROR(VLOOKUP(C95,$C$45:$Q$58,9,FALSE),0)) -> 0 | M95: =D95*(IFERROR(VLOOKUP(C95,$C$45:$Q$58,10,FALSE),0)) -> 0 | N95: =O95+P87+Q79+R71 -> 0 | O95: =D95*(IFERROR(VLOOKUP(C95,$C$45:$Q$58,12,FALSE),0)) -> 0 | P95: =D95*(IFERROR(VLOOKUP(C95,$C$45:$Q$58,13,FALSE),0)) -> 0 | Q95: =D95*(IFERROR(VLOOKUP(C95,$C$45:$Q$58,14,FALSE),0)) -> 0 | R95: =D95*(IFERROR(VLOOKUP(C95,$C$45:$Q$58,15,FALSE),0)) -> 0 | S95: =IF(F95>0,F95,G95) -> 0 | T95: =IF(D95="","",D95*$D$9) | U95: =IF(D95="","",E95) | V95: =IF(D95="","",D95*(VLOOKUP(C95,$C$45:$M$58,11,FALSE))) | W95: =IF(T95="","",T95*(VLOOKUP(C95,$C$45:$M$58,11,FALSE))) | Y95: =IF(C95=$C$45,V95,"") | Z95: =IF(C95=$C$46,V95,"") | AA95: =IF(C95=$C$47,V95,"") | AB95: =IF(C95=$C$48,V95,"") | AC95: =IF(C95=$C$49,V95,"") | AD95: =IF(C95=$C$50,V95,"") | AE95: =IF(C95=$C$51,V95,"") | AF95: =IF(C95=$C$52,V95,"") | AG95: =IF(C95=$C$53,V95,"") | AH95: =IF(C95=$C$54,V95,"") | AI95: =IF(C95=$C$55,V95,"") | AJ95: =IF(C95=$C$56,V95,"") | AK95: =IF(C95=$C$57,V95,"") | AL95: =IF(C95=$C$58,V95,"")
E96: =_xlfn.IFNA(VLOOKUP(C96,'Te gebruiken meststoffen'!$R$3:$AC$10,12,FALSE),"") | F96: =D96*(IFERROR(VLOOKUP(C96,$C$45:$Q$58,3,FALSE),0)) -> 0 | G96: =O96 -> 0 | H96: =D96*(IFERROR(VLOOKUP(C96,$C$45:$Q$58,5,FALSE),0)) -> 0 | I96: =D96*(IFERROR(VLOOKUP(C96,$C$45:$Q$58,6,FALSE),0)) -> 0 | J96: =D96*(IFERROR(VLOOKUP(C96,$C$45:$Q$58,7,FALSE),0)) -> 0 | K96: =D96*(IFERROR(VLOOKUP(C96,$C$45:$Q$58,8,FALSE),0)) -> 0 | L96: =D96*(IFERROR(VLOOKUP(C96,$C$45:$Q$58,9,FALSE),0)) -> 0 | M96: =D96*(IFERROR(VLOOKUP(C96,$C$45:$Q$58,10,FALSE),0)) -> 0 | N96: =O96+P88+Q80+R72 -> 0 | O96: =D96*(IFERROR(VLOOKUP(C96,$C$45:$Q$58,12,FALSE),0)) -> 0 | P96: =D96*(IFERROR(VLOOKUP(C96,$C$45:$Q$58,13,FALSE),0)) -> 0 | Q96: =D96*(IFERROR(VLOOKUP(C96,$C$45:$Q$58,14,FALSE),0)) -> 0 | R96: =D96*(IFERROR(VLOOKUP(C96,$C$45:$Q$58,15,FALSE),0)) -> 0 | S96: =IF(F96>0,F96,G96) -> 0 | T96: =IF(D96="","",D96*$D$9) | U96: =IF(D96="","",E96) | V96: =IF(D96="","",D96*(VLOOKUP(C96,$C$45:$M$58,11,FALSE))) | W96: =IF(T96="","",T96*(VLOOKUP(C96,$C$45:$M$58,11,FALSE))) | Y96: =IF(C96=$C$45,V96,"") | Z96: =IF(C96=$C$46,V96,"") | AA96: =IF(C96=$C$47,V96,"") | AB96: =IF(C96=$C$48,V96,"") | AC96: =IF(C96=$C$49,V96,"") | AD96: =IF(C96=$C$50,V96,"") | AE96: =IF(C96=$C$51,V96,"") | AF96: =IF(C96=$C$52,V96,"") | AG96: =IF(C96=$C$53,V96,"") | AH96: =IF(C96=$C$54,V96,"") | AI96: =IF(C96=$C$55,V96,"") | AJ96: =IF(C96=$C$56,V96,"") | AK96: =IF(C96=$C$57,V96,"") | AL96: =IF(C96=$C$58,V96,"")
E97: =_xlfn.IFNA(VLOOKUP(C97,'Te gebruiken meststoffen'!$R$3:$AC$10,12,FALSE),"") | F97: =D97*(IFERROR(VLOOKUP(C97,$C$45:$Q$58,3,FALSE),0)) -> 0 | G97: =O97 -> 0 | H97: =D97*(IFERROR(VLOOKUP(C97,$C$45:$Q$58,5,FALSE),0)) -> 0 | I97: =D97*(IFERROR(VLOOKUP(C97,$C$45:$Q$58,6,FALSE),0)) -> 0 | J97: =D97*(IFERROR(VLOOKUP(C97,$C$45:$Q$58,7,FALSE),0)) -> 0 | K97: =D97*(IFERROR(VLOOKUP(C97,$C$45:$Q$58,8,FALSE),0)) -> 0 | L97: =D97*(IFERROR(VLOOKUP(C97,$C$45:$Q$58,9,FALSE),0)) -> 0 | M97: =D97*(IFERROR(VLOOKUP(C97,$C$45:$Q$58,10,FALSE),0)) -> 0 | N97: =O97+P89+Q81+R73 -> 0 | O97: =D97*(IFERROR(VLOOKUP(C97,$C$45:$Q$58,12,FALSE),0)) -> 0 | P97: =D97*(IFERROR(VLOOKUP(C97,$C$45:$Q$58,13,FALSE),0)) -> 0 | Q97: =D97*(IFERROR(VLOOKUP(C97,$C$45:$Q$58,14,FALSE),0)) -> 0 | R97: =D97*(IFERROR(VLOOKUP(C97,$C$45:$Q$58,15,FALSE),0)) -> 0 | S97: =IF(F97>0,F97,G97) -> 0 | T97: =IF(D97="","",D97*$D$9) | U97: =IF(D97="","",E97) | V97: =IF(D97="","",D97*(VLOOKUP(C97,$C$45:$M$58,11,FALSE))) | W97: =IF(T97="","",T97*(VLOOKUP(C97,$C$45:$M$58,11,FALSE))) | Y97: =IF(C97=$C$45,V97,"") | Z97: =IF(C97=$C$46,V97,"") | AA97: =IF(C97=$C$47,V97,"") | AB97: =IF(C97=$C$48,V97,"") | AC97: =IF(C97=$C$49,V97,"") | AD97: =IF(C97=$C$50,V97,"") | AE97: =IF(C97=$C$51,V97,"") | AF97: =IF(C97=$C$52,V97,"") | AG97: =IF(C97=$C$53,V97,"") | AH97: =IF(C97=$C$54,V97,"") | AI97: =IF(C97=$C$55,V97,"") | AJ97: =IF(C97=$C$56,V97,"") | AK97: =IF(C97=$C$57,V97,"") | AL97: =IF(C97=$C$58,V97,"")
E98: =_xlfn.IFNA(VLOOKUP(C98,'Te gebruiken meststoffen'!$R$3:$AC$10,12,FALSE),"") | F98: =D98*(IFERROR(VLOOKUP(C98,$C$45:$Q$58,3,FALSE),0)) -> 0 | G98: =O98 -> 0 | H98: =D98*(IFERROR(VLOOKUP(C98,$C$45:$Q$58,5,FALSE),0)) -> 0 | I98: =D98*(IFERROR(VLOOKUP(C98,$C$45:$Q$58,6,FALSE),0)) -> 0 | J98: =D98*(IFERROR(VLOOKUP(C98,$C$45:$Q$58,7,FALSE),0)) -> 0 | K98: =D98*(IFERROR(VLOOKUP(C98,$C$45:$Q$58,8,FALSE),0)) -> 0 | L98: =D98*(IFERROR(VLOOKUP(C98,$C$45:$Q$58,9,FALSE),0)) -> 0 | M98: =D98*(IFERROR(VLOOKUP(C98,$C$45:$Q$58,10,FALSE),0)) -> 0 | N98: =O98+P90+Q82+R74 -> 0 | O98: =D98*(IFERROR(VLOOKUP(C98,$C$45:$Q$58,12,FALSE),0)) -> 0 | P98: =D98*(IFERROR(VLOOKUP(C98,$C$45:$Q$58,13,FALSE),0)) -> 0 | Q98: =D98*(IFERROR(VLOOKUP(C98,$C$45:$Q$58,14,FALSE),0)) -> 0 | R98: =D98*(IFERROR(VLOOKUP(C98,$C$45:$Q$58,15,FALSE),0)) -> 0 | S98: =IF(F98>0,F98,G98) -> 0 | T98: =IF(D98="","",D98*$D$9) | U98: =IF(D98="","",E98) | V98: =IF(D98="","",D98*(VLOOKUP(C98,$C$45:$M$58,11,FALSE))) | W98: =IF(T98="","",T98*(VLOOKUP(C98,$C$45:$M$58,11,FALSE))) | Y98: =IF(C98=$C$45,V98,"") | Z98: =IF(C98=$C$46,V98,"") | AA98: =IF(C98=$C$47,V98,"") | AB98: =IF(C98=$C$48,V98,"") | AC98: =IF(C98=$C$49,V98,"") | AD98: =IF(C98=$C$50,V98,"") | AE98: =IF(C98=$C$51,V98,"") | AF98: =IF(C98=$C$52,V98,"") | AG98: =IF(C98=$C$53,V98,"") | AH98: =IF(C98=$C$54,V98,"") | AI98: =IF(C98=$C$55,V98,"") | AJ98: =IF(C98=$C$56,V98,"") | AK98: =IF(C98=$C$57,V98,"") | AL98: =IF(C98=$C$58,V98,"")
E99: =_xlfn.IFNA(VLOOKUP(C99,'Te gebruiken meststoffen'!$R$3:$AC$10,12,FALSE),"") | F99: =D99*(IFERROR(VLOOKUP(C99,$C$45:$Q$58,3,FALSE),0)) -> 0 | G99: =O99 -> 0 | H99: =D99*(IFERROR(VLOOKUP(C99,$C$45:$Q$58,5,FALSE),0)) -> 0 | I99: =D99*(IFERROR(VLOOKUP(C99,$C$45:$Q$58,6,FALSE),0)) -> 0 | J99: =D99*(IFERROR(VLOOKUP(C99,$C$45:$Q$58,7,FALSE),0)) -> 0 | K99: =D99*(IFERROR(VLOOKUP(C99,$C$45:$Q$58,8,FALSE),0)) -> 0 | L99: =D99*(IFERROR(VLOOKUP(C99,$C$45:$Q$58,9,FALSE),0)) -> 0 | M99: =D99*(IFERROR(VLOOKUP(C99,$C$45:$Q$58,10,FALSE),0)) -> 0 | N99: =O99+P91+Q83+R75 -> 0 | O99: =D99*(IFERROR(VLOOKUP(C99,$C$45:$Q$58,12,FALSE),0)) -> 0 | P99: =D99*(IFERROR(VLOOKUP(C99,$C$45:$Q$58,13,FALSE),0)) -> 0 | Q99: =D99*(IFERROR(VLOOKUP(C99,$C$45:$Q$58,14,FALSE),0)) -> 0 | R99: =D99*(IFERROR(VLOOKUP(C99,$C$45:$Q$58,15,FALSE),0)) -> 0 | S99: =IF(F99>0,F99,G99) -> 0 | T99: =IF(D99="","",D99*$D$9) | U99: =IF(D99="","",E99) | V99: =IF(D99="","",D99*(VLOOKUP(C99,$C$45:$M$58,11,FALSE))) | W99: =IF(T99="","",T99*(VLOOKUP(C99,$C$45:$M$58,11,FALSE))) | Y99: =IF(C99=$C$45,V99,"") | Z99: =IF(C99=$C$46,V99,"") | AA99: =IF(C99=$C$47,V99,"") | AB99: =IF(C99=$C$48,V99,"") | AC99: =IF(C99=$C$49,V99,"") | AD99: =IF(C99=$C$50,V99,"") | AE99: =IF(C99=$C$51,V99,"") | AF99: =IF(C99=$C$52,V99,"") | AG99: =IF(C99=$C$53,V99,"") | AH99: =IF(C99=$C$54,V99,"") | AI99: =IF(C99=$C$55,V99,"") | AJ99: =IF(C99=$C$56,V99,"") | AK99: =IF(C99=$C$57,V99,"") | AL99: =IF(C99=$C$58,V99,"")
E100: =_xlfn.IFNA(VLOOKUP(C100,'Te gebruiken meststoffen'!$R$3:$AC$10,12,FALSE),"") | F100: =D100*(IFERROR(VLOOKUP(C100,$C$45:$Q$58,3,FALSE),0)) -> 0 | G100: =O100 -> 0 | H100: =D100*(IFERROR(VLOOKUP(C100,$C$45:$Q$58,5,FALSE),0)) -> 0 | I100: =D100*(IFERROR(VLOOKUP(C100,$C$45:$Q$58,6,FALSE),0)) -> 0 | J100: =D100*(IFERROR(VLOOKUP(C100,$C$45:$Q$58,7,FALSE),0)) -> 0 | K100: =D100*(IFERROR(VLOOKUP(C100,$C$45:$Q$58,8,FALSE),0)) -> 0 | L100: =D100*(IFERROR(VLOOKUP(C100,$C$45:$Q$58,9,FALSE),0)) -> 0 | M100: =D100*(IFERROR(VLOOKUP(C100,$C$45:$Q$58,10,FALSE),0)) -> 0 | N100: =O100+P92+Q84+R76 -> 0 | O100: =D100*(IFERROR(VLOOKUP(C100,$C$45:$Q$58,12,FALSE),0)) -> 0 | P100: =D100*(IFERROR(VLOOKUP(C100,$C$45:$Q$58,13,FALSE),0)) -> 0 | Q100: =D100*(IFERROR(VLOOKUP(C100,$C$45:$Q$58,14,FALSE),0)) -> 0 | R100: =D100*(IFERROR(VLOOKUP(C100,$C$45:$Q$58,15,FALSE),0)) -> 0 | S100: =IF(F100>0,F100,G100) -> 0 | T100: =IF(D100="","",D100*$D$9) | U100: =IF(D100="","",E100) | V100: =IF(D100="","",D100*(VLOOKUP(C100,$C$45:$M$58,11,FALSE))) | W100: =IF(T100="","",T100*(VLOOKUP(C100,$C$45:$M$58,11,FALSE))) | Y100: =IF(C100=$C$45,V100,"") | Z100: =IF(C100=$C$46,V100,"") | AA100: =IF(C100=$C$47,V100,"") | AB100: =IF(C100=$C$48,V100,"") | AC100: =IF(C100=$C$49,V100,"") | AD100: =IF(C100=$C$50,V100,"") | AE100: =IF(C100=$C$51,V100,"") | AF100: =IF(C100=$C$52,V100,"") | AG100: =IF(C100=$C$53,V100,"") | AH100: =IF(C100=$C$54,V100,"") | AI100: =IF(C100=$C$55,V100,"") | AJ100: =IF(C100=$C$56,V100,"") | AK100: =IF(C100=$C$57,V100,"") | AL100: =IF(C100=$C$58,V100,"")
E101: Totaal voor 5de snede | F101: =SUM(F95:F100) -> 0 | G101: =SUM(G94:G100) -> 0 | H101: =SUM(H95:H100) -> 0 | I101: =SUM(I95:I100) -> 0 | J101: =SUM(J95:J100) -> 0 | K101: =SUM(K95:K100) -> 0 | L101: =SUM(L95:L100) -> 0 | M101: =SUM(M95:M100) -> 0 | N101: =SUM(O95:O100,P87:P92,Q79:Q84,R71:R76) -> 0 | V101: =SUM(V95:V100) -> 0 | W101: =SUM(W95:W100) -> 0
A102: Datum toepassing | C102: Voor 6de snede | D102: Nwerkzaam uit bemesting vorige snedes | G102: =N109-SUM(G103:G108) -> 0 | S102: =SUM(S103:S108) -> 0
E103: =_xlfn.IFNA(VLOOKUP(C103,'Te gebruiken meststoffen'!$R$3:$AC$10,12,FALSE),"") | F103: =D103*(IFERROR(VLOOKUP(C103,$C$45:$Q$58,3,FALSE),0)) -> 0 | G103: =O103 -> 0 | H103: =D103*(IFERROR(VLOOKUP(C103,$C$45:$Q$58,5,FALSE),0)) -> 0 | I103: =D103*(IFERROR(VLOOKUP(C103,$C$45:$Q$58,6,FALSE),0)) -> 0 | J103: =D103*(IFERROR(VLOOKUP(C103,$C$45:$Q$58,7,FALSE),0)) -> 0 | K103: =D103*(IFERROR(VLOOKUP(C103,$C$45:$Q$58,8,FALSE),0)) -> 0 | L103: =D103*(IFERROR(VLOOKUP(C103,$C$45:$Q$58,9,FALSE),0)) -> 0 | M103: =D103*(IFERROR(VLOOKUP(C103,$C$45:$Q$58,10,FALSE),0)) -> 0 | N103: =O103+P95+Q87+R79 -> 0 | O103: =D103*(IFERROR(VLOOKUP(C103,$C$45:$Q$58,12,FALSE),0)) -> 0 | P103: =D103*(IFERROR(VLOOKUP(C103,$C$45:$Q$58,13,FALSE),0)) -> 0 | Q103: =D103*(IFERROR(VLOOKUP(C103,$C$45:$Q$58,14,FALSE),0)) -> 0 | R103: =D103*(IFERROR(VLOOKUP(C103,$C$45:$Q$58,15,FALSE),0)) -> 0 | S103: =IF(F103>0,F103,G103) -> 0 | T103: =IF(D103="","",D103*$D$9) | U103: =IF(D103="","",E103) | V103: =IF(D103="","",D103*(VLOOKUP(C103,$C$45:$M$58,11,FALSE))) | W103: =IF(T103="","",T103*(VLOOKUP(C103,$C$45:$M$58,11,FALSE))) | Y103: =IF(C103=$C$45,V103,"") | Z103: =IF(C103=$C$46,V103,"") | AA103: =IF(C103=$C$47,V103,"") | AB103: =IF(C103=$C$48,V103,"") | AC103: =IF(C103=$C$49,V103,"") | AD103: =IF(C103=$C$50,V103,"") | AE103: =IF(C103=$C$51,V103,"") | AF103: =IF(C103=$C$52,V103,"") | AG103: =IF(C103=$C$53,V103,"") | AH103: =IF(C103=$C$54,V103,"") | AI103: =IF(C103=$C$55,V103,"") | AJ103: =IF(C103=$C$56,V103,"") | AK103: =IF(C103=$C$57,V103,"") | AL103: =IF(C103=$C$58,V103,"")
E104: =_xlfn.IFNA(VLOOKUP(C104,'Te gebruiken meststoffen'!$R$3:$AC$10,12,FALSE),"") | F104: =D104*(IFERROR(VLOOKUP(C104,$C$45:$Q$58,3,FALSE),0)) -> 0 | G104: =O104 -> 0 | H104: =D104*(IFERROR(VLOOKUP(C104,$C$45:$Q$58,5,FALSE),0)) -> 0 | I104: =D104*(IFERROR(VLOOKUP(C104,$C$45:$Q$58,6,FALSE),0)) -> 0 | J104: =D104*(IFERROR(VLOOKUP(C104,$C$45:$Q$58,7,FALSE),0)) -> 0 | K104: =D104*(IFERROR(VLOOKUP(C104,$C$45:$Q$58,8,FALSE),0)) -> 0 | L104: =D104*(IFERROR(VLOOKUP(C104,$C$45:$Q$58,9,FALSE),0)) -> 0 | M104: =D104*(IFERROR(VLOOKUP(C104,$C$45:$Q$58,10,FALSE),0)) -> 0 | N104: =O104+P96+Q88+R80 -> 0 | O104: =D104*(IFERROR(VLOOKUP(C104,$C$45:$Q$58,12,FALSE),0)) -> 0 | P104: =D104*(IFERROR(VLOOKUP(C104,$C$45:$Q$58,13,FALSE),0)) -> 0 | Q104: =D104*(IFERROR(VLOOKUP(C104,$C$45:$Q$58,14,FALSE),0)) -> 0 | R104: =D104*(IFERROR(VLOOKUP(C104,$C$45:$Q$58,15,FALSE),0)) -> 0 | S104: =IF(F104>0,F104,G104) -> 0 | T104: =IF(D104="","",D104*$D$9) | U104: =IF(D104="","",E104) | V104: =IF(D104="","",D104*(VLOOKUP(C104,$C$45:$M$58,11,FALSE))) | W104: =IF(T104="","",T104*(VLOOKUP(C104,$C$45:$M$58,11,FALSE))) | Y104: =IF(C104=$C$45,V104,"") | Z104: =IF(C104=$C$46,V104,"") | AA104: =IF(C104=$C$47,V104,"") | AB104: =IF(C104=$C$48,V104,"") | AC104: =IF(C104=$C$49,V104,"") | AD104: =IF(C104=$C$50,V104,"") | AE104: =IF(C104=$C$51,V104,"") | AF104: =IF(C104=$C$52,V104,"") | AG104: =IF(C104=$C$53,V104,"") | AH104: =IF(C104=$C$54,V104,"") | AI104: =IF(C104=$C$55,V104,"") | AJ104: =IF(C104=$C$56,V104,"") | AK104: =IF(C104=$C$57,V104,"") | AL104: =IF(C104=$C$58,V104,"")
E105: =_xlfn.IFNA(VLOOKUP(C105,'Te gebruiken meststoffen'!$R$3:$AC$10,12,FALSE),"") | F105: =D105*(IFERROR(VLOOKUP(C105,$C$45:$Q$58,3,FALSE),0)) -> 0 | G105: =O105 -> 0 | H105: =D105*(IFERROR(VLOOKUP(C105,$C$45:$Q$58,5,FALSE),0)) -> 0 | I105: =D105*(IFERROR(VLOOKUP(C105,$C$45:$Q$58,6,FALSE),0)) -> 0 | J105: =D105*(IFERROR(VLOOKUP(C105,$C$45:$Q$58,7,FALSE),0)) -> 0 | K105: =D105*(IFERROR(VLOOKUP(C105,$C$45:$Q$58,8,FALSE),0)) -> 0 | L105: =D105*(IFERROR(VLOOKUP(C105,$C$45:$Q$58,9,FALSE),0)) -> 0 | M105: =D105*(IFERROR(VLOOKUP(C105,$C$45:$Q$58,10,FALSE),0)) -> 0 | N105: =O105+P97+Q89+R81 -> 0 | O105: =D105*(IFERROR(VLOOKUP(C105,$C$45:$Q$58,12,FALSE),0)) -> 0 | P105: =D105*(IFERROR(VLOOKUP(C105,$C$45:$Q$58,13,FALSE),0)) -> 0 | Q105: =D105*(IFERROR(VLOOKUP(C105,$C$45:$Q$58,14,FALSE),0)) -> 0 | R105: =D105*(IFERROR(VLOOKUP(C105,$C$45:$Q$58,15,FALSE),0)) -> 0 | S105: =IF(F105>0,F105,G105) -> 0 | T105: =IF(D105="","",D105*$D$9) | U105: =IF(D105="","",E105) | V105: =IF(D105="","",D105*(VLOOKUP(C105,$C$45:$M$58,11,FALSE))) | W105: =IF(T105="","",T105*(VLOOKUP(C105,$C$45:$M$58,11,FALSE))) | Y105: =IF(C105=$C$45,V105,"") | Z105: =IF(C105=$C$46,V105,"") | AA105: =IF(C105=$C$47,V105,"") | AB105: =IF(C105=$C$48,V105,"") | AC105: =IF(C105=$C$49,V105,"") | AD105: =IF(C105=$C$50,V105,"") | AE105: =IF(C105=$C$51,V105,"") | AF105: =IF(C105=$C$52,V105,"") | AG105: =IF(C105=$C$53,V105,"") | AH105: =IF(C105=$C$54,V105,"") | AI105: =IF(C105=$C$55,V105,"") | AJ105: =IF(C105=$C$56,V105,"") | AK105: =IF(C105=$C$57,V105,"") | AL105: =IF(C105=$C$58,V105,"")
E106: =_xlfn.IFNA(VLOOKUP(C106,'Te gebruiken meststoffen'!$R$3:$AC$10,12,FALSE),"") | F106: =D106*(IFERROR(VLOOKUP(C106,$C$45:$Q$58,3,FALSE),0)) -> 0 | G106: =O106 -> 0 | H106: =D106*(IFERROR(VLOOKUP(C106,$C$45:$Q$58,5,FALSE),0)) -> 0 | I106: =D106*(IFERROR(VLOOKUP(C106,$C$45:$Q$58,6,FALSE),0)) -> 0 | J106: =D106*(IFERROR(VLOOKUP(C106,$C$45:$Q$58,7,FALSE),0)) -> 0 | K106: =D106*(IFERROR(VLOOKUP(C106,$C$45:$Q$58,8,FALSE),0)) -> 0 | L106: =D106*(IFERROR(VLOOKUP(C106,$C$45:$Q$58,9,FALSE),0)) -> 0 | M106: =D106*(IFERROR(VLOOKUP(C106,$C$45:$Q$58,10,FALSE),0)) -> 0 | N106: =O106+P98+Q90+R82 -> 0 | O106: =D106*(IFERROR(VLOOKUP(C106,$C$45:$Q$58,12,FALSE),0)) -> 0 | P106: =D106*(IFERROR(VLOOKUP(C106,$C$45:$Q$58,13,FALSE),0)) -> 0 | Q106: =D106*(IFERROR(VLOOKUP(C106,$C$45:$Q$58,14,FALSE),0)) -> 0 | R106: =D106*(IFERROR(VLOOKUP(C106,$C$45:$Q$58,15,FALSE),0)) -> 0 | S106: =IF(F106>0,F106,G106) -> 0 | T106: =IF(D106="","",D106*$D$9) | U106: =IF(D106="","",E106) | V106: =IF(D106="","",D106*(VLOOKUP(C106,$C$45:$M$58,11,FALSE))) | W106: =IF(T106="","",T106*(VLOOKUP(C106,$C$45:$M$58,11,FALSE))) | Y106: =IF(C106=$C$45,V106,"") | Z106: =IF(C106=$C$46,V106,"") | AA106: =IF(C106=$C$47,V106,"") | AB106: =IF(C106=$C$48,V106,"") | AC106: =IF(C106=$C$49,V106,"") | AD106: =IF(C106=$C$50,V106,"") | AE106: =IF(C106=$C$51,V106,"") | AF106: =IF(C106=$C$52,V106,"") | AG106: =IF(C106=$C$53,V106,"") | AH106: =IF(C106=$C$54,V106,"") | AI106: =IF(C106=$C$55,V106,"") | AJ106: =IF(C106=$C$56,V106,"") | AK106: =IF(C106=$C$57,V106,"") | AL106: =IF(C106=$C$58,V106,"")
E107: =_xlfn.IFNA(VLOOKUP(C107,'Te gebruiken meststoffen'!$R$3:$AC$10,12,FALSE),"") | F107: =D107*(IFERROR(VLOOKUP(C107,$C$45:$Q$58,3,FALSE),0)) -> 0 | G107: =O107 -> 0 | H107: =D107*(IFERROR(VLOOKUP(C107,$C$45:$Q$58,5,FALSE),0)) -> 0 | I107: =D107*(IFERROR(VLOOKUP(C107,$C$45:$Q$58,6,FALSE),0)) -> 0 | J107: =D107*(IFERROR(VLOOKUP(C107,$C$45:$Q$58,7,FALSE),0)) -> 0 | K107: =D107*(IFERROR(VLOOKUP(C107,$C$45:$Q$58,8,FALSE),0)) -> 0 | L107: =D107*(IFERROR(VLOOKUP(C107,$C$45:$Q$58,9,FALSE),0)) -> 0 | M107: =D107*(IFERROR(VLOOKUP(C107,$C$45:$Q$58,10,FALSE),0)) -> 0 | N107: =O107+P99+Q91+R83 -> 0 | O107: =D107*(IFERROR(VLOOKUP(C107,$C$45:$Q$58,12,FALSE),0)) -> 0 | P107: =D107*(IFERROR(VLOOKUP(C107,$C$45:$Q$58,13,FALSE),0)) -> 0 | Q107: =D107*(IFERROR(VLOOKUP(C107,$C$45:$Q$58,14,FALSE),0)) -> 0 | R107: =D107*(IFERROR(VLOOKUP(C107,$C$45:$Q$58,15,FALSE),0)) -> 0 | S107: =IF(F107>0,F107,G107) -> 0 | T107: =IF(D107="","",D107*$D$9) | U107: =IF(D107="","",E107) | V107: =IF(D107="","",D107*(VLOOKUP(C107,$C$45:$M$58,11,FALSE))) | W107: =IF(T107="","",T107*(VLOOKUP(C107,$C$45:$M$58,11,FALSE))) | Y107: =IF(C107=$C$45,V107,"") | Z107: =IF(C107=$C$46,V107,"") | AA107: =IF(C107=$C$47,V107,"") | AB107: =IF(C107=$C$48,V107,"") | AC107: =IF(C107=$C$49,V107,"") | AD107: =IF(C107=$C$50,V107,"") | AE107: =IF(C107=$C$51,V107,"") | AF107: =IF(C107=$C$52,V107,"") | AG107: =IF(C107=$C$53,V107,"") | AH107: =IF(C107=$C$54,V107,"") | AI107: =IF(C107=$C$55,V107,"") | AJ107: =IF(C107=$C$56,V107,"") | AK107: =IF(C107=$C$57,V107,"") | AL107: =IF(C107=$C$58,V107,"")
E108: =_xlfn.IFNA(VLOOKUP(C108,'Te gebruiken meststoffen'!$R$3:$AC$10,12,FALSE),"") | F108: =D108*(IFERROR(VLOOKUP(C108,$C$45:$Q$58,3,FALSE),0)) -> 0 | G108: =O108 -> 0 | H108: =D108*(IFERROR(VLOOKUP(C108,$C$45:$Q$58,5,FALSE),0)) -> 0 | I108: =D108*(IFERROR(VLOOKUP(C108,$C$45:$Q$58,6,FALSE),0)) -> 0 | J108: =D108*(IFERROR(VLOOKUP(C108,$C$45:$Q$58,7,FALSE),0)) -> 0 | K108: =D108*(IFERROR(VLOOKUP(C108,$C$45:$Q$58,8,FALSE),0)) -> 0 | L108: =D108*(IFERROR(VLOOKUP(C108,$C$45:$Q$58,9,FALSE),0)) -> 0 | M108: =D108*(IFERROR(VLOOKUP(C108,$C$45:$Q$58,10,FALSE),0)) -> 0 | N108: =O108+P100+Q92+R84 -> 0 | O108: =D108*(IFERROR(VLOOKUP(C108,$C$45:$Q$58,12,FALSE),0)) -> 0 | P108: =D108*(IFERROR(VLOOKUP(C108,$C$45:$Q$58,13,FALSE),0)) -> 0 | Q108: =D108*(IFERROR(VLOOKUP(C108,$C$45:$Q$58,14,FALSE),0)) -> 0 | R108: =D108*(IFERROR(VLOOKUP(C108,$C$45:$Q$58,15,FALSE),0)) -> 0 | S108: =IF(F108>0,F108,G108) -> 0 | T108: =IF(D108="","",D108*$D$9) | U108: =IF(D108="","",E108) | V108: =IF(D108="","",D108*(VLOOKUP(C108,$C$45:$M$58,11,FALSE))) | W108: =IF(T108="","",T108*(VLOOKUP(C108,$C$45:$M$58,11,FALSE))) | Y108: =IF(C108=$C$45,V108,"") | Z108: =IF(C108=$C$46,V108,"") | AA108: =IF(C108=$C$47,V108,"") | AB108: =IF(C108=$C$48,V108,"") | AC108: =IF(C108=$C$49,V108,"") | AD108: =IF(C108=$C$50,V108,"") | AE108: =IF(C108=$C$51,V108,"") | AF108: =IF(C108=$C$52,V108,"") | AG108: =IF(C108=$C$53,V108,"") | AH108: =IF(C108=$C$54,V108,"") | AI108: =IF(C108=$C$55,V108,"") | AJ108: =IF(C108=$C$56,V108,"") | AK108: =IF(C108=$C$57,V108,"") | AL108: =IF(C108=$C$58,V108,"")
E109: Totaal voor 6de snede | F109: =SUM(F103:F108) -> 0 | G109: =SUM(G102:G108) -> 0 | H109: =SUM(H103:H108) -> 0 | I109: =SUM(I103:I108) -> 0 | J109: =SUM(J103:J108) -> 0 | K109: =SUM(K103:K108) -> 0 | L109: =SUM(L103:L108) -> 0 | M109: =SUM(M103:M108) -> 0 | N109: =SUM(O103:O108,P95:P100,Q87:Q92,R79:R84) -> 0 | V109: =SUM(V103:V108) -> 0 | W109: =SUM(W103:W108) -> 0 | Y109: =SUM(Y63:Y108) -> 0 | Z109: =SUM(Z63:Z108) -> 0 | AA109: =SUM(AA63:AA108) -> 0 | AB109: =SUM(AB63:AB108) -> 0 | AC109: =SUM(AC63:AC108) -> 0 | AD109: =SUM(AD63:AD108) -> 0 | AE109: =SUM(AE63:AE108) -> 0 | AF109: =SUM(AF63:AF108) -> 0 | ... AL109: =SUM(AL63:AL108) -> 0
...

Sheet Perceel_2
C1: Algemene gegevens
C2: Naam perceel | G2: Gegevens begrazing | N2: Uitscheiding kg/dier/jaar | P2: Bemesting via begrazing tijdens begrazingsbeurt
C3: Bodemtype | G3: Begrazingsnede | H3: Diercategorie | I3: Melkproductie (kg melk/jaar) | J3: Aantal grazende dieren | K3: Datum start begrazing | L3: Datum einde begrazing | M3: Uren begrazing per dag | N3: Ndier | O3: P2O5 | P3: Ndier | Q3: Nwz | R3: P2O5
B4: =IF(D4="Graskruiden mengsel","Ja","Nee") -> Nee | C4: Teeltomschrijving | E4: =VLOOKUP(D4,'Lijsten en tabellen'!X2:Z23,3,FALSE) -> #N/A | G4: =IFERROR(IF($D$11>0,1,""),"") | N4: =IFERROR(IF( H4="Melkkoeien", VLOOKUP(_xlfn.CONCAT(H4,I4),'Lijsten en tabellen'!$AK$3:$AM$35,3,FALSE),VLOOKUP(H4,'Lijsten en tabellen'!$AK$2:$AM$35,3,FALSE)),"") | O4: =IFERROR(IF( H4="Melkkoeien", VLOOKUP(_xlfn.CONCAT(H4,I4),'Lijsten en tabellen'!$AK$3:$AM$35,2,FALSE),VLOOKUP(H4,'Lijsten en tabellen'!$AK$2:$AM$35,2,FALSE)),"") | P4: =IFERROR(J4*(L4-K4)*(M4/24)*(N4/365),"") | Q4: =IFERROR(P4*0.2,"") | R4: =IFERROR(J4*(L4-K4)*(M4/24)*(O4/365),"")
C5: Beheer | E5: =VLOOKUP(D4,'Lijsten en tabellen'!X2:AA23,4,FALSE) -> #N/A | G5: =IFERROR(IF($D$11>1,2,""),"") | N5: =IFERROR(IF( H5="Melkkoeien", VLOOKUP(_xlfn.CONCAT(H5,I5),'Lijsten en tabellen'!$AK$3:$AM$35,3,FALSE),VLOOKUP(H5,'Lijsten en tabellen'!$AK$2:$AM$35,3,FALSE)),"") | O5: =IFERROR(IF( H5="Melkkoeien", VLOOKUP(_xlfn.CONCAT(H5,I5),'Lijsten en tabellen'!$AK$3:$AM$35,2,FALSE),VLOOKUP(H5,'Lijsten en tabellen'!$AK$2:$AM$35,2,FALSE)),"") | P5: =IFERROR(J5*(L5-K5)*(M5/24)*(N5/365),"") | Q5: =IFERROR(P5*0.2,"") | R5: =IFERROR(J5*(L5-K5)*(M5/24)*(O5/365),"")
C6: Gebiedstype | E6: =_xlfn.CONCAT(D6,D3,D5,E4) -> #N/A | G6: =IFERROR(IF($D$11>2,3,""),"") | N6: =IFERROR(IF( H6="Melkkoeien", VLOOKUP(_xlfn.CONCAT(H6,I6),'Lijsten en tabellen'!$AK$3:$AM$35,3,FALSE),VLOOKUP(H6,'Lijsten en tabellen'!$AK$2:$AM$35,3,FALSE)),"") | O6: =IFERROR(IF( H6="Melkkoeien", VLOOKUP(_xlfn.CONCAT(H6,I6),'Lijsten en tabellen'!$AK$3:$AM$35,2,FALSE),VLOOKUP(H6,'Lijsten en tabellen'!$AK$2:$AM$35,2,FALSE)),"") | P6: =IFERROR(J6*(L6-K6)*(M6/24)*(N6/365),"") | Q6: =IFERROR(P6*0.2,"") | R6: =IFERROR(J6*(L6-K6)*(M6/24)*(O6/365),"")
C7: Vrijstelling gebiedsgerichte maatregelen | G7: =IFERROR(IF($D$11>3,4,""),"") | N7: =IFERROR(IF( H7="Melkkoeien", VLOOKUP(_xlfn.CONCAT(H7,I7),'Lijsten en tabellen'!$AK$3:$AM$35,3,FALSE),VLOOKUP(H7,'Lijsten en tabellen'!$AK$2:$AM$35,3,FALSE)),"") | O7: =IFERROR(IF( H7="Melkkoeien", VLOOKUP(_xlfn.CONCAT(H7,I7),'Lijsten en tabellen'!$AK$3:$AM$35,2,FALSE),VLOOKUP(H7,'Lijsten en tabellen'!$AK$2:$AM$35,2,FALSE)),"") | P7: =IFERROR(J7*(L7-K7)*(M7/24)*(N7/365),"") | Q7: =IFERROR(P7*0.2,"") | R7: =IFERROR(J7*(L7-K7)*(M7/24)*(O7/365),"")
C8: Fosfaatklasse | G8: =IFERROR(IF($D$11>4,5,""),"") | N8: =IFERROR(IF( H8="Melkkoeien", VLOOKUP(_xlfn.CONCAT(H8,I8),'Lijsten en tabellen'!$AK$3:$AM$35,3,FALSE),VLOOKUP(H8,'Lijsten en tabellen'!$AK$2:$AM$35,3,FALSE)),"") | O8: =IFERROR(IF( H8="Melkkoeien", VLOOKUP(_xlfn.CONCAT(H8,I8),'Lijsten en tabellen'!$AK$3:$AM$35,2,FALSE),VLOOKUP(H8,'Lijsten en tabellen'!$AK$2:$AM$35,2,FALSE)),"") | P8: =IFERROR(J8*(L8-K8)*(M8/24)*(N8/365),"") | Q8: =IFERROR(P8*0.2,"") | R8: =IFERROR(J8*(L8-K8)*(M8/24)*(O8/365),"")
C9: Oppervlakte (ha) | G9: =IFERROR(IF($D$11>5,6,""),"") | N9: =IFERROR(IF( H9="Melkkoeien", VLOOKUP(_xlfn.CONCAT(H9,I9),'Lijsten en tabellen'!$AK$3:$AM$35,3,FALSE),VLOOKUP(H9,'Lijsten en tabellen'!$AK$2:$AM$35,3,FALSE)),"") | O9: =IFERROR(IF( H9="Melkkoeien", VLOOKUP(_xlfn.CONCAT(H9,I9),'Lijsten en tabellen'!$AK$3:$AM$35,2,FALSE),VLOOKUP(H9,'Lijsten en tabellen'!$AK$2:$AM$35,2,FALSE)),"") | P9: =IFERROR(J9*(L9-K9)*(M9/24)*(N9/365),"") | Q9: =IFERROR(P9*0.2,"") | R9: =IFERROR(J9*(L9-K9)*(M9/24)*(O9/365),"")
C10: Verwacht aantal snedes
C11: Waarvan begrazingssnedes
C12: =_xlfn.CONCAT(D6,D3,D5,E4) -> #N/A | D12: =_xlfn.CONCAT(D7,D3,D5)
C14: Bemestingsnormen (kg/ha)
C15: Ndierlijk | D15: Nwz | E15: P2O5
C16: 170 | D16: =IFERROR(IF(D7="Ja",VLOOKUP(D12,'Lijsten en tabellen'!E11:F14,2,FALSE),VLOOKUP(C12,'Lijsten en tabellen'!B10:C42,2,FALSE)),"") | E16: =IF(D8="I",'Lijsten en tabellen'!S4,IF(D8="II",'Lijsten en tabellen'!T4,IF(D8="III",'Lijsten en tabellen'!U4,IF(D8="IV",'Lijsten en tabellen'!V4,""))))
C17: Let op er werd geen rekening gehouden met eventuele verscherpingen wegens ligging binnen natuur.
C18: =_xlfn.CONCAT(D3,D5,E5,B4) -> #N/A
C19: Wat is het bemestingsadvies (kg/ha) voor dit perceel?
C20: Per jaar
D21: Nwz | E21: P2O5 | F21: K2O | G21: MgO | H21: CaO | I21: Na2O | J21: SO3
B22: Per jaar | C22: Algemeen advies | D22: =VLOOKUP(C18,'Algemene adviezen'!G3:N14,2,FALSE) -> #N/A | E22: =VLOOKUP(C18,'Algemene adviezen'!G3:N14,3,FALSE) -> #N/A | F22: =VLOOKUP(C18,'Algemene adviezen'!G3:N14,4,FALSE) -> #N/A | G22: =VLOOKUP(C18,'Algemene adviezen'!G3:N14,5,FALSE) -> #N/A | H22: =VLOOKUP(C18,'Algemene adviezen'!G3:N14,6,FALSE) -> #N/A | I22: =VLOOKUP(C18,'Algemene adviezen'!G3:N14,7,FALSE) -> #N/A | J22: =VLOOKUP(C18,'Algemene adviezen'!G3:N14,8,FALSE) -> #N/A
B23: Per snede | C23: Algemeen advies per jaar | D23: =D22 -> #N/A | E23: =E22 -> #N/A | F23: =F22 -> #N/A | G23: =G22 -> #N/A | H23: =H22 -> #N/A | I23: =I22 -> #N/A | J23: =J22 -> #N/A
B24: Per jaar | C24: Advies eigen analyse
B25: =IFERROR(IF($D$10>0,"Per snede",""),"Per snede") | C25: Voor 1ste snede | D25: =IF($B$35="Per snede",D35,"") | E25: =IF($B$35="Per snede",E35,"") | F25: =IF($B$35="Per snede",F35,"") | G25: =IF($B$35="Per snede",G35,"") | H25: =IF($B$35="Per snede",H35,"") | I25: =IF($B$35="Per snede",I35,"") | J25: =IF($B$35="Per snede",J35,"")
B26: =IFERROR(IF($D$10>1,"Per snede",""),"Per snede") | C26: Voor 2de snede | D26: =IF($B$36="Per snede",D36,"") | E26: =IF($B$36="Per snede",E36,"") | F26: =IF($B$36="Per snede",F36,"") | G26: =IF($B$36="Per snede",G36,"") | H26: =IF($B$36="Per snede",H36,"") | I26: =IF($B$36="Per snede",I36,"") | J26: =IF($B$36="Per snede",J36,"")
B27: =IFERROR(IF($D$10>2,"Per snede",""),"Per snede") | C27: Voor 3de snede | D27: =IF($B$37="Per snede",D37,"") | E27: =IF($B$37="Per snede",E37,"") | F27: =IF($B$37="Per snede",F37,"") | G27: =IF($B$37="Per snede",G37,"") | H27: =IF($B$37="Per snede",H37,"") | I27: =IF($B$37="Per snede",I37,"") | J27: =IF($B$37="Per snede",J37,"")
B28: =IFERROR(IF($D$10>3,"Per snede",""),"Per snede") | C28: Voor 4de snede | D28: =IF($B$38="Per snede",D38,"") | E28: =IF($B$38="Per snede",E38,"") | F28: =IF($B$38="Per snede",F38,"") | G28: =IF($B$38="Per snede",G38,"") | H28: =IF($B$38="Per snede",H38,"") | I28: =IF($B$38="Per snede",I38,"") | J28: =IF($B$38="Per snede",J38,"")
B29: =IFERROR(IF($D$10>4,"Per snede",""),"Per snede") | C29: Voor 5de snede | D29: =IF($B$39="Per snede",D39,"") | E29: =IF($B$39="Per snede",E39,"") | F29: =IF($B$39="Per snede",F39,"") | G29: =IF($B$39="Per snede",G39,"") | H29: =IF($B$39="Per snede",H39,"") | I29: =IF($B$39="Per snede",I39,"") | J29: =IF($B$39="Per snede",J39,"")
B30: =IFERROR(IF($D$10>5,"Per snede",""),"Per snede") | C30: Voor 6de snede | D30: =IF($B$40="Per snede",D40,"") | E30: =IF($B$40="Per snede",E40,"") | F30: =IF($B$40="Per snede",F40,"") | G30: =IF($B$40="Per snede",G40,"") | H30: =IF($B$40="Per snede",H40,"") | I30: =IF($B$40="Per snede",I40,"") | J30: =IF($B$40="Per snede",J40,"")
B31: Per snede | C31: Totaal advies eigen analyse | D31: =SUM(D25:D30) -> 0 | E31: =SUM(E25:E30) -> 0 | F31: =SUM(F25:F30) -> 0 | G31: =SUM(G25:G30) -> 0 | H31: =SUM(H25:H30) -> 0 | I31: =SUM(I25:I30) -> 0 | J31: =SUM(J25:J30) -> 0
D33: Nwz | E33: P2O5 | F33: K2O | G33: MgO | H33: CaO | I33: Na2O | J33: SO3 | U33: Schatting benodigde N-bemesting
B34: {=_xlfn._xlws.FILTER(B22:C30,B22:B30=C20)} -> Per jaar | C34: Algemeen advies | D34: =IFERROR(D22,"") | E34: =IFERROR(E22,"") | F34: =IFERROR(F22,"") | G34: =IFERROR(G22,"") | H34: =IFERROR(H22,"") | I34: =IFERROR(I22,"") | J34: =IFERROR(J22,"")
B35: Per jaar | C35: Advies eigen analyse
C42: In te zetten messtoffen:
N43: N-vrijgave voor snede
C44: Naam meststof | D44: Eenheid inhoud | E44: Ndier | F44: Nwz | G44: P2O5 | H44: K2O | I44: MgO | J44: CaO | K44: Na2O | L44: SO3 | M44: Kostprijs | N44: 1st volgende snede | O44: 2de snede | P44: 3de snede | Q44: 4de snede
C45: =IF(NOT('Te gebruiken meststoffen'!R3=0), 'Te gebruiken meststoffen'!R3,"") | D45: =IFERROR(VLOOKUP(C45,'Te gebruiken meststoffen'!$R$3:$AA$10,2,FALSE),"") | E45: =IFERROR(VLOOKUP(C45,'Te gebruiken meststoffen'!$R$3:$AA$10,3,FALSE),0) -> 0 | F45: =IFERROR(VLOOKUP(C45,'Te gebruiken meststoffen'!$R$3:$AA$10,4,FALSE),0) -> 0 | G45: =IFERROR(VLOOKUP(C45,'Te gebruiken meststoffen'!$R$3:$AA$10,5,FALSE),0) -> 0 | H45: =IFERROR(VLOOKUP(C45,'Te gebruiken meststoffen'!$R$3:$AA$10,6,FALSE),0) -> 0 | I45: =IFERROR(VLOOKUP(C45,'Te gebruiken meststoffen'!$R$3:$AA$10,7,FALSE),0) -> 0 | J45: =IFERROR(VLOOKUP(C45,'Te gebruiken meststoffen'!$R$3:$AA$10,8,FALSE),0) -> 0 | K45: =IFERROR(VLOOKUP(C45,'Te gebruiken meststoffen'!$R$3:$AA$10,9,FALSE),0) -> 0 | L45: =IFERROR(VLOOKUP(C45,'Te gebruiken meststoffen'!$R$3:$AB$10,10,FALSE),0) -> 0 | M45: =IFERROR(VLOOKUP(C45,'Te gebruiken meststoffen'!$R$3:$AH$10,17,FALSE),0) -> 0 | N45: =IFERROR(VLOOKUP(C45,'Te gebruiken meststoffen'!$R$3:$AG$10,13,FALSE),0) -> 0 | O45: =IFERROR(VLOOKUP(C45,'Te gebruiken meststoffen'!$R$3:$AG$10,14,FALSE),0) -> 0 | P45: =IFERROR(VLOOKUP(C45,'Te gebruiken meststoffen'!$R$3:$AG$10,15,FALSE),0) -> 0 | Q45: =IFERROR(VLOOKUP(C45,'Te gebruiken meststoffen'!$R$3:$AG$10,16,FALSE),0) -> 0 | T45: =VLOOKUP(C45,'Te gebruiken meststoffen'!$R$3:$AB$10,11,FALSE) -> #N/A
C46: =IF(NOT('Te gebruiken meststoffen'!R4=0), 'Te gebruiken meststoffen'!R4,"") | D46: =IFERROR(VLOOKUP(C46,'Te gebruiken meststoffen'!$R$3:$AA$10,2,FALSE),"") | E46: =IFERROR(VLOOKUP(C46,'Te gebruiken meststoffen'!$R$3:$AA$10,3,FALSE),0) -> 0 | F46: =IFERROR(VLOOKUP(C46,'Te gebruiken meststoffen'!$R$3:$AA$10,4,FALSE),0) -> 0 | G46: =IFERROR(VLOOKUP(C46,'Te gebruiken meststoffen'!$R$3:$AA$10,5,FALSE),0) -> 0 | H46: =IFERROR(VLOOKUP(C46,'Te gebruiken meststoffen'!$R$3:$AA$10,6,FALSE),0) -> 0 | I46: =IFERROR(VLOOKUP(C46,'Te gebruiken meststoffen'!$R$3:$AA$10,7,FALSE),0) -> 0 | J46: =IFERROR(VLOOKUP(C46,'Te gebruiken meststoffen'!$R$3:$AA$10,8,FALSE),0) -> 0 | K46: =IFERROR(VLOOKUP(C46,'Te gebruiken meststoffen'!$R$3:$AA$10,9,FALSE),0) -> 0 | L46: =IFERROR(VLOOKUP(C46,'Te gebruiken meststoffen'!$R$3:$AB$10,10,FALSE),0) -> 0 | M46: =IFERROR(VLOOKUP(C46,'Te gebruiken meststoffen'!$R$3:$AH$10,17,FALSE),0) -> 0 | N46: =IFERROR(VLOOKUP(C46,'Te gebruiken meststoffen'!$R$3:$AG$10,13,FALSE),0) -> 0 | O46: =IFERROR(VLOOKUP(C46,'Te gebruiken meststoffen'!$R$3:$AG$10,14,FALSE),0) -> 0 | P46: =IFERROR(VLOOKUP(C46,'Te gebruiken meststoffen'!$R$3:$AG$10,15,FALSE),0) -> 0 | Q46: =IFERROR(VLOOKUP(C46,'Te gebruiken meststoffen'!$R$3:$AG$10,16,FALSE),0) -> 0 | T46: =VLOOKUP(C46,'Te gebruiken meststoffen'!$R$3:$AB$10,11,FALSE) -> #N/A
C47: =IF(NOT('Te gebruiken meststoffen'!R5=0), 'Te gebruiken meststoffen'!R5,"") | D47: =IFERROR(VLOOKUP(C47,'Te gebruiken meststoffen'!$R$3:$AA$10,2,FALSE),"") | E47: =IFERROR(VLOOKUP(C47,'Te gebruiken meststoffen'!$R$3:$AA$10,3,FALSE),0) -> 0 | F47: =IFERROR(VLOOKUP(C47,'Te gebruiken meststoffen'!$R$3:$AA$10,4,FALSE),0) -> 0 | G47: =IFERROR(VLOOKUP(C47,'Te gebruiken meststoffen'!$R$3:$AA$10,5,FALSE),0) -> 0 | H47: =IFERROR(VLOOKUP(C47,'Te gebruiken meststoffen'!$R$3:$AA$10,6,FALSE),0) -> 0 | I47: =IFERROR(VLOOKUP(C47,'Te gebruiken meststoffen'!$R$3:$AA$10,7,FALSE),0) -> 0 | J47: =IFERROR(VLOOKUP(C47,'Te gebruiken meststoffen'!$R$3:$AA$10,8,FALSE),0) -> 0 | K47: =IFERROR(VLOOKUP(C47,'Te gebruiken meststoffen'!$R$3:$AA$10,9,FALSE),0) -> 0 | L47: =IFERROR(VLOOKUP(C47,'Te gebruiken meststoffen'!$R$3:$AB$10,10,FALSE),0) -> 0 | M47: =IFERROR(VLOOKUP(C47,'Te gebruiken meststoffen'!$R$3:$AH$10,17,FALSE),0) -> 0 | N47: =IFERROR(VLOOKUP(C47,'Te gebruiken meststoffen'!$R$3:$AG$10,13,FALSE),0) -> 0 | O47: =IFERROR(VLOOKUP(C47,'Te gebruiken meststoffen'!$R$3:$AG$10,14,FALSE),0) -> 0 | P47: =IFERROR(VLOOKUP(C47,'Te gebruiken meststoffen'!$R$3:$AG$10,15,FALSE),0) -> 0 | Q47: =IFERROR(VLOOKUP(C47,'Te gebruiken meststoffen'!$R$3:$AG$10,16,FALSE),0) -> 0 | T47: =VLOOKUP(C47,'Te gebruiken meststoffen'!$R$3:$AB$10,11,FALSE) -> #N/A
C48: =IF(NOT('Te gebruiken meststoffen'!R6=0), 'Te gebruiken meststoffen'!R6,"") | D48: =IFERROR(VLOOKUP(C48,'Te gebruiken meststoffen'!$R$3:$AA$10,2,FALSE),"") | E48: =IFERROR(VLOOKUP(C48,'Te gebruiken meststoffen'!$R$3:$AA$10,3,FALSE),0) -> 0 | F48: =IFERROR(VLOOKUP(C48,'Te gebruiken meststoffen'!$R$3:$AA$10,4,FALSE),0) -> 0 | G48: =IFERROR(VLOOKUP(C48,'Te gebruiken meststoffen'!$R$3:$AA$10,5,FALSE),0) -> 0 | H48: =IFERROR(VLOOKUP(C48,'Te gebruiken meststoffen'!$R$3:$AA$10,6,FALSE),0) -> 0 | I48: =IFERROR(VLOOKUP(C48,'Te gebruiken meststoffen'!$R$3:$AA$10,7,FALSE),0) -> 0 | J48: =IFERROR(VLOOKUP(C48,'Te gebruiken meststoffen'!$R$3:$AA$10,8,FALSE),0) -> 0 | K48: =IFERROR(VLOOKUP(C48,'Te gebruiken meststoffen'!$R$3:$AA$10,9,FALSE),0) -> 0 | L48: =IFERROR(VLOOKUP(C48,'Te gebruiken meststoffen'!$R$3:$AB$10,10,FALSE),0) -> 0 | M48: =IFERROR(VLOOKUP(C48,'Te gebruiken meststoffen'!$R$3:$AH$10,17,FALSE),0) -> 0 | N48: =IFERROR(VLOOKUP(C48,'Te gebruiken meststoffen'!$R$3:$AG$10,13,FALSE),0) -> 0 | O48: =IFERROR(VLOOKUP(C48,'Te gebruiken meststoffen'!$R$3:$AG$10,14,FALSE),0) -> 0 | P48: =IFERROR(VLOOKUP(C48,'Te gebruiken meststoffen'!$R$3:$AG$10,15,FALSE),0) -> 0 | Q48: =IFERROR(VLOOKUP(C48,'Te gebruiken meststoffen'!$R$3:$AG$10,16,FALSE),0) -> 0 | T48: =VLOOKUP(C48,'Te gebruiken meststoffen'!$R$3:$AB$10,11,FALSE) -> #N/A
C49: =IF(NOT('Te gebruiken meststoffen'!R7=0), 'Te gebruiken meststoffen'!R7,"") | D49: =IFERROR(VLOOKUP(C49,'Te gebruiken meststoffen'!$R$3:$AA$10,2,FALSE),"") | E49: =IFERROR(VLOOKUP(C49,'Te gebruiken meststoffen'!$R$3:$AA$10,3,FALSE),0) -> 0 | F49: =IFERROR(VLOOKUP(C49,'Te gebruiken meststoffen'!$R$3:$AA$10,4,FALSE),0) -> 0 | G49: =IFERROR(VLOOKUP(C49,'Te gebruiken meststoffen'!$R$3:$AA$10,5,FALSE),0) -> 0 | H49: =IFERROR(VLOOKUP(C49,'Te gebruiken meststoffen'!$R$3:$AA$10,6,FALSE),0) -> 0 | I49: =IFERROR(VLOOKUP(C49,'Te gebruiken meststoffen'!$R$3:$AA$10,7,FALSE),0) -> 0 | J49: =IFERROR(VLOOKUP(C49,'Te gebruiken meststoffen'!$R$3:$AA$10,8,FALSE),0) -> 0 | K49: =IFERROR(VLOOKUP(C49,'Te gebruiken meststoffen'!$R$3:$AA$10,9,FALSE),0) -> 0 | L49: =IFERROR(VLOOKUP(C49,'Te gebruiken meststoffen'!$R$3:$AB$10,10,FALSE),0) -> 0 | M49: =IFERROR(VLOOKUP(C49,'Te gebruiken meststoffen'!$R$3:$AH$10,17,FALSE),0) -> 0 | N49: =IFERROR(VLOOKUP(C49,'Te gebruiken meststoffen'!$R$3:$AG$10,13,FALSE),0) -> 0 | O49: =IFERROR(VLOOKUP(C49,'Te gebruiken meststoffen'!$R$3:$AG$10,14,FALSE),0) -> 0 | P49: =IFERROR(VLOOKUP(C49,'Te gebruiken meststoffen'!$R$3:$AG$10,15,FALSE),0) -> 0 | Q49: =IFERROR(VLOOKUP(C49,'Te gebruiken meststoffen'!$R$3:$AG$10,16,FALSE),0) -> 0 | T49: =VLOOKUP(C49,'Te gebruiken meststoffen'!$R$3:$AB$10,11,FALSE) -> #N/A
C50: =IF(NOT('Te gebruiken meststoffen'!R8=0), 'Te gebruiken meststoffen'!R8,"") | D50: =IFERROR(VLOOKUP(C50,'Te gebruiken meststoffen'!$R$3:$AA$10,2,FALSE),"") | E50: =IFERROR(VLOOKUP(C50,'Te gebruiken meststoffen'!$R$3:$AA$10,3,FALSE),0) -> 0 | F50: =IFERROR(VLOOKUP(C50,'Te gebruiken meststoffen'!$R$3:$AA$10,4,FALSE),0) -> 0 | G50: =IFERROR(VLOOKUP(C50,'Te gebruiken meststoffen'!$R$3:$AA$10,5,FALSE),0) -> 0 | H50: =IFERROR(VLOOKUP(C50,'Te gebruiken meststoffen'!$R$3:$AA$10,6,FALSE),0) -> 0 | I50: =IFERROR(VLOOKUP(C50,'Te gebruiken meststoffen'!$R$3:$AA$10,7,FALSE),0) -> 0 | J50: =IFERROR(VLOOKUP(C50,'Te gebruiken meststoffen'!$R$3:$AA$10,8,FALSE),0) -> 0 | K50: =IFERROR(VLOOKUP(C50,'Te gebruiken meststoffen'!$R$3:$AA$10,9,FALSE),0) -> 0 | L50: =IFERROR(VLOOKUP(C50,'Te gebruiken meststoffen'!$R$3:$AB$10,10,FALSE),0) -> 0 | M50: =IFERROR(VLOOKUP(C50,'Te gebruiken meststoffen'!$R$3:$AH$10,17,FALSE),0) -> 0 | N50: =IFERROR(VLOOKUP(C50,'Te gebruiken meststoffen'!$R$3:$AG$10,13,FALSE),0) -> 0 | O50: =IFERROR(VLOOKUP(C50,'Te gebruiken meststoffen'!$R$3:$AG$10,14,FALSE),0) -> 0 | P50: =IFERROR(VLOOKUP(C50,'Te gebruiken meststoffen'!$R$3:$AG$10,15,FALSE),0) -> 0 | Q50: =IFERROR(VLOOKUP(C50,'Te gebruiken meststoffen'!$R$3:$AG$10,16,FALSE),0) -> 0 | T50: =VLOOKUP(C50,'Te gebruiken meststoffen'!$R$3:$AB$10,11,FALSE) -> #N/A
C51: =IF(NOT('Te gebruiken meststoffen'!R9=0), 'Te gebruiken meststoffen'!R9,"") | D51: =IFERROR(VLOOKUP(C51,'Te gebruiken meststoffen'!$R$3:$AA$10,2,FALSE),"") | E51: =IFERROR(VLOOKUP(C51,'Te gebruiken meststoffen'!$R$3:$AA$10,3,FALSE),0) -> 0 | F51: =IFERROR(VLOOKUP(C51,'Te gebruiken meststoffen'!$R$3:$AA$10,4,FALSE),0) -> 0 | G51: =IFERROR(VLOOKUP(C51,'Te gebruiken meststoffen'!$R$3:$AA$10,5,FALSE),0) -> 0 | H51: =IFERROR(VLOOKUP(C51,'Te gebruiken meststoffen'!$R$3:$AA$10,6,FALSE),0) -> 0 | I51: =IFERROR(VLOOKUP(C51,'Te gebruiken meststoffen'!$R$3:$AA$10,7,FALSE),0) -> 0 | J51: =IFERROR(VLOOKUP(C51,'Te gebruiken meststoffen'!$R$3:$AA$10,8,FALSE),0) -> 0 | K51: =IFERROR(VLOOKUP(C51,'Te gebruiken meststoffen'!$R$3:$AA$10,9,FALSE),0) -> 0 | L51: =IFERROR(VLOOKUP(C51,'Te gebruiken meststoffen'!$R$3:$AB$10,10,FALSE),0) -> 0 | M51: =IFERROR(VLOOKUP(C51,'Te gebruiken meststoffen'!$R$3:$AH$10,17,FALSE),0) -> 0 | N51: =IFERROR(VLOOKUP(C51,'Te gebruiken meststoffen'!$R$3:$AG$10,13,FALSE),0) -> 0 | O51: =IFERROR(VLOOKUP(C51,'Te gebruiken meststoffen'!$R$3:$AG$10,14,FALSE),0) -> 0 | P51: =IFERROR(VLOOKUP(C51,'Te gebruiken meststoffen'!$R$3:$AG$10,15,FALSE),0) -> 0 | Q51: =IFERROR(VLOOKUP(C51,'Te gebruiken meststoffen'!$R$3:$AG$10,16,FALSE),0) -> 0 | T51: =VLOOKUP(C51,'Te gebruiken meststoffen'!$R$3:$AB$10,11,FALSE) -> #N/A
C52: =IF(NOT('Te gebruiken meststoffen'!R10=0), 'Te gebruiken meststoffen'!R10,"") | D52: =IFERROR(VLOOKUP(C52,'Te gebruiken meststoffen'!$R$3:$AA$10,2,FALSE),"") | E52: =IFERROR(VLOOKUP(C52,'Te gebruiken meststoffen'!$R$3:$AA$10,3,FALSE),0) -> 0 | F52: =IFERROR(VLOOKUP(C52,'Te gebruiken meststoffen'!$R$3:$AA$10,4,FALSE),0) -> 0 | G52: =IFERROR(VLOOKUP(C52,'Te gebruiken meststoffen'!$R$3:$AA$10,5,FALSE),0) -> 0 | H52: =IFERROR(VLOOKUP(C52,'Te gebruiken meststoffen'!$R$3:$AA$10,6,FALSE),0) -> 0 | I52: =IFERROR(VLOOKUP(C52,'Te gebruiken meststoffen'!$R$3:$AA$10,7,FALSE),0) -> 0 | J52: =IFERROR(VLOOKUP(C52,'Te gebruiken meststoffen'!$R$3:$AA$10,8,FALSE),0) -> 0 | K52: =IFERROR(VLOOKUP(C52,'Te gebruiken meststoffen'!$R$3:$AA$10,9,FALSE),0) -> 0 | L52: =IFERROR(VLOOKUP(C52,'Te gebruiken meststoffen'!$R$3:$AB$10,10,FALSE),0) -> 0 | M52: =IFERROR(VLOOKUP(C52,'Te gebruiken meststoffen'!$R$3:$AH$10,17,FALSE),0) -> 0 | N52: =IFERROR(VLOOKUP(C52,'Te gebruiken meststoffen'!$R$3:$AG$10,13,FALSE),0) -> 0 | O52: =IFERROR(VLOOKUP(C52,'Te gebruiken meststoffen'!$R$3:$AG$10,14,FALSE),0) -> 0 | P52: =IFERROR(VLOOKUP(C52,'Te gebruiken meststoffen'!$R$3:$AG$10,15,FALSE),0) -> 0 | Q52: =IFERROR(VLOOKUP(C52,'Te gebruiken meststoffen'!$R$3:$AG$10,16,FALSE),0) -> 0 | T52: =VLOOKUP(C52,'Te gebruiken meststoffen'!$R$3:$AB$10,11,FALSE) -> #N/A
C53: =IF(G4=1,_xlfn.CONCAT($G$3," ",G4),"") | D53: =IF(C53="","","kg") | E53: =IF(C53="","",P4) | F53: =IF(D53="","",Q4) | G53: =IF(E53="","",R4) | N53: =F53 | T53: =IF(E53="","","DIERLIJKE")
C54: =IF(G5=2,_xlfn.CONCAT($G$3," ",G5),"") | D54: =IF(C54="","","kg") | E54: =IF(C54="","",P5) | F54: =IF(D54="","",Q5) | G54: =IF(E54="","",R5) | N54: =F54 | T54: =IF(E54="","","DIERLIJKE")
C55: =IF(G6=3,_xlfn.CONCAT($G$3," ",G6),"") | D55: =IF(C55="","","kg") | E55: =IF(C55="","",P6) | F55: =IF(D55="","",Q6) | G55: =IF(E55="","",R6) | N55: =F55 | T55: =IF(E55="","","DIERLIJKE")
C56: =IF(G7=4,_xlfn.CONCAT($G$3," ",G7),"") | D56: =IF(C56="","","kg") | E56: =IF(C56="","",P7) | F56: =IF(D56="","",Q7) | G56: =IF(E56="","",R7) | N56: =F56 | T56: =IF(E56="","","DIERLIJKE")
C57: =IF(G8=5,_xlfn.CONCAT($G$3," ",G8),"") | D57: =IF(C57="","","kg") | E57: =IF(C57="","",P8) | F57: =IF(D57="","",Q8) | G57: =IF(E57="","",R8) | N57: =F57 | T57: =IF(E57="","","DIERLIJKE")
C58: =IF(G9=6,_xlfn.CONCAT($G$3," ",G9),"") | D58: =IF(C58="","","kg") | E58: =IF(C58="","",P9) | F58: =IF(D58="","",Q9) | G58: =IF(E58="","",R9) | N58: =F58 | T58: =IF(E58="","","DIERLIJKE")
C59: Bemesting per snede
C61: Naam meststof | D61: Toegediend per ha | E61: Eenheid | F61: Ndier | G61: Nwz | H61: P2O5 | I61: K2O | J61: MgO | K61: CaO | L61: Na2O | M61: SO3 | N61: NWZ deze snede | O61: Nvoor1stvolgende | P61: Nvoor2de | Q61: Nvoor3de | R61: Nvoor4de | S61: N-totaal | T61: Toe te dienen op volledige oppervlakte perceel | V61: Kostrpijs bemesting (EUR/ha) | W61: Kostrpijs bemesting (EUR) | Y61: =_xlfn.CONCAT("Kostprijs bemesting ",C45," (EUR/ha)") -> Kostprijs bemesting (EUR/ha) | Z61: =_xlfn.CONCAT("Kostprijs bemesting ",C46," (EUR/ha)") -> Kostprijs bemesting (EUR/ha) | AA61: =_xlfn.CONCAT("Kostprijs bemesting ",C47," (EUR/ha)") -> Kostprijs bemesting (EUR/ha) | AB61: =_xlfn.CONCAT("Kostprijs bemesting ",C48," (EUR/ha)") -> Kostprijs bemesting (EUR/ha) | AC61: =_xlfn.CONCAT("Kostprijs bemesting ",C49," (EUR/ha)") -> Kostprijs bemesting (EUR/ha) | AD61: =_xlfn.CONCAT("Kostprijs bemesting ",C50," (EUR/ha)") -> Kostprijs bemesting (EUR/ha) | AE61: =_xlfn.CONCAT("Kostprijs bemesting ",C51," (EUR/ha)") -> Kostprijs bemesting (EUR/ha) | AF61: =_xlfn.CONCAT("Kostprijs bemesting ",C52," (EUR/ha)") -> Kostprijs bemesting (EUR/ha) | AG61: =_xlfn.CONCAT("Kostprijs bemesting ",C53," (EUR/ha)") -> Kostprijs bemesting (EUR/ha) | AH61: =_xlfn.CONCAT("Kostprijs bemesting ",C54," (EUR/ha)") -> Kostprijs bemesting (EUR/ha) | AI61: =_xlfn.CONCAT("Kostprijs bemesting ",C55," (EUR/ha)") -> Kostprijs bemesting (EUR/ha) | AJ61: =_xlfn.CONCAT("Kostprijs bemesting ",C56," (EUR/ha)") -> Kostprijs bemesting (EUR/ha) | AK61: =_xlfn.CONCAT("Kostprijs bemesting ",C57," (EUR/ha)") -> Kostprijs bemesting (EUR/ha) | AL61: =_xlfn.CONCAT("Kostprijs bemesting ",C58," (EUR/ha)") -> Kostprijs bemesting (EUR/ha)
A62: Datum toepassing | C62: Voor 1ste snede | Y62: =C45 | Z62: =C46 | AA62: =C47 | AB62: =C48 | AC62: =C49 | AD62: =C50 | AE62: =C51 | AF62: =C52 | AG62: =C53 | AH62: =C54 | AI62: =C55 | AJ62: =C56 | AK62: =C57 | AL62: =C58
E63: =_xlfn.IFNA(VLOOKUP(C63,'Te gebruiken meststoffen'!$R$3:$AC$10,12,FALSE),"") | F63: =D63*(IFERROR(VLOOKUP(C63,$C$45:$Q$58,3,FALSE),0)) -> 0 | G63: =O63 -> 0 | H63: =D63*(IFERROR(VLOOKUP(C63,$C$45:$Q$58,5,FALSE),0)) -> 0 | I63: =D63*(IFERROR(VLOOKUP(C63,$C$45:$Q$58,6,FALSE),0)) -> 0 | J63: =D63*(IFERROR(VLOOKUP(C63,$C$45:$Q$58,7,FALSE),0)) -> 0 | K63: =D63*(IFERROR(VLOOKUP(C63,$C$45:$Q$58,8,FALSE),0)) -> 0 | L63: =D63*(IFERROR(VLOOKUP(C63,$C$45:$Q$58,9,FALSE),0)) -> 0 | M63: =D63*(IFERROR(VLOOKUP(C63,$C$45:$Q$58,10,FALSE),0)) -> 0 | N63: =O63 -> 0 | O63: =D63*(IFERROR(VLOOKUP(C63,$C$45:$Q$58,12,FALSE),0)) -> 0 | P63: =D63*(IFERROR(VLOOKUP(C63,$C$45:$Q$58,13,FALSE),0)) -> 0 | Q63: =D63*(IFERROR(VLOOKUP(C63,$C$45:$Q$58,14,FALSE),0)) -> 0 | R63: =D63*(IFERROR(VLOOKUP(C63,$C$45:$Q$58,15,FALSE),0)) -> 0 | S63: =IF(F63>0,F63,G63) -> 0 | T63: =IF(D63="","",D63*$D$9) | U63: =IF(D63="","",E63) | V63: =IF(D63="","",D63*(VLOOKUP(C63,$C$45:$M$58,11,FALSE))) | W63: =IF(T63="","",T63*(VLOOKUP(C63,$C$45:$M$58,11,FALSE))) | Y63: =IF(C63=$C$45,V63,"") | Z63: =IF(C63=$C$46,V63,"") | AA63: =IF(C63=$C$47,V63,"") | AB63: =IF(C63=$C$48,V63,"") | AC63: =IF(C63=$C$49,V63,"") | AD63: =IF(C63=$C$50,V63,"") | AE63: =IF(C63=$C$51,V63,"") | AF63: =IF(C63=$C$52,V63,"") | AG63: =IF(C63=$C$53,V63,"") | AH63: =IF(C63=$C$54,V63,"") | AI63: =IF(C63=$C$55,V63,"") | AJ63: =IF(C63=$C$56,V63,"") | AK63: =IF(C63=$C$57,V63,"") | AL63: =IF(C63=$C$58,V63,"")
E64: =_xlfn.IFNA(VLOOKUP(C64,'Te gebruiken meststoffen'!$R$3:$AC$10,12,FALSE),"") | F64: =D64*(IFERROR(VLOOKUP(C64,$C$45:$Q$58,3,FALSE),0)) -> 0 | G64: =O64 -> 0 | H64: =D64*(IFERROR(VLOOKUP(C64,$C$45:$Q$58,5,FALSE),0)) -> 0 | I64: =D64*(IFERROR(VLOOKUP(C64,$C$45:$Q$58,6,FALSE),0)) -> 0 | J64: =D64*(IFERROR(VLOOKUP(C64,$C$45:$Q$58,7,FALSE),0)) -> 0 | K64: =D64*(IFERROR(VLOOKUP(C64,$C$45:$Q$58,8,FALSE),0)) -> 0 | L64: =D64*(IFERROR(VLOOKUP(C64,$C$45:$Q$58,9,FALSE),0)) -> 0 | M64: =D64*(IFERROR(VLOOKUP(C64,$C$45:$Q$58,10,FALSE),0)) -> 0 | N64: =O64 -> 0 | O64: =D64*(IFERROR(VLOOKUP(C64,$C$45:$Q$58,12,FALSE),0)) -> 0 | P64: =D64*(IFERROR(VLOOKUP(C64,$C$45:$Q$58,13,FALSE),0)) -> 0 | Q64: =D64*(IFERROR(VLOOKUP(C64,$C$45:$Q$58,14,FALSE),0)) -> 0 | R64: =D64*(IFERROR(VLOOKUP(C64,$C$45:$Q$58,15,FALSE),0)) -> 0 | S64: =IF(F64>0,F64,G64) -> 0 | T64: =IF(D64="","",D64*$D$9) | U64: =IF(D64="","",E64) | V64: =IF(D64="","",D64*(VLOOKUP(C64,$C$45:$M$58,11,FALSE))) | W64: =IF(T64="","",T64*(VLOOKUP(C64,$C$45:$M$58,11,FALSE))) | Y64: =IF(C64=$C$45,V64,"") | Z64: =IF(C64=$C$46,V64,"") | AA64: =IF(C64=$C$47,V64,"") | AB64: =IF(C64=$C$48,V64,"") | AC64: =IF(C64=$C$49,V64,"") | AD64: =IF(C64=$C$50,V64,"") | AE64: =IF(C64=$C$51,V64,"") | AF64: =IF(C64=$C$52,V64,"") | AG64: =IF(C64=$C$53,V64,"") | AH64: =IF(C64=$C$54,V64,"") | AI64: =IF(C64=$C$55,V64,"") | AJ64: =IF(C64=$C$56,V64,"") | AK64: =IF(C64=$C$57,V64,"") | AL64: =IF(C64=$C$58,V64,"")
E65: =_xlfn.IFNA(VLOOKUP(C65,'Te gebruiken meststoffen'!$R$3:$AC$10,12,FALSE),"") | F65: =D65*(IFERROR(VLOOKUP(C65,$C$45:$Q$58,3,FALSE),0)) -> 0 | G65: =O65 -> 0 | H65: =D65*(IFERROR(VLOOKUP(C65,$C$45:$Q$58,5,FALSE),0)) -> 0 | I65: =D65*(IFERROR(VLOOKUP(C65,$C$45:$Q$58,6,FALSE),0)) -> 0 | J65: =D65*(IFERROR(VLOOKUP(C65,$C$45:$Q$58,7,FALSE),0)) -> 0 | K65: =D65*(IFERROR(VLOOKUP(C65,$C$45:$Q$58,8,FALSE),0)) -> 0 | L65: =D65*(IFERROR(VLOOKUP(C65,$C$45:$Q$58,9,FALSE),0)) -> 0 | M65: =D65*(IFERROR(VLOOKUP(C65,$C$45:$Q$58,10,FALSE),0)) -> 0 | N65: =O65 -> 0 | O65: =D65*(IFERROR(VLOOKUP(C65,$C$45:$Q$58,12,FALSE),0)) -> 0 | P65: =D65*(IFERROR(VLOOKUP(C65,$C$45:$Q$58,13,FALSE),0)) -> 0 | Q65: =D65*(IFERROR(VLOOKUP(C65,$C$45:$Q$58,14,FALSE),0)) -> 0 | R65: =D65*(IFERROR(VLOOKUP(C65,$C$45:$Q$58,15,FALSE),0)) -> 0 | S65: =IF(F65>0,F65,G65) -> 0 | T65: =IF(D65="","",D65*$D$9) | U65: =IF(D65="","",E65) | V65: =IF(D65="","",D65*(VLOOKUP(C65,$C$45:$M$58,11,FALSE))) | W65: =IF(T65="","",T65*(VLOOKUP(C65,$C$45:$M$58,11,FALSE))) | Y65: =IF(C65=$C$45,V65,"") | Z65: =IF(C65=$C$46,V65,"") | AA65: =IF(C65=$C$47,V65,"") | AB65: =IF(C65=$C$48,V65,"") | AC65: =IF(C65=$C$49,V65,"") | AD65: =IF(C65=$C$50,V65,"") | AE65: =IF(C65=$C$51,V65,"") | AF65: =IF(C65=$C$52,V65,"") | AG65: =IF(C65=$C$53,V65,"") | AH65: =IF(C65=$C$54,V65,"") | AI65: =IF(C65=$C$55,V65,"") | AJ65: =IF(C65=$C$56,V65,"") | AK65: =IF(C65=$C$57,V65,"") | AL65: =IF(C65=$C$58,V65,"")
E66: =_xlfn.IFNA(VLOOKUP(C66,'Te gebruiken meststoffen'!$R$3:$AC$10,12,FALSE),"") | F66: =D66*(IFERROR(VLOOKUP(C66,$C$45:$Q$58,3,FALSE),0)) -> 0 | G66: =O66 -> 0 | H66: =D66*(IFERROR(VLOOKUP(C66,$C$45:$Q$58,5,FALSE),0)) -> 0 | I66: =D66*(IFERROR(VLOOKUP(C66,$C$45:$Q$58,6,FALSE),0)) -> 0 | J66: =D66*(IFERROR(VLOOKUP(C66,$C$45:$Q$58,7,FALSE),0)) -> 0 | K66: =D66*(IFERROR(VLOOKUP(C66,$C$45:$Q$58,8,FALSE),0)) -> 0 | L66: =D66*(IFERROR(VLOOKUP(C66,$C$45:$Q$58,9,FALSE),0)) -> 0 | M66: =D66*(IFERROR(VLOOKUP(C66,$C$45:$Q$58,10,FALSE),0)) -> 0 | N66: =O66 -> 0 | O66: =D66*(IFERROR(VLOOKUP(C66,$C$45:$Q$58,12,FALSE),0)) -> 0 | P66: =D66*(IFERROR(VLOOKUP(C66,$C$45:$Q$58,13,FALSE),0)) -> 0 | Q66: =D66*(IFERROR(VLOOKUP(C66,$C$45:$Q$58,14,FALSE),0)) -> 0 | R66: =D66*(IFERROR(VLOOKUP(C66,$C$45:$Q$58,15,FALSE),0)) -> 0 | S66: =IF(F66>0,F66,G66) -> 0 | T66: =IF(D66="","",D66*$D$9) | U66: =IF(D66="","",E66) | V66: =IF(D66="","",D66*(VLOOKUP(C66,$C$45:$M$58,11,FALSE))) | W66: =IF(T66="","",T66*(VLOOKUP(C66,$C$45:$M$58,11,FALSE))) | Y66: =IF(C66=$C$45,V66,"") | Z66: =IF(C66=$C$46,V66,"") | AA66: =IF(C66=$C$47,V66,"") | AB66: =IF(C66=$C$48,V66,"") | AC66: =IF(C66=$C$49,V66,"") | AD66: =IF(C66=$C$50,V66,"") | AE66: =IF(C66=$C$51,V66,"") | AF66: =IF(C66=$C$52,V66,"") | AG66: =IF(C66=$C$53,V66,"") | AH66: =IF(C66=$C$54,V66,"") | AI66: =IF(C66=$C$55,V66,"") | AJ66: =IF(C66=$C$56,V66,"") | AK66: =IF(C66=$C$57,V66,"") | AL66: =IF(C66=$C$58,V66,"")
E67: =_xlfn.IFNA(VLOOKUP(C67,'Te gebruiken meststoffen'!$R$3:$AC$10,12,FALSE),"") | F67: =D67*(IFERROR(VLOOKUP(C67,$C$45:$Q$58,3,FALSE),0)) -> 0 | G67: =O67 -> 0 | H67: =D67*(IFERROR(VLOOKUP(C67,$C$45:$Q$58,5,FALSE),0)) -> 0 | I67: =D67*(IFERROR(VLOOKUP(C67,$C$45:$Q$58,6,FALSE),0)) -> 0 | J67: =D67*(IFERROR(VLOOKUP(C67,$C$45:$Q$58,7,FALSE),0)) -> 0 | K67: =D67*(IFERROR(VLOOKUP(C67,$C$45:$Q$58,8,FALSE),0)) -> 0 | L67: =D67*(IFERROR(VLOOKUP(C67,$C$45:$Q$58,9,FALSE),0)) -> 0 | M67: =D67*(IFERROR(VLOOKUP(C67,$C$45:$Q$58,10,FALSE),0)) -> 0 | N67: =O67 -> 0 | O67: =D67*(IFERROR(VLOOKUP(C67,$C$45:$Q$58,12,FALSE),0)) -> 0 | P67: =D67*(IFERROR(VLOOKUP(C67,$C$45:$Q$58,13,FALSE),0)) -> 0 | Q67: =D67*(IFERROR(VLOOKUP(C67,$C$45:$Q$58,14,FALSE),0)) -> 0 | R67: =D67*(IFERROR(VLOOKUP(C67,$C$45:$Q$58,15,FALSE),0)) -> 0 | S67: =IF(F67>0,F67,G67) -> 0 | T67: =IF(D67="","",D67*$D$9) | U67: =IF(D67="","",E67) | V67: =IF(D67="","",D67*(VLOOKUP(C67,$C$45:$M$58,11,FALSE))) | W67: =IF(T67="","",T67*(VLOOKUP(C67,$C$45:$M$58,11,FALSE))) | Y67: =IF(C67=$C$45,V67,"") | Z67: =IF(C67=$C$46,V67,"") | AA67: =IF(C67=$C$47,V67,"") | AB67: =IF(C67=$C$48,V67,"") | AC67: =IF(C67=$C$49,V67,"") | AD67: =IF(C67=$C$50,V67,"") | AE67: =IF(C67=$C$51,V67,"") | AF67: =IF(C67=$C$52,V67,"") | AG67: =IF(C67=$C$53,V67,"") | AH67: =IF(C67=$C$54,V67,"") | AI67: =IF(C67=$C$55,V67,"") | AJ67: =IF(C67=$C$56,V67,"") | AK67: =IF(C67=$C$57,V67,"") | AL67: =IF(C67=$C$58,V67,"")
E68: =_xlfn.IFNA(VLOOKUP(C68,'Te gebruiken meststoffen'!$R$3:$AC$10,12,FALSE),"") | F68: =D68*(IFERROR(VLOOKUP(C68,$C$45:$Q$58,3,FALSE),0)) -> 0 | G68: =O68 -> 0 | H68: =D68*(IFERROR(VLOOKUP(C68,$C$45:$Q$58,5,FALSE),0)) -> 0 | I68: =D68*(IFERROR(VLOOKUP(C68,$C$45:$Q$58,6,FALSE),0)) -> 0 | J68: =D68*(IFERROR(VLOOKUP(C68,$C$45:$Q$58,7,FALSE),0)) -> 0 | K68: =D68*(IFERROR(VLOOKUP(C68,$C$45:$Q$58,8,FALSE),0)) -> 0 | L68: =D68*(IFERROR(VLOOKUP(C68,$C$45:$Q$58,9,FALSE),0)) -> 0 | M68: =D68*(IFERROR(VLOOKUP(C68,$C$45:$Q$58,10,FALSE),0)) -> 0 | N68: =O68 -> 0 | O68: =D68*(IFERROR(VLOOKUP(C68,$C$45:$Q$58,12,FALSE),0)) -> 0 | P68: =D68*(IFERROR(VLOOKUP(C68,$C$45:$Q$58,13,FALSE),0)) -> 0 | Q68: =D68*(IFERROR(VLOOKUP(C68,$C$45:$Q$58,14,FALSE),0)) -> 0 | R68: =D68*(IFERROR(VLOOKUP(C68,$C$45:$Q$58,15,FALSE),0)) -> 0 | S68: =IF(F68>0,F68,G68) -> 0 | T68: =IF(D68="","",D68*$D$9) | U68: =IF(D68="","",E68) | V68: =IF(D68="","",D68*(VLOOKUP(C68,$C$45:$M$58,11,FALSE))) | W68: =IF(T68="","",T68*(VLOOKUP(C68,$C$45:$M$58,11,FALSE))) | Y68: =IF(C68=$C$45,V68,"") | Z68: =IF(C68=$C$46,V68,"") | AA68: =IF(C68=$C$47,V68,"") | AB68: =IF(C68=$C$48,V68,"") | AC68: =IF(C68=$C$49,V68,"") | AD68: =IF(C68=$C$50,V68,"") | AE68: =IF(C68=$C$51,V68,"") | AF68: =IF(C68=$C$52,V68,"") | AG68: =IF(C68=$C$53,V68,"") | AH68: =IF(C68=$C$54,V68,"") | AI68: =IF(C68=$C$55,V68,"") | AJ68: =IF(C68=$C$56,V68,"") | AK68: =IF(C68=$C$57,V68,"") | AL68: =IF(C68=$C$58,V68,"")
E69: Totaal voor 1ste snede | F69: =SUM(F63:F68) -> 0 | G69: =SUM(G63:G68) -> 0 | H69: =SUM(H63:H68) -> 0 | I69: =SUM(I63:I68) -> 0 | J69: =SUM(J63:J68) -> 0 | K69: =SUM(K63:K68) -> 0 | L69: =SUM(L63:L68) -> 0 | M69: =SUM(M63:M68) -> 0 | N69: =SUM(O63:O68) -> 0 | S69: =SUM(S63:S68) -> 0 | V69: =SUM(V63:V68) -> 0 | W69: =SUM(W63:W68) -> 0
A70: Datum toepassing | C70: Voor 2de snede | D70: Nwerkzaam uit bemesting vorige snede | G70: =N77-SUM(G71:G76) -> 0 | S70: =SUM(S71:S76) -> 0
E71: =_xlfn.IFNA(VLOOKUP(C71,'Te gebruiken meststoffen'!$R$3:$AC$10,12,FALSE),"") | F71: =D71*(IFERROR(VLOOKUP(C71,$C$45:$Q$58,3,FALSE),0)) -> 0 | G71: =O71 -> 0 | H71: =D71*(IFERROR(VLOOKUP(C71,$C$45:$Q$58,5,FALSE),0)) -> 0 | I71: =D71*(IFERROR(VLOOKUP(C71,$C$45:$Q$58,6,FALSE),0)) -> 0 | J71: =D71*(IFERROR(VLOOKUP(C71,$C$45:$Q$58,7,FALSE),0)) -> 0 | K71: =D71*(IFERROR(VLOOKUP(C71,$C$45:$Q$58,8,FALSE),0)) -> 0 | L71: =D71*(IFERROR(VLOOKUP(C71,$C$45:$Q$58,9,FALSE),0)) -> 0 | M71: =D71*(IFERROR(VLOOKUP(C71,$C$45:$Q$58,10,FALSE),0)) -> 0 | N71: =O71+P63 -> 0 | O71: =D71*(IFERROR(VLOOKUP(C71,$C$45:$Q$58,12,FALSE),0)) -> 0 | P71: =D71*(IFERROR(VLOOKUP(C71,$C$45:$Q$58,13,FALSE),0)) -> 0 | Q71: =D71*(IFERROR(VLOOKUP(C71,$C$45:$Q$58,14,FALSE),0)) -> 0 | R71: =D71*(IFERROR(VLOOKUP(C71,$C$45:$Q$58,15,FALSE),0)) -> 0 | S71: =IF(F71>0,F71,G71) -> 0 | T71: =IF(D71="","",D71*$D$9) | U71: =IF(D71="","",E71) | V71: =IF(D71="","",D71*(VLOOKUP(C71,$C$45:$M$58,11,FALSE))) | W71: =IF(T71="","",T71*(VLOOKUP(C71,$C$45:$M$58,11,FALSE))) | Y71: =IF(C71=$C$45,V71,"") | Z71: =IF(C71=$C$46,V71,"") | AA71: =IF(C71=$C$47,V71,"") | AB71: =IF(C71=$C$48,V71,"") | AC71: =IF(C71=$C$49,V71,"") | AD71: =IF(C71=$C$50,V71,"") | AE71: =IF(C71=$C$51,V71,"") | AF71: =IF(C71=$C$52,V71,"") | AG71: =IF(C71=$C$53,V71,"") | AH71: =IF(C71=$C$54,V71,"") | AI71: =IF(C71=$C$55,V71,"") | AJ71: =IF(C71=$C$56,V71,"") | AK71: =IF(C71=$C$57,V71,"") | AL71: =IF(C71=$C$58,V71,"")
E72: =_xlfn.IFNA(VLOOKUP(C72,'Te gebruiken meststoffen'!$R$3:$AC$10,12,FALSE),"") | F72: =D72*(IFERROR(VLOOKUP(C72,$C$45:$Q$58,3,FALSE),0)) -> 0 | G72: =O72 -> 0 | H72: =D72*(IFERROR(VLOOKUP(C72,$C$45:$Q$58,5,FALSE),0)) -> 0 | I72: =D72*(IFERROR(VLOOKUP(C72,$C$45:$Q$58,6,FALSE),0)) -> 0 | J72: =D72*(IFERROR(VLOOKUP(C72,$C$45:$Q$58,7,FALSE),0)) -> 0 | K72: =D72*(IFERROR(VLOOKUP(C72,$C$45:$Q$58,8,FALSE),0)) -> 0 | L72: =D72*(IFERROR(VLOOKUP(C72,$C$45:$Q$58,9,FALSE),0)) -> 0 | M72: =D72*(IFERROR(VLOOKUP(C72,$C$45:$Q$58,10,FALSE),0)) -> 0 | N72: =O72+P64 -> 0 | O72: =D72*(IFERROR(VLOOKUP(C72,$C$45:$Q$58,12,FALSE),0)) -> 0 | P72: =D72*(IFERROR(VLOOKUP(C72,$C$45:$Q$58,13,FALSE),0)) -> 0 | Q72: =D72*(IFERROR(VLOOKUP(C72,$C$45:$Q$58,14,FALSE),0)) -> 0 | R72: =D72*(IFERROR(VLOOKUP(C72,$C$45:$Q$58,15,FALSE),0)) -> 0 | S72: =IF(F72>0,F72,G72) -> 0 | T72: =IF(D72="","",D72*$D$9) | U72: =IF(D72="","",E72) | V72: =IF(D72="","",D72*(VLOOKUP(C72,$C$45:$M$58,11,FALSE))) | W72: =IF(T72="","",T72*(VLOOKUP(C72,$C$45:$M$58,11,FALSE))) | Y72: =IF(C72=$C$45,V72,"") | Z72: =IF(C72=$C$46,V72,"") | AA72: =IF(C72=$C$47,V72,"") | AB72: =IF(C72=$C$48,V72,"") | AC72: =IF(C72=$C$49,V72,"") | AD72: =IF(C72=$C$50,V72,"") | AE72: =IF(C72=$C$51,V72,"") | AF72: =IF(C72=$C$52,V72,"") | AG72: =IF(C72=$C$53,V72,"") | AH72: =IF(C72=$C$54,V72,"") | AI72: =IF(C72=$C$55,V72,"") | AJ72: =IF(C72=$C$56,V72,"") | AK72: =IF(C72=$C$57,V72,"") | AL72: =IF(C72=$C$58,V72,"")
E73: =_xlfn.IFNA(VLOOKUP(C73,'Te gebruiken meststoffen'!$R$3:$AC$10,12,FALSE),"") | F73: =D73*(IFERROR(VLOOKUP(C73,$C$45:$Q$58,3,FALSE),0)) -> 0 | G73: =O73 -> 0 | H73: =D73*(IFERROR(VLOOKUP(C73,$C$45:$Q$58,5,FALSE),0)) -> 0 | I73: =D73*(IFERROR(VLOOKUP(C73,$C$45:$Q$58,6,FALSE),0)) -> 0 | J73: =D73*(IFERROR(VLOOKUP(C73,$C$45:$Q$58,7,FALSE),0)) -> 0 | K73: =D73*(IFERROR(VLOOKUP(C73,$C$45:$Q$58,8,FALSE),0)) -> 0 | L73: =D73*(IFERROR(VLOOKUP(C73,$C$45:$Q$58,9,FALSE),0)) -> 0 | M73: =D73*(IFERROR(VLOOKUP(C73,$C$45:$Q$58,10,FALSE),0)) -> 0 | N73: =O73+P65 -> 0 | O73: =D73*(IFERROR(VLOOKUP(C73,$C$45:$Q$58,12,FALSE),0)) -> 0 | P73: =D73*(IFERROR(VLOOKUP(C73,$C$45:$Q$58,13,FALSE),0)) -> 0 | Q73: =D73*(IFERROR(VLOOKUP(C73,$C$45:$Q$58,14,FALSE),0)) -> 0 | R73: =D73*(IFERROR(VLOOKUP(C73,$C$45:$Q$58,15,FALSE),0)) -> 0 | S73: =IF(F73>0,F73,G73) -> 0 | T73: =IF(D73="","",D73*$D$9) | U73: =IF(D73="","",E73) | V73: =IF(D73="","",D73*(VLOOKUP(C73,$C$45:$M$58,11,FALSE))) | W73: =IF(T73="","",T73*(VLOOKUP(C73,$C$45:$M$58,11,FALSE))) | Y73: =IF(C73=$C$45,V73,"") | Z73: =IF(C73=$C$46,V73,"") | AA73: =IF(C73=$C$47,V73,"") | AB73: =IF(C73=$C$48,V73,"") | AC73: =IF(C73=$C$49,V73,"") | AD73: =IF(C73=$C$50,V73,"") | AE73: =IF(C73=$C$51,V73,"") | AF73: =IF(C73=$C$52,V73,"") | AG73: =IF(C73=$C$53,V73,"") | AH73: =IF(C73=$C$54,V73,"") | AI73: =IF(C73=$C$55,V73,"") | AJ73: =IF(C73=$C$56,V73,"") | AK73: =IF(C73=$C$57,V73,"") | AL73: =IF(C73=$C$58,V73,"")
E74: =_xlfn.IFNA(VLOOKUP(C74,'Te gebruiken meststoffen'!$R$3:$AC$10,12,FALSE),"") | F74: =D74*(IFERROR(VLOOKUP(C74,$C$45:$Q$58,3,FALSE),0)) -> 0 | G74: =O74 -> 0 | H74: =D74*(IFERROR(VLOOKUP(C74,$C$45:$Q$58,5,FALSE),0)) -> 0 | I74: =D74*(IFERROR(VLOOKUP(C74,$C$45:$Q$58,6,FALSE),0)) -> 0 | J74: =D74*(IFERROR(VLOOKUP(C74,$C$45:$Q$58,7,FALSE),0)) -> 0 | K74: =D74*(IFERROR(VLOOKUP(C74,$C$45:$Q$58,8,FALSE),0)) -> 0 | L74: =D74*(IFERROR(VLOOKUP(C74,$C$45:$Q$58,9,FALSE),0)) -> 0 | M74: =D74*(IFERROR(VLOOKUP(C74,$C$45:$Q$58,10,FALSE),0)) -> 0 | N74: =O74+P66 -> 0 | O74: =D74*(IFERROR(VLOOKUP(C74,$C$45:$Q$58,12,FALSE),0)) -> 0 | P74: =D74*(IFERROR(VLOOKUP(C74,$C$45:$Q$58,13,FALSE),0)) -> 0 | Q74: =D74*(IFERROR(VLOOKUP(C74,$C$45:$Q$58,14,FALSE),0)) -> 0 | R74: =D74*(IFERROR(VLOOKUP(C74,$C$45:$Q$58,15,FALSE),0)) -> 0 | S74: =IF(F74>0,F74,G74) -> 0 | T74: =IF(D74="","",D74*$D$9) | U74: =IF(D74="","",E74) | V74: =IF(D74="","",D74*(VLOOKUP(C74,$C$45:$M$58,11,FALSE))) | W74: =IF(T74="","",T74*(VLOOKUP(C74,$C$45:$M$58,11,FALSE))) | Y74: =IF(C74=$C$45,V74,"") | Z74: =IF(C74=$C$46,V74,"") | AA74: =IF(C74=$C$47,V74,"") | AB74: =IF(C74=$C$48,V74,"") | AC74: =IF(C74=$C$49,V74,"") | AD74: =IF(C74=$C$50,V74,"") | AE74: =IF(C74=$C$51,V74,"") | AF74: =IF(C74=$C$52,V74,"") | AG74: =IF(C74=$C$53,V74,"") | AH74: =IF(C74=$C$54,V74,"") | AI74: =IF(C74=$C$55,V74,"") | AJ74: =IF(C74=$C$56,V74,"") | AK74: =IF(C74=$C$57,V74,"") | AL74: =IF(C74=$C$58,V74,"")
E75: =_xlfn.IFNA(VLOOKUP(C75,'Te gebruiken meststoffen'!$R$3:$AC$10,12,FALSE),"") | F75: =D75*(IFERROR(VLOOKUP(C75,$C$45:$Q$58,3,FALSE),0)) -> 0 | G75: =O75 -> 0 | H75: =D75*(IFERROR(VLOOKUP(C75,$C$45:$Q$58,5,FALSE),0)) -> 0 | I75: =D75*(IFERROR(VLOOKUP(C75,$C$45:$Q$58,6,FALSE),0)) -> 0 | J75: =D75*(IFERROR(VLOOKUP(C75,$C$45:$Q$58,7,FALSE),0)) -> 0 | K75: =D75*(IFERROR(VLOOKUP(C75,$C$45:$Q$58,8,FALSE),0)) -> 0 | L75: =D75*(IFERROR(VLOOKUP(C75,$C$45:$Q$58,9,FALSE),0)) -> 0 | M75: =D75*(IFERROR(VLOOKUP(C75,$C$45:$Q$58,10,FALSE),0)) -> 0 | N75: =O75+P67 -> 0 | O75: =D75*(IFERROR(VLOOKUP(C75,$C$45:$Q$58,12,FALSE),0)) -> 0 | P75: =D75*(IFERROR(VLOOKUP(C75,$C$45:$Q$58,13,FALSE),0)) -> 0 | Q75: =D75*(IFERROR(VLOOKUP(C75,$C$45:$Q$58,14,FALSE),0)) -> 0 | R75: =D75*(IFERROR(VLOOKUP(C75,$C$45:$Q$58,15,FALSE),0)) -> 0 | S75: =IF(F75>0,F75,G75) -> 0 | T75: =IF(D75="","",D75*$D$9) | U75: =IF(D75="","",E75) | V75: =IF(D75="","",D75*(VLOOKUP(C75,$C$45:$M$58,11,FALSE))) | W75: =IF(T75="","",T75*(VLOOKUP(C75,$C$45:$M$58,11,FALSE))) | Y75: =IF(C75=$C$45,V75,"") | Z75: =IF(C75=$C$46,V75,"") | AA75: =IF(C75=$C$47,V75,"") | AB75: =IF(C75=$C$48,V75,"") | AC75: =IF(C75=$C$49,V75,"") | AD75: =IF(C75=$C$50,V75,"") | AE75: =IF(C75=$C$51,V75,"") | AF75: =IF(C75=$C$52,V75,"") | AG75: =IF(C75=$C$53,V75,"") | AH75: =IF(C75=$C$54,V75,"") | AI75: =IF(C75=$C$55,V75,"") | AJ75: =IF(C75=$C$56,V75,"") | AK75: =IF(C75=$C$57,V75,"") | AL75: =IF(C75=$C$58,V75,"")
E76: =_xlfn.IFNA(VLOOKUP(C76,'Te gebruiken meststoffen'!$R$3:$AC$10,12,FALSE),"") | F76: =D76*(IFERROR(VLOOKUP(C76,$C$45:$Q$58,3,FALSE),0)) -> 0 | G76: =O76 -> 0 | H76: =D76*(IFERROR(VLOOKUP(C76,$C$45:$Q$58,5,FALSE),0)) -> 0 | I76: =D76*(IFERROR(VLOOKUP(C76,$C$45:$Q$58,6,FALSE),0)) -> 0 | J76: =D76*(IFERROR(VLOOKUP(C76,$C$45:$Q$58,7,FALSE),0)) -> 0 | K76: =D76*(IFERROR(VLOOKUP(C76,$C$45:$Q$58,8,FALSE),0)) -> 0 | L76: =D76*(IFERROR(VLOOKUP(C76,$C$45:$Q$58,9,FALSE),0)) -> 0 | M76: =D76*(IFERROR(VLOOKUP(C76,$C$45:$Q$58,10,FALSE),0)) -> 0 | N76: =O76+P68 -> 0 | O76: =D76*(IFERROR(VLOOKUP(C76,$C$45:$Q$58,12,FALSE),0)) -> 0 | P76: =D76*(IFERROR(VLOOKUP(C76,$C$45:$Q$58,13,FALSE),0)) -> 0 | Q76: =D76*(IFERROR(VLOOKUP(C76,$C$45:$Q$58,14,FALSE),0)) -> 0 | R76: =D76*(IFERROR(VLOOKUP(C76,$C$45:$Q$58,15,FALSE),0)) -> 0 | S76: =IF(F76>0,F76,G76) -> 0 | T76: =IF(D76="","",D76*$D$9) | U76: =IF(D76="","",E76) | V76: =IF(D76="","",D76*(VLOOKUP(C76,$C$45:$M$58,11,FALSE))) | W76: =IF(T76="","",T76*(VLOOKUP(C76,$C$45:$M$58,11,FALSE))) | Y76: =IF(C76=$C$45,V76,"") | Z76: =IF(C76=$C$46,V76,"") | AA76: =IF(C76=$C$47,V76,"") | AB76: =IF(C76=$C$48,V76,"") | AC76: =IF(C76=$C$49,V76,"") | AD76: =IF(C76=$C$50,V76,"") | AE76: =IF(C76=$C$51,V76,"") | AF76: =IF(C76=$C$52,V76,"") | AG76: =IF(C76=$C$53,V76,"") | AH76: =IF(C76=$C$54,V76,"") | AI76: =IF(C76=$C$55,V76,"") | AJ76: =IF(C76=$C$56,V76,"") | AK76: =IF(C76=$C$57,V76,"") | AL76: =IF(C76=$C$58,V76,"")
E77: Totaal voor 2de snede | F77: =SUM(F71:F76) -> 0 | G77: =SUM(G70:G76) -> 0 | H77: =SUM(H71:H76) -> 0 | I77: =SUM(I71:I76) -> 0 | J77: =SUM(J71:J76) -> 0 | K77: =SUM(K71:K76) -> 0 | L77: =SUM(L71:L76) -> 0 | M77: =SUM(M71:M76) -> 0 | N77: =SUM(P63:P68,O71:O76) -> 0 | V77: =SUM(V71:V76) -> 0 | W77: =SUM(W71:W76) -> 0
A78: Datum toepassing | C78: Voor 3de snede | D78: Nwerkzaam uit bemesting vorige snedes | G78: =N85-SUM(G79:G84) -> 0 | S78: =SUM(S79:S84) -> 0
E79: =_xlfn.IFNA(VLOOKUP(C79,'Te gebruiken meststoffen'!$R$3:$AC$10,12,FALSE),"") | F79: =D79*(IFERROR(VLOOKUP(C79,$C$45:$Q$58,3,FALSE),0)) -> 0 | G79: =O79 -> 0 | H79: =D79*(IFERROR(VLOOKUP(C79,$C$45:$Q$58,5,FALSE),0)) -> 0 | I79: =D79*(IFERROR(VLOOKUP(C79,$C$45:$Q$58,6,FALSE),0)) -> 0 | J79: =D79*(IFERROR(VLOOKUP(C79,$C$45:$Q$58,7,FALSE),0)) -> 0 | K79: =D79*(IFERROR(VLOOKUP(C79,$C$45:$Q$58,8,FALSE),0)) -> 0 | L79: =D79*(IFERROR(VLOOKUP(C79,$C$45:$Q$58,9,FALSE),0)) -> 0 | M79: =D79*(IFERROR(VLOOKUP(C79,$C$45:$Q$58,10,FALSE),0)) -> 0 | N79: =O79+P71+Q63 -> 0 | O79: =D79*(IFERROR(VLOOKUP(C79,$C$45:$Q$58,12,FALSE),0)) -> 0 | P79: =D79*(IFERROR(VLOOKUP(C79,$C$45:$Q$58,13,FALSE),0)) -> 0 | Q79: =D79*(IFERROR(VLOOKUP(C79,$C$45:$Q$58,14,FALSE),0)) -> 0 | R79: =D79*(IFERROR(VLOOKUP(C79,$C$45:$Q$58,15,FALSE),0)) -> 0 | S79: =IF(F79>0,F79,G79) -> 0 | T79: =IF(D79="","",D79*$D$9) | U79: =IF(D79="","",E79) | V79: =IF(D79="","",D79*(VLOOKUP(C79,$C$45:$M$58,11,FALSE))) | W79: =IF(T79="","",T79*(VLOOKUP(C79,$C$45:$M$58,11,FALSE))) | Y79: =IF(C79=$C$45,V79,"") | Z79: =IF(C79=$C$46,V79,"") | AA79: =IF(C79=$C$47,V79,"") | AB79: =IF(C79=$C$48,V79,"") | AC79: =IF(C79=$C$49,V79,"") | AD79: =IF(C79=$C$50,V79,"") | AE79: =IF(C79=$C$51,V79,"") | AF79: =IF(C79=$C$52,V79,"") | AG79: =IF(C79=$C$53,V79,"") | AH79: =IF(C79=$C$54,V79,"") | AI79: =IF(C79=$C$55,V79,"") | AJ79: =IF(C79=$C$56,V79,"") | AK79: =IF(C79=$C$57,V79,"") | AL79: =IF(C79=$C$58,V79,"")
E80: =_xlfn.IFNA(VLOOKUP(C80,'Te gebruiken meststoffen'!$R$3:$AC$10,12,FALSE),"") | F80: =D80*(IFERROR(VLOOKUP(C80,$C$45:$Q$58,3,FALSE),0)) -> 0 | G80: =O80 -> 0 | H80: =D80*(IFERROR(VLOOKUP(C80,$C$45:$Q$58,5,FALSE),0)) -> 0 | I80: =D80*(IFERROR(VLOOKUP(C80,$C$45:$Q$58,6,FALSE),0)) -> 0 | J80: =D80*(IFERROR(VLOOKUP(C80,$C$45:$Q$58,7,FALSE),0)) -> 0 | K80: =D80*(IFERROR(VLOOKUP(C80,$C$45:$Q$58,8,FALSE),0)) -> 0 | L80: =D80*(IFERROR(VLOOKUP(C80,$C$45:$Q$58,9,FALSE),0)) -> 0 | M80: =D80*(IFERROR(VLOOKUP(C80,$C$45:$Q$58,10,FALSE),0)) -> 0 | N80: =O80+P72+Q64 -> 0 | O80: =D80*(IFERROR(VLOOKUP(C80,$C$45:$Q$58,12,FALSE),0)) -> 0 | P80: =D80*(IFERROR(VLOOKUP(C80,$C$45:$Q$58,13,FALSE),0)) -> 0 | Q80: =D80*(IFERROR(VLOOKUP(C80,$C$45:$Q$58,14,FALSE),0)) -> 0 | R80: =D80*(IFERROR(VLOOKUP(C80,$C$45:$Q$58,15,FALSE),0)) -> 0 | S80: =IF(F80>0,F80,G80) -> 0 | T80: =IF(D80="","",D80*$D$9) | U80: =IF(D80="","",E80) | V80: =IF(D80="","",D80*(VLOOKUP(C80,$C$45:$M$58,11,FALSE))) | W80: =IF(T80="","",T80*(VLOOKUP(C80,$C$45:$M$58,11,FALSE))) | Y80: =IF(C80=$C$45,V80,"") | Z80: =IF(C80=$C$46,V80,"") | AA80: =IF(C80=$C$47,V80,"") | AB80: =IF(C80=$C$48,V80,"") | AC80: =IF(C80=$C$49,V80,"") | AD80: =IF(C80=$C$50,V80,"") | AE80: =IF(C80=$C$51,V80,"") | AF80: =IF(C80=$C$52,V80,"") | AG80: =IF(C80=$C$53,V80,"") | AH80: =IF(C80=$C$54,V80,"") | AI80: =IF(C80=$C$55,V80,"") | AJ80: =IF(C80=$C$56,V80,"") | AK80: =IF(C80=$C$57,V80,"") | AL80: =IF(C80=$C$58,V80,"")
E81: =_xlfn.IFNA(VLOOKUP(C81,'Te gebruiken meststoffen'!$R$3:$AC$10,12,FALSE),"") | F81: =D81*(IFERROR(VLOOKUP(C81,$C$45:$Q$58,3,FALSE),0)) -> 0 | G81: =O81 -> 0 | H81: =D81*(IFERROR(VLOOKUP(C81,$C$45:$Q$58,5,FALSE),0)) -> 0 | I81: =D81*(IFERROR(VLOOKUP(C81,$C$45:$Q$58,6,FALSE),0)) -> 0 | J81: =D81*(IFERROR(VLOOKUP(C81,$C$45:$Q$58,7,FALSE),0)) -> 0 | K81: =D81*(IFERROR(VLOOKUP(C81,$C$45:$Q$58,8,FALSE),0)) -> 0 | L81: =D81*(IFERROR(VLOOKUP(C81,$C$45:$Q$58,9,FALSE),0)) -> 0 | M81: =D81*(IFERROR(VLOOKUP(C81,$C$45:$Q$58,10,FALSE),0)) -> 0 | N81: =O81+P73+Q65 -> 0 | O81: =D81*(IFERROR(VLOOKUP(C81,$C$45:$Q$58,12,FALSE),0)) -> 0 | P81: =D81*(IFERROR(VLOOKUP(C81,$C$45:$Q$58,13,FALSE),0)) -> 0 | Q81: =D81*(IFERROR(VLOOKUP(C81,$C$45:$Q$58,14,FALSE),0)) -> 0 | R81: =D81*(IFERROR(VLOOKUP(C81,$C$45:$Q$58,15,FALSE),0)) -> 0 | S81: =IF(F81>0,F81,G81) -> 0 | T81: =IF(D81="","",D81*$D$9) | U81: =IF(D81="","",E81) | V81: =IF(D81="","",D81*(VLOOKUP(C81,$C$45:$M$58,11,FALSE))) | W81: =IF(T81="","",T81*(VLOOKUP(C81,$C$45:$M$58,11,FALSE))) | Y81: =IF(C81=$C$45,V81,"") | Z81: =IF(C81=$C$46,V81,"") | AA81: =IF(C81=$C$47,V81,"") | AB81: =IF(C81=$C$48,V81,"") | AC81: =IF(C81=$C$49,V81,"") | AD81: =IF(C81=$C$50,V81,"") | AE81: =IF(C81=$C$51,V81,"") | AF81: =IF(C81=$C$52,V81,"") | AG81: =IF(C81=$C$53,V81,"") | AH81: =IF(C81=$C$54,V81,"") | AI81: =IF(C81=$C$55,V81,"") | AJ81: =IF(C81=$C$56,V81,"") | AK81: =IF(C81=$C$57,V81,"") | AL81: =IF(C81=$C$58,V81,"")
E82: =_xlfn.IFNA(VLOOKUP(C82,'Te gebruiken meststoffen'!$R$3:$AC$10,12,FALSE),"") | F82: =D82*(IFERROR(VLOOKUP(C82,$C$45:$Q$58,3,FALSE),0)) -> 0 | G82: =O82 -> 0 | H82: =D82*(IFERROR(VLOOKUP(C82,$C$45:$Q$58,5,FALSE),0)) -> 0 | I82: =D82*(IFERROR(VLOOKUP(C82,$C$45:$Q$58,6,FALSE),0)) -> 0 | J82: =D82*(IFERROR(VLOOKUP(C82,$C$45:$Q$58,7,FALSE),0)) -> 0 | K82: =D82*(IFERROR(VLOOKUP(C82,$C$45:$Q$58,8,FALSE),0)) -> 0 | L82: =D82*(IFERROR(VLOOKUP(C82,$C$45:$Q$58,9,FALSE),0)) -> 0 | M82: =D82*(IFERROR(VLOOKUP(C82,$C$45:$Q$58,10,FALSE),0)) -> 0 | N82: =O82+P74+Q66 -> 0 | O82: =D82*(IFERROR(VLOOKUP(C82,$C$45:$Q$58,12,FALSE),0)) -> 0 | P82: =D82*(IFERROR(VLOOKUP(C82,$C$45:$Q$58,13,FALSE),0)) -> 0 | Q82: =D82*(IFERROR(VLOOKUP(C82,$C$45:$Q$58,14,FALSE),0)) -> 0 | R82: =D82*(IFERROR(VLOOKUP(C82,$C$45:$Q$58,15,FALSE),0)) -> 0 | S82: =IF(F82>0,F82,G82) -> 0 | T82: =IF(D82="","",D82*$D$9) | U82: =IF(D82="","",E82) | V82: =IF(D82="","",D82*(VLOOKUP(C82,$C$45:$M$58,11,FALSE))) | W82: =IF(T82="","",T82*(VLOOKUP(C82,$C$45:$M$58,11,FALSE))) | Y82: =IF(C82=$C$45,V82,"") | Z82: =IF(C82=$C$46,V82,"") | AA82: =IF(C82=$C$47,V82,"") | AB82: =IF(C82=$C$48,V82,"") | AC82: =IF(C82=$C$49,V82,"") | AD82: =IF(C82=$C$50,V82,"") | AE82: =IF(C82=$C$51,V82,"") | AF82: =IF(C82=$C$52,V82,"") | AG82: =IF(C82=$C$53,V82,"") | AH82: =IF(C82=$C$54,V82,"") | AI82: =IF(C82=$C$55,V82,"") | AJ82: =IF(C82=$C$56,V82,"") | AK82: =IF(C82=$C$57,V82,"") | AL82: =IF(C82=$C$58,V82,"")
E83: =_xlfn.IFNA(VLOOKUP(C83,'Te gebruiken meststoffen'!$R$3:$AC$10,12,FALSE),"") | F83: =D83*(IFERROR(VLOOKUP(C83,$C$45:$Q$58,3,FALSE),0)) -> 0 | G83: =O83 -> 0 | H83: =D83*(IFERROR(VLOOKUP(C83,$C$45:$Q$58,5,FALSE),0)) -> 0 | I83: =D83*(IFERROR(VLOOKUP(C83,$C$45:$Q$58,6,FALSE),0)) -> 0 | J83: =D83*(IFERROR(VLOOKUP(C83,$C$45:$Q$58,7,FALSE),0)) -> 0 | K83: =D83*(IFERROR(VLOOKUP(C83,$C$45:$Q$58,8,FALSE),0)) -> 0 | L83: =D83*(IFERROR(VLOOKUP(C83,$C$45:$Q$58,9,FALSE),0)) -> 0 | M83: =D83*(IFERROR(VLOOKUP(C83,$C$45:$Q$58,10,FALSE),0)) -> 0 | N83: =O83+P75+Q67 -> 0 | O83: =D83*(IFERROR(VLOOKUP(C83,$C$45:$Q$58,12,FALSE),0)) -> 0 | P83: =D83*(IFERROR(VLOOKUP(C83,$C$45:$Q$58,13,FALSE),0)) -> 0 | Q83: =D83*(IFERROR(VLOOKUP(C83,$C$45:$Q$58,14,FALSE),0)) -> 0 | R83: =D83*(IFERROR(VLOOKUP(C83,$C$45:$Q$58,15,FALSE),0)) -> 0 | S83: =IF(F83>0,F83,G83) -> 0 | T83: =IF(D83="","",D83*$D$9) | U83: =IF(D83="","",E83) | V83: =IF(D83="","",D83*(VLOOKUP(C83,$C$45:$M$58,11,FALSE))) | W83: =IF(T83="","",T83*(VLOOKUP(C83,$C$45:$M$58,11,FALSE))) | Y83: =IF(C83=$C$45,V83,"") | Z83: =IF(C83=$C$46,V83,"") | AA83: =IF(C83=$C$47,V83,"") | AB83: =IF(C83=$C$48,V83,"") | AC83: =IF(C83=$C$49,V83,"") | AD83: =IF(C83=$C$50,V83,"") | AE83: =IF(C83=$C$51,V83,"") | AF83: =IF(C83=$C$52,V83,"") | AG83: =IF(C83=$C$53,V83,"") | AH83: =IF(C83=$C$54,V83,"") | AI83: =IF(C83=$C$55,V83,"") | AJ83: =IF(C83=$C$56,V83,"") | AK83: =IF(C83=$C$57,V83,"") | AL83: =IF(C83=$C$58,V83,"")
E84: =_xlfn.IFNA(VLOOKUP(C84,'Te gebruiken meststoffen'!$R$3:$AC$10,12,FALSE),"") | F84: =D84*(IFERROR(VLOOKUP(C84,$C$45:$Q$58,3,FALSE),0)) -> 0 | G84: =O84 -> 0 | H84: =D84*(IFERROR(VLOOKUP(C84,$C$45:$Q$58,5,FALSE),0)) -> 0 | I84: =D84*(IFERROR(VLOOKUP(C84,$C$45:$Q$58,6,FALSE),0)) -> 0 | J84: =D84*(IFERROR(VLOOKUP(C84,$C$45:$Q$58,7,FALSE),0)) -> 0 | K84: =D84*(IFERROR(VLOOKUP(C84,$C$45:$Q$58,8,FALSE),0)) -> 0 | L84: =D84*(IFERROR(VLOOKUP(C84,$C$45:$Q$58,9,FALSE),0)) -> 0 | M84: =D84*(IFERROR(VLOOKUP(C84,$C$45:$Q$58,10,FALSE),0)) -> 0 | N84: =O84+P76+Q68 -> 0 | O84: =D84*(IFERROR(VLOOKUP(C84,$C$45:$Q$58,12,FALSE),0)) -> 0 | P84: =D84*(IFERROR(VLOOKUP(C84,$C$45:$Q$58,13,FALSE),0)) -> 0 | Q84: =D84*(IFERROR(VLOOKUP(C84,$C$45:$Q$58,14,FALSE),0)) -> 0 | R84: =D84*(IFERROR(VLOOKUP(C84,$C$45:$Q$58,15,FALSE),0)) -> 0 | S84: =IF(F84>0,F84,G84) -> 0 | T84: =IF(D84="","",D84*$D$9) | U84: =IF(D84="","",E84) | V84: =IF(D84="","",D84*(VLOOKUP(C84,$C$45:$M$58,11,FALSE))) | W84: =IF(T84="","",T84*(VLOOKUP(C84,$C$45:$M$58,11,FALSE))) | Y84: =IF(C84=$C$45,V84,"") | Z84: =IF(C84=$C$46,V84,"") | AA84: =IF(C84=$C$47,V84,"") | AB84: =IF(C84=$C$48,V84,"") | AC84: =IF(C84=$C$49,V84,"") | AD84: =IF(C84=$C$50,V84,"") | AE84: =IF(C84=$C$51,V84,"") | AF84: =IF(C84=$C$52,V84,"") | AG84: =IF(C84=$C$53,V84,"") | AH84: =IF(C84=$C$54,V84,"") | AI84: =IF(C84=$C$55,V84,"") | AJ84: =IF(C84=$C$56,V84,"") | AK84: =IF(C84=$C$57,V84,"") | AL84: =IF(C84=$C$58,V84,"")
E85: Totaal voor 3de snede | F85: =SUM(F79:F84) -> 0 | G85: =SUM(G78:G84) -> 0 | H85: =SUM(H79:H84) -> 0 | I85: =SUM(I79:I84) -> 0 | J85: =SUM(J79:J84) -> 0 | K85: =SUM(K79:K84) -> 0 | L85: =SUM(L79:L84) -> 0 | M85: =SUM(M79:M84) -> 0 | N85: =SUM(O79:O84,P71:P76,Q63:Q68) -> 0 | V85: =SUM(V79:V84) -> 0 | W85: =SUM(W79:W84) -> 0
A86: Datum toepassing | C86: Voor 4de snede | D86: Nwerkzaam uit bemesting vorige snedes | G86: =N93-SUM(G87:G92) -> 0 | S86: =SUM(S87:S92) -> 0
E87: =_xlfn.IFNA(VLOOKUP(C87,'Te gebruiken meststoffen'!$R$3:$AC$10,12,FALSE),"") | F87: =D87*(IFERROR(VLOOKUP(C87,$C$45:$Q$58,3,FALSE),0)) -> 0 | G87: =O87 -> 0 | H87: =D87*(IFERROR(VLOOKUP(C87,$C$45:$Q$58,5,FALSE),0)) -> 0 | I87: =D87*(IFERROR(VLOOKUP(C87,$C$45:$Q$58,6,FALSE),0)) -> 0 | J87: =D87*(IFERROR(VLOOKUP(C87,$C$45:$Q$58,7,FALSE),0)) -> 0 | K87: =D87*(IFERROR(VLOOKUP(C87,$C$45:$Q$58,8,FALSE),0)) -> 0 | L87: =D87*(IFERROR(VLOOKUP(C87,$C$45:$Q$58,9,FALSE),0)) -> 0 | M87: =D87*(IFERROR(VLOOKUP(C87,$C$45:$Q$58,10,FALSE),0)) -> 0 | N87: =O87+P79+Q71+R63 -> 0 | O87: =D87*(IFERROR(VLOOKUP(C87,$C$45:$Q$58,12,FALSE),0)) -> 0 | P87: =D87*(IFERROR(VLOOKUP(C87,$C$45:$Q$58,13,FALSE),0)) -> 0 | Q87: =D87*(IFERROR(VLOOKUP(C87,$C$45:$Q$58,14,FALSE),0)) -> 0 | R87: =D87*(IFERROR(VLOOKUP(C87,$C$45:$Q$58,15,FALSE),0)) -> 0 | S87: =IF(F87>0,F87,G87) -> 0 | T87: =IF(D87="","",D87*$D$9) | U87: =IF(D87="","",E87) | V87: =IF(D87="","",D87*(VLOOKUP(C87,$C$45:$M$58,11,FALSE))) | W87: =IF(T87="","",T87*(VLOOKUP(C87,$C$45:$M$58,11,FALSE))) | Y87: =IF(C87=$C$45,V87,"") | Z87: =IF(C87=$C$46,V87,"") | AA87: =IF(C87=$C$47,V87,"") | AB87: =IF(C87=$C$48,V87,"") | AC87: =IF(C87=$C$49,V87,"") | AD87: =IF(C87=$C$50,V87,"") | AE87: =IF(C87=$C$51,V87,"") | AF87: =IF(C87=$C$52,V87,"") | AG87: =IF(C87=$C$53,V87,"") | AH87: =IF(C87=$C$54,V87,"") | AI87: =IF(C87=$C$55,V87,"") | AJ87: =IF(C87=$C$56,V87,"") | AK87: =IF(C87=$C$57,V87,"") | AL87: =IF(C87=$C$58,V87,"")
E88: =_xlfn.IFNA(VLOOKUP(C88,'Te gebruiken meststoffen'!$R$3:$AC$10,12,FALSE),"") | F88: =D88*(IFERROR(VLOOKUP(C88,$C$45:$Q$58,3,FALSE),0)) -> 0 | G88: =O88 -> 0 | H88: =D88*(IFERROR(VLOOKUP(C88,$C$45:$Q$58,5,FALSE),0)) -> 0 | I88: =D88*(IFERROR(VLOOKUP(C88,$C$45:$Q$58,6,FALSE),0)) -> 0 | J88: =D88*(IFERROR(VLOOKUP(C88,$C$45:$Q$58,7,FALSE),0)) -> 0 | K88: =D88*(IFERROR(VLOOKUP(C88,$C$45:$Q$58,8,FALSE),0)) -> 0 | L88: =D88*(IFERROR(VLOOKUP(C88,$C$45:$Q$58,9,FALSE),0)) -> 0 | M88: =D88*(IFERROR(VLOOKUP(C88,$C$45:$Q$58,10,FALSE),0)) -> 0 | N88: =O88+P80+Q72+R64 -> 0 | O88: =D88*(IFERROR(VLOOKUP(C88,$C$45:$Q$58,12,FALSE),0)) -> 0 | P88: =D88*(IFERROR(VLOOKUP(C88,$C$45:$Q$58,13,FALSE),0)) -> 0 | Q88: =D88*(IFERROR(VLOOKUP(C88,$C$45:$Q$58,14,FALSE),0)) -> 0 | R88: =D88*(IFERROR(VLOOKUP(C88,$C$45:$Q$58,15,FALSE),0)) -> 0 | S88: =IF(F88>0,F88,G88) -> 0 | T88: =IF(D88="","",D88*$D$9) | U88: =IF(D88="","",E88) | V88: =IF(D88="","",D88*(VLOOKUP(C88,$C$45:$M$58,11,FALSE))) | W88: =IF(T88="","",T88*(VLOOKUP(C88,$C$45:$M$58,11,FALSE))) | Y88: =IF(C88=$C$45,V88,"") | Z88: =IF(C88=$C$46,V88,"") | AA88: =IF(C88=$C$47,V88,"") | AB88: =IF(C88=$C$48,V88,"") | AC88: =IF(C88=$C$49,V88,"") | AD88: =IF(C88=$C$50,V88,"") | AE88: =IF(C88=$C$51,V88,"") | AF88: =IF(C88=$C$52,V88,"") | AG88: =IF(C88=$C$53,V88,"") | AH88: =IF(C88=$C$54,V88,"") | AI88: =IF(C88=$C$55,V88,"") | AJ88: =IF(C88=$C$56,V88,"") | AK88: =IF(C88=$C$57,V88,"") | AL88: =IF(C88=$C$58,V88,"")
E89: =_xlfn.IFNA(VLOOKUP(C89,'Te gebruiken meststoffen'!$R$3:$AC$10,12,FALSE),"") | F89: =D89*(IFERROR(VLOOKUP(C89,$C$45:$Q$58,3,FALSE),0)) -> 0 | G89: =O89 -> 0 | H89: =D89*(IFERROR(VLOOKUP(C89,$C$45:$Q$58,5,FALSE),0)) -> 0 | I89: =D89*(IFERROR(VLOOKUP(C89,$C$45:$Q$58,6,FALSE),0)) -> 0 | J89: =D89*(IFERROR(VLOOKUP(C89,$C$45:$Q$58,7,FALSE),0)) -> 0 | K89: =D89*(IFERROR(VLOOKUP(C89,$C$45:$Q$58,8,FALSE),0)) -> 0 | L89: =D89*(IFERROR(VLOOKUP(C89,$C$45:$Q$58,9,FALSE),0)) -> 0 | M89: =D89*(IFERROR(VLOOKUP(C89,$C$45:$Q$58,10,FALSE),0)) -> 0 | N89: =O89+P81+Q73+R65 -> 0 | O89: =D89*(IFERROR(VLOOKUP(C89,$C$45:$Q$58,12,FALSE),0)) -> 0 | P89: =D89*(IFERROR(VLOOKUP(C89,$C$45:$Q$58,13,FALSE),0)) -> 0 | Q89: =D89*(IFERROR(VLOOKUP(C89,$C$45:$Q$58,14,FALSE),0)) -> 0 | R89: =D89*(IFERROR(VLOOKUP(C89,$C$45:$Q$58,15,FALSE),0)) -> 0 | S89: =IF(F89>0,F89,G89) -> 0 | T89: =IF(D89="","",D89*$D$9) | U89: =IF(D89="","",E89) | V89: =IF(D89="","",D89*(VLOOKUP(C89,$C$45:$M$58,11,FALSE))) | W89: =IF(T89="","",T89*(VLOOKUP(C89,$C$45:$M$58,11,FALSE))) | Y89: =IF(C89=$C$45,V89,"") | Z89: =IF(C89=$C$46,V89,"") | AA89: =IF(C89=$C$47,V89,"") | AB89: =IF(C89=$C$48,V89,"") | AC89: =IF(C89=$C$49,V89,"") | AD89: =IF(C89=$C$50,V89,"") | AE89: =IF(C89=$C$51,V89,"") | AF89: =IF(C89=$C$52,V89,"") | AG89: =IF(C89=$C$53,V89,"") | AH89: =IF(C89=$C$54,V89,"") | AI89: =IF(C89=$C$55,V89,"") | AJ89: =IF(C89=$C$56,V89,"") | AK89: =IF(C89=$C$57,V89,"") | AL89: =IF(C89=$C$58,V89,"")
E90: =_xlfn.IFNA(VLOOKUP(C90,'Te gebruiken meststoffen'!$R$3:$AC$10,12,FALSE),"") | F90: =D90*(IFERROR(VLOOKUP(C90,$C$45:$Q$58,3,FALSE),0)) -> 0 | G90: =O90 -> 0 | H90: =D90*(IFERROR(VLOOKUP(C90,$C$45:$Q$58,5,FALSE),0)) -> 0 | I90: =D90*(IFERROR(VLOOKUP(C90,$C$45:$Q$58,6,FALSE),0)) -> 0 | J90: =D90*(IFERROR(VLOOKUP(C90,$C$45:$Q$58,7,FALSE),0)) -> 0 | K90: =D90*(IFERROR(VLOOKUP(C90,$C$45:$Q$58,8,FALSE),0)) -> 0 | L90: =D90*(IFERROR(VLOOKUP(C90,$C$45:$Q$58,9,FALSE),0)) -> 0 | M90: =D90*(IFERROR(VLOOKUP(C90,$C$45:$Q$58,10,FALSE),0)) -> 0 | N90: =O90+P82+Q74+R66 -> 0 | O90: =D90*(IFERROR(VLOOKUP(C90,$C$45:$Q$58,12,FALSE),0)) -> 0 | P90: =D90*(IFERROR(VLOOKUP(C90,$C$45:$Q$58,13,FALSE),0)) -> 0 | Q90: =D90*(IFERROR(VLOOKUP(C90,$C$45:$Q$58,14,FALSE),0)) -> 0 | R90: =D90*(IFERROR(VLOOKUP(C90,$C$45:$Q$58,15,FALSE),0)) -> 0 | S90: =IF(F90>0,F90,G90) -> 0 | T90: =IF(D90="","",D90*$D$9) | U90: =IF(D90="","",E90) | V90: =IF(D90="","",D90*(VLOOKUP(C90,$C$45:$M$58,11,FALSE))) | W90: =IF(T90="","",T90*(VLOOKUP(C90,$C$45:$M$58,11,FALSE))) | Y90: =IF(C90=$C$45,V90,"") | Z90: =IF(C90=$C$46,V90,"") | AA90: =IF(C90=$C$47,V90,"") | AB90: =IF(C90=$C$48,V90,"") | AC90: =IF(C90=$C$49,V90,"") | AD90: =IF(C90=$C$50,V90,"") | AE90: =IF(C90=$C$51,V90,"") | AF90: =IF(C90=$C$52,V90,"") | AG90: =IF(C90=$C$53,V90,"") | AH90: =IF(C90=$C$54,V90,"") | AI90: =IF(C90=$C$55,V90,"") | AJ90: =IF(C90=$C$56,V90,"") | AK90: =IF(C90=$C$57,V90,"") | AL90: =IF(C90=$C$58,V90,"")
E91: =_xlfn.IFNA(VLOOKUP(C91,'Te gebruiken meststoffen'!$R$3:$AC$10,12,FALSE),"") | F91: =D91*(IFERROR(VLOOKUP(C91,$C$45:$Q$58,3,FALSE),0)) -> 0 | G91: =O91 -> 0 | H91: =D91*(IFERROR(VLOOKUP(C91,$C$45:$Q$58,5,FALSE),0)) -> 0 | I91: =D91*(IFERROR(VLOOKUP(C91,$C$45:$Q$58,6,FALSE),0)) -> 0 | J91: =D91*(IFERROR(VLOOKUP(C91,$C$45:$Q$58,7,FALSE),0)) -> 0 | K91: =D91*(IFERROR(VLOOKUP(C91,$C$45:$Q$58,8,FALSE),0)) -> 0 | L91: =D91*(IFERROR(VLOOKUP(C91,$C$45:$Q$58,9,FALSE),0)) -> 0 | M91: =D91*(IFERROR(VLOOKUP(C91,$C$45:$Q$58,10,FALSE),0)) -> 0 | N91: =O91+P83+Q75+R67 -> 0 | O91: =D91*(IFERROR(VLOOKUP(C91,$C$45:$Q$58,12,FALSE),0)) -> 0 | P91: =D91*(IFERROR(VLOOKUP(C91,$C$45:$Q$58,13,FALSE),0)) -> 0 | Q91: =D91*(IFERROR(VLOOKUP(C91,$C$45:$Q$58,14,FALSE),0)) -> 0 | R91: =D91*(IFERROR(VLOOKUP(C91,$C$45:$Q$58,15,FALSE),0)) -> 0 | S91: =IF(F91>0,F91,G91) -> 0 | T91: =IF(D91="","",D91*$D$9) | U91: =IF(D91="","",E91) | V91: =IF(D91="","",D91*(VLOOKUP(C91,$C$45:$M$58,11,FALSE))) | W91: =IF(T91="","",T91*(VLOOKUP(C91,$C$45:$M$58,11,FALSE))) | Y91: =IF(C91=$C$45,V91,"") | Z91: =IF(C91=$C$46,V91,"") | AA91: =IF(C91=$C$47,V91,"") | AB91: =IF(C91=$C$48,V91,"") | AC91: =IF(C91=$C$49,V91,"") | AD91: =IF(C91=$C$50,V91,"") | AE91: =IF(C91=$C$51,V91,"") | AF91: =IF(C91=$C$52,V91,"") | AG91: =IF(C91=$C$53,V91,"") | AH91: =IF(C91=$C$54,V91,"") | AI91: =IF(C91=$C$55,V91,"") | AJ91: =IF(C91=$C$56,V91,"") | AK91: =IF(C91=$C$57,V91,"") | AL91: =IF(C91=$C$58,V91,"")
E92: =_xlfn.IFNA(VLOOKUP(C92,'Te gebruiken meststoffen'!$R$3:$AC$10,12,FALSE),"") | F92: =D92*(IFERROR(VLOOKUP(C92,$C$45:$Q$58,3,FALSE),0)) -> 0 | G92: =O92 -> 0 | H92: =D92*(IFERROR(VLOOKUP(C92,$C$45:$Q$58,5,FALSE),0)) -> 0 | I92: =D92*(IFERROR(VLOOKUP(C92,$C$45:$Q$58,6,FALSE),0)) -> 0 | J92: =D92*(IFERROR(VLOOKUP(C92,$C$45:$Q$58,7,FALSE),0)) -> 0 | K92: =D92*(IFERROR(VLOOKUP(C92,$C$45:$Q$58,8,FALSE),0)) -> 0 | L92: =D92*(IFERROR(VLOOKUP(C92,$C$45:$Q$58,9,FALSE),0)) -> 0 | M92: =D92*(IFERROR(VLOOKUP(C92,$C$45:$Q$58,10,FALSE),0)) -> 0 | N92: =O92+P84+Q76+R68 -> 0 | O92: =D92*(IFERROR(VLOOKUP(C92,$C$45:$Q$58,12,FALSE),0)) -> 0 | P92: =D92*(IFERROR(VLOOKUP(C92,$C$45:$Q$58,13,FALSE),0)) -> 0 | Q92: =D92*(IFERROR(VLOOKUP(C92,$C$45:$Q$58,14,FALSE),0)) -> 0 | R92: =D92*(IFERROR(VLOOKUP(C92,$C$45:$Q$58,15,FALSE),0)) -> 0 | S92: =IF(F92>0,F92,G92) -> 0 | T92: =IF(D92="","",D92*$D$9) | U92: =IF(D92="","",E92) | V92: =IF(D92="","",D92*(VLOOKUP(C92,$C$45:$M$58,11,FALSE))) | W92: =IF(T92="","",T92*(VLOOKUP(C92,$C$45:$M$58,11,FALSE))) | Y92: =IF(C92=$C$45,V92,"") | Z92: =IF(C92=$C$46,V92,"") | AA92: =IF(C92=$C$47,V92,"") | AB92: =IF(C92=$C$48,V92,"") | AC92: =IF(C92=$C$49,V92,"") | AD92: =IF(C92=$C$50,V92,"") | AE92: =IF(C92=$C$51,V92,"") | AF92: =IF(C92=$C$52,V92,"") | AG92: =IF(C92=$C$53,V92,"") | AH92: =IF(C92=$C$54,V92,"") | AI92: =IF(C92=$C$55,V92,"") | AJ92: =IF(C92=$C$56,V92,"") | AK92: =IF(C92=$C$57,V92,"") | AL92: =IF(C92=$C$58,V92,"")
E93: Totaal voor 4de snede | F93: =SUM(F87:F92) -> 0 | G93: =SUM(G86:G92) -> 0 | H93: =SUM(H87:H92) -> 0 | I93: =SUM(I87:I92) -> 0 | J93: =SUM(J87:J92) -> 0 | K93: =SUM(K87:K92) -> 0 | L93: =SUM(L87:L92) -> 0 | M93: =SUM(M87:M92) -> 0 | N93: =SUM(O87:O92,P79:P84,Q71:Q76,R63:R68) -> 0 | V93: =SUM(V87:V92) -> 0 | W93: =SUM(W87:W92) -> 0
A94: Datum toepassing | C94: Voor 5de snede | D94: Nwerkzaam uit bemesting vorige snedes | G94: =N101-SUM(G95:G100) -> 0 | S94: =SUM(S95:S100) -> 0
E95: =_xlfn.IFNA(VLOOKUP(C95,'Te gebruiken meststoffen'!$R$3:$AC$10,12,FALSE),"") | F95: =D95*(IFERROR(VLOOKUP(C95,$C$45:$Q$58,3,FALSE),0)) -> 0 | G95: =O95 -> 0 | H95: =D95*(IFERROR(VLOOKUP(C95,$C$45:$Q$58,5,FALSE),0)) -> 0 | I95: =D95*(IFERROR(VLOOKUP(C95,$C$45:$Q$58,6,FALSE),0)) -> 0 | J95: =D95*(IFERROR(VLOOKUP(C95,$C$45:$Q$58,7,FALSE),0)) -> 0 | K95: =D95*(IFERROR(VLOOKUP(C95,$C$45:$Q$58,8,FALSE),0)) -> 0 | L95: =D95*(IFERROR(VLOOKUP(C95,$C$45:$Q$58,9,FALSE),0)) -> 0 | M95: =D95*(IFERROR(VLOOKUP(C95,$C$45:$Q$58,10,FALSE),0)) -> 0 | N95: =O95+P87+Q79+R71 -> 0 | O95: =D95*(IFERROR(VLOOKUP(C95,$C$45:$Q$58,12,FALSE),0)) -> 0 | P95: =D95*(IFERROR(VLOOKUP(C95,$C$45:$Q$58,13,FALSE),0)) -> 0 | Q95: =D95*(IFERROR(VLOOKUP(C95,$C$45:$Q$58,14,FALSE),0)) -> 0 | R95: =D95*(IFERROR(VLOOKUP(C95,$C$45:$Q$58,15,FALSE),0)) -> 0 | S95: =IF(F95>0,F95,G95) -> 0 | T95: =IF(D95="","",D95*$D$9) | U95: =IF(D95="","",E95) | V95: =IF(D95="","",D95*(VLOOKUP(C95,$C$45:$M$58,11,FALSE))) | W95: =IF(T95="","",T95*(VLOOKUP(C95,$C$45:$M$58,11,FALSE))) | Y95: =IF(C95=$C$45,V95,"") | Z95: =IF(C95=$C$46,V95,"") | AA95: =IF(C95=$C$47,V95,"") | AB95: =IF(C95=$C$48,V95,"") | AC95: =IF(C95=$C$49,V95,"") | AD95: =IF(C95=$C$50,V95,"") | AE95: =IF(C95=$C$51,V95,"") | AF95: =IF(C95=$C$52,V95,"") | AG95: =IF(C95=$C$53,V95,"") | AH95: =IF(C95=$C$54,V95,"") | AI95: =IF(C95=$C$55,V95,"") | AJ95: =IF(C95=$C$56,V95,"") | AK95: =IF(C95=$C$57,V95,"") | AL95: =IF(C95=$C$58,V95,"")
E96: =_xlfn.IFNA(VLOOKUP(C96,'Te gebruiken meststoffen'!$R$3:$AC$10,12,FALSE),"") | F96: =D96*(IFERROR(VLOOKUP(C96,$C$45:$Q$58,3,FALSE),0)) -> 0 | G96: =O96 -> 0 | H96: =D96*(IFERROR(VLOOKUP(C96,$C$45:$Q$58,5,FALSE),0)) -> 0 | I96: =D96*(IFERROR(VLOOKUP(C96,$C$45:$Q$58,6,FALSE),0)) -> 0 | J96: =D96*(IFERROR(VLOOKUP(C96,$C$45:$Q$58,7,FALSE),0)) -> 0 | K96: =D96*(IFERROR(VLOOKUP(C96,$C$45:$Q$58,8,FALSE),0)) -> 0 | L96: =D96*(IFERROR(VLOOKUP(C96,$C$45:$Q$58,9,FALSE),0)) -> 0 | M96: =D96*(IFERROR(VLOOKUP(C96,$C$45:$Q$58,10,FALSE),0)) -> 0 | N96: =O96+P88+Q80+R72 -> 0 | O96: =D96*(IFERROR(VLOOKUP(C96,$C$45:$Q$58,12,FALSE),0)) -> 0 | P96: =D96*(IFERROR(VLOOKUP(C96,$C$45:$Q$58,13,FALSE),0)) -> 0 | Q96: =D96*(IFERROR(VLOOKUP(C96,$C$45:$Q$58,14,FALSE),0)) -> 0 | R96: =D96*(IFERROR(VLOOKUP(C96,$C$45:$Q$58,15,FALSE),0)) -> 0 | S96: =IF(F96>0,F96,G96) -> 0 | T96: =IF(D96="","",D96*$D$9) | U96: =IF(D96="","",E96) | V96: =IF(D96="","",D96*(VLOOKUP(C96,$C$45:$M$58,11,FALSE))) | W96: =IF(T96="","",T96*(VLOOKUP(C96,$C$45:$M$58,11,FALSE))) | Y96: =IF(C96=$C$45,V96,"") | Z96: =IF(C96=$C$46,V96,"") | AA96: =IF(C96=$C$47,V96,"") | AB96: =IF(C96=$C$48,V96,"") | AC96: =IF(C96=$C$49,V96,"") | AD96: =IF(C96=$C$50,V96,"") | AE96: =IF(C96=$C$51,V96,"") | AF96: =IF(C96=$C$52,V96,"") | AG96: =IF(C96=$C$53,V96,"") | AH96: =IF(C96=$C$54,V96,"") | AI96: =IF(C96=$C$55,V96,"") | AJ96: =IF(C96=$C$56,V96,"") | AK96: =IF(C96=$C$57,V96,"") | AL96: =IF(C96=$C$58,V96,"")
E97: =_xlfn.IFNA(VLOOKUP(C97,'Te gebruiken meststoffen'!$R$3:$AC$10,12,FALSE),"") | F97: =D97*(IFERROR(VLOOKUP(C97,$C$45:$Q$58,3,FALSE),0)) -> 0 | G97: =O97 -> 0 | H97: =D97*(IFERROR(VLOOKUP(C97,$C$45:$Q$58,5,FALSE),0)) -> 0 | I97: =D97*(IFERROR(VLOOKUP(C97,$C$45:$Q$58,6,FALSE),0)) -> 0 | J97: =D97*(IFERROR(VLOOKUP(C97,$C$45:$Q$58,7,FALSE),0)) -> 0 | K97: =D97*(IFERROR(VLOOKUP(C97,$C$45:$Q$58,8,FALSE),0)) -> 0 | L97: =D97*(IFERROR(VLOOKUP(C97,$C$45:$Q$58,9,FALSE),0)) -> 0 | M97: =D97*(IFERROR(VLOOKUP(C97,$C$45:$Q$58,10,FALSE),0)) -> 0 | N97: =O97+P89+Q81+R73 -> 0 | O97: =D97*(IFERROR(VLOOKUP(C97,$C$45:$Q$58,12,FALSE),0)) -> 0 | P97: =D97*(IFERROR(VLOOKUP(C97,$C$45:$Q$58,13,FALSE),0)) -> 0 | Q97: =D97*(IFERROR(VLOOKUP(C97,$C$45:$Q$58,14,FALSE),0)) -> 0 | R97: =D97*(IFERROR(VLOOKUP(C97,$C$45:$Q$58,15,FALSE),0)) -> 0 | S97: =IF(F97>0,F97,G97) -> 0 | T97: =IF(D97="","",D97*$D$9) | U97: =IF(D97="","",E97) | V97: =IF(D97="","",D97*(VLOOKUP(C97,$C$45:$M$58,11,FALSE))) | W97: =IF(T97="","",T97*(VLOOKUP(C97,$C$45:$M$58,11,FALSE))) | Y97: =IF(C97=$C$45,V97,"") | Z97: =IF(C97=$C$46,V97,"") | AA97: =IF(C97=$C$47,V97,"") | AB97: =IF(C97=$C$48,V97,"") | AC97: =IF(C97=$C$49,V97,"") | AD97: =IF(C97=$C$50,V97,"") | AE97: =IF(C97=$C$51,V97,"") | AF97: =IF(C97=$C$52,V97,"") | AG97: =IF(C97=$C$53,V97,"") | AH97: =IF(C97=$C$54,V97,"") | AI97: =IF(C97=$C$55,V97,"") | AJ97: =IF(C97=$C$56,V97,"") | AK97: =IF(C97=$C$57,V97,"") | AL97: =IF(C97=$C$58,V97,"")
E98: =_xlfn.IFNA(VLOOKUP(C98,'Te gebruiken meststoffen'!$R$3:$AC$10,12,FALSE),"") | F98: =D98*(IFERROR(VLOOKUP(C98,$C$45:$Q$58,3,FALSE),0)) -> 0 | G98: =O98 -> 0 | H98: =D98*(IFERROR(VLOOKUP(C98,$C$45:$Q$58,5,FALSE),0)) -> 0 | I98: =D98*(IFERROR(VLOOKUP(C98,$C$45:$Q$58,6,FALSE),0)) -> 0 | J98: =D98*(IFERROR(VLOOKUP(C98,$C$45:$Q$58,7,FALSE),0)) -> 0 | K98: =D98*(IFERROR(VLOOKUP(C98,$C$45:$Q$58,8,FALSE),0)) -> 0 | L98: =D98*(IFERROR(VLOOKUP(C98,$C$45:$Q$58,9,FALSE),0)) -> 0 | M98: =D98*(IFERROR(VLOOKUP(C98,$C$45:$Q$58,10,FALSE),0)) -> 0 | N98: =O98+P90+Q82+R74 -> 0 | O98: =D98*(IFERROR(VLOOKUP(C98,$C$45:$Q$58,12,FALSE),0)) -> 0 | P98: =D98*(IFERROR(VLOOKUP(C98,$C$45:$Q$58,13,FALSE),0)) -> 0 | Q98: =D98*(IFERROR(VLOOKUP(C98,$C$45:$Q$58,14,FALSE),0)) -> 0 | R98: =D98*(IFERROR(VLOOKUP(C98,$C$45:$Q$58,15,FALSE),0)) -> 0 | S98: =IF(F98>0,F98,G98) -> 0 | T98: =IF(D98="","",D98*$D$9) | U98: =IF(D98="","",E98) | V98: =IF(D98="","",D98*(VLOOKUP(C98,$C$45:$M$58,11,FALSE))) | W98: =IF(T98="","",T98*(VLOOKUP(C98,$C$45:$M$58,11,FALSE))) | Y98: =IF(C98=$C$45,V98,"") | Z98: =IF(C98=$C$46,V98,"") | AA98: =IF(C98=$C$47,V98,"") | AB98: =IF(C98=$C$48,V98,"") | AC98: =IF(C98=$C$49,V98,"") | AD98: =IF(C98=$C$50,V98,"") | AE98: =IF(C98=$C$51,V98,"") | AF98: =IF(C98=$C$52,V98,"") | AG98: =IF(C98=$C$53,V98,"") | AH98: =IF(C98=$C$54,V98,"") | AI98: =IF(C98=$C$55,V98,"") | AJ98: =IF(C98=$C$56,V98,"") | AK98: =IF(C98=$C$57,V98,"") | AL98: =IF(C98=$C$58,V98,"")
E99: =_xlfn.IFNA(VLOOKUP(C99,'Te gebruiken meststoffen'!$R$3:$AC$10,12,FALSE),"") | F99: =D99*(IFERROR(VLOOKUP(C99,$C$45:$Q$58,3,FALSE),0)) -> 0 | G99: =O99 -> 0 | H99: =D99*(IFERROR(VLOOKUP(C99,$C$45:$Q$58,5,FALSE),0)) -> 0 | I99: =D99*(IFERROR(VLOOKUP(C99,$C$45:$Q$58,6,FALSE),0)) -> 0 | J99: =D99*(IFERROR(VLOOKUP(C99,$C$45:$Q$58,7,FALSE),0)) -> 0 | K99: =D99*(IFERROR(VLOOKUP(C99,$C$45:$Q$58,8,FALSE),0)) -> 0 | L99: =D99*(IFERROR(VLOOKUP(C99,$C$45:$Q$58,9,FALSE),0)) -> 0 | M99: =D99*(IFERROR(VLOOKUP(C99,$C$45:$Q$58,10,FALSE),0)) -> 0 | N99: =O99+P91+Q83+R75 -> 0 | O99: =D99*(IFERROR(VLOOKUP(C99,$C$45:$Q$58,12,FALSE),0)) -> 0 | P99: =D99*(IFERROR(VLOOKUP(C99,$C$45:$Q$58,13,FALSE),0)) -> 0 | Q99: =D99*(IFERROR(VLOOKUP(C99,$C$45:$Q$58,14,FALSE),0)) -> 0 | R99: =D99*(IFERROR(VLOOKUP(C99,$C$45:$Q$58,15,FALSE),0)) -> 0 | S99: =IF(F99>0,F99,G99) -> 0 | T99: =IF(D99="","",D99*$D$9) | U99: =IF(D99="","",E99) | V99: =IF(D99="","",D99*(VLOOKUP(C99,$C$45:$M$58,11,FALSE))) | W99: =IF(T99="","",T99*(VLOOKUP(C99,$C$45:$M$58,11,FALSE))) | Y99: =IF(C99=$C$45,V99,"") | Z99: =IF(C99=$C$46,V99,"") | AA99: =IF(C99=$C$47,V99,"") | AB99: =IF(C99=$C$48,V99,"") | AC99: =IF(C99=$C$49,V99,"") | AD99: =IF(C99=$C$50,V99,"") | AE99: =IF(C99=$C$51,V99,"") | AF99: =IF(C99=$C$52,V99,"") | AG99: =IF(C99=$C$53,V99,"") | AH99: =IF(C99=$C$54,V99,"") | AI99: =IF(C99=$C$55,V99,"") | AJ99: =IF(C99=$C$56,V99,"") | AK99: =IF(C99=$C$57,V99,"") | AL99: =IF(C99=$C$58,V99,"")
E100: =_xlfn.IFNA(VLOOKUP(C100,'Te gebruiken meststoffen'!$R$3:$AC$10,12,FALSE),"") | F100: =D100*(IFERROR(VLOOKUP(C100,$C$45:$Q$58,3,FALSE),0)) -> 0 | G100: =O100 -> 0 | H100: =D100*(IFERROR(VLOOKUP(C100,$C$45:$Q$58,5,FALSE),0)) -> 0 | I100: =D100*(IFERROR(VLOOKUP(C100,$C$45:$Q$58,6,FALSE),0)) -> 0 | J100: =D100*(IFERROR(VLOOKUP(C100,$C$45:$Q$58,7,FALSE),0)) -> 0 | K100: =D100*(IFERROR(VLOOKUP(C100,$C$45:$Q$58,8,FALSE),0)) -> 0 | L100: =D100*(IFERROR(VLOOKUP(C100,$C$45:$Q$58,9,FALSE),0)) -> 0 | M100: =D100*(IFERROR(VLOOKUP(C100,$C$45:$Q$58,10,FALSE),0)) -> 0 | N100: =O100+P92+Q84+R76 -> 0 | O100: =D100*(IFERROR(VLOOKUP(C100,$C$45:$Q$58,12,FALSE),0)) -> 0 | P100: =D100*(IFERROR(VLOOKUP(C100,$C$45:$Q$58,13,FALSE),0)) -> 0 | Q100: =D100*(IFERROR(VLOOKUP(C100,$C$45:$Q$58,14,FALSE),0)) -> 0 | R100: =D100*(IFERROR(VLOOKUP(C100,$C$45:$Q$58,15,FALSE),0)) -> 0 | S100: =IF(F100>0,F100,G100) -> 0 | T100: =IF(D100="","",D100*$D$9) | U100: =IF(D100="","",E100) | V100: =IF(D100="","",D100*(VLOOKUP(C100,$C$45:$M$58,11,FALSE))) | W100: =IF(T100="","",T100*(VLOOKUP(C100,$C$45:$M$58,11,FALSE))) | Y100: =IF(C100=$C$45,V100,"") | Z100: =IF(C100=$C$46,V100,"") | AA100: =IF(C100=$C$47,V100,"") | AB100: =IF(C100=$C$48,V100,"") | AC100: =IF(C100=$C$49,V100,"") | AD100: =IF(C100=$C$50,V100,"") | AE100: =IF(C100=$C$51,V100,"") | AF100: =IF(C100=$C$52,V100,"") | AG100: =IF(C100=$C$53,V100,"") | AH100: =IF(C100=$C$54,V100,"") | AI100: =IF(C100=$C$55,V100,"") | AJ100: =IF(C100=$C$56,V100,"") | AK100: =IF(C100=$C$57,V100,"") | AL100: =IF(C100=$C$58,V100,"")
E101: Totaal voor 5de snede | F101: =SUM(F95:F100) -> 0 | G101: =SUM(G94:G100) -> 0 | H101: =SUM(H95:H100) -> 0 | I101: =SUM(I95:I100) -> 0 | J101: =SUM(J95:J100) -> 0 | K101: =SUM(K95:K100) -> 0 | L101: =SUM(L95:L100) -> 0 | M101: =SUM(M95:M100) -> 0 | N101: =SUM(O95:O100,P87:P92,Q79:Q84,R71:R76) -> 0 | V101: =SUM(V95:V100) -> 0 | W101: =SUM(W95:W100) -> 0
A102: Datum toepassing | C102: Voor 6de snede | D102: Nwerkzaam uit bemesting vorige snedes | G102: =N109-SUM(G103:G108) -> 0 | S102: =SUM(S103:S108) -> 0
E103: =_xlfn.IFNA(VLOOKUP(C103,'Te gebruiken meststoffen'!$R$3:$AC$10,12,FALSE),"") | F103: =D103*(IFERROR(VLOOKUP(C103,$C$45:$Q$58,3,FALSE),0)) -> 0 | G103: =O103 -> 0 | H103: =D103*(IFERROR(VLOOKUP(C103,$C$45:$Q$58,5,FALSE),0)) -> 0 | I103: =D103*(IFERROR(VLOOKUP(C103,$C$45:$Q$58,6,FALSE),0)) -> 0 | J103: =D103*(IFERROR(VLOOKUP(C103,$C$45:$Q$58,7,FALSE),0)) -> 0 | K103: =D103*(IFERROR(VLOOKUP(C103,$C$45:$Q$58,8,FALSE),0)) -> 0 | L103: =D103*(IFERROR(VLOOKUP(C103,$C$45:$Q$58,9,FALSE),0)) -> 0 | M103: =D103*(IFERROR(VLOOKUP(C103,$C$45:$Q$58,10,FALSE),0)) -> 0 | N103: =O103+P95+Q87+R79 -> 0 | O103: =D103*(IFERROR(VLOOKUP(C103,$C$45:$Q$58,12,FALSE),0)) -> 0 | P103: =D103*(IFERROR(VLOOKUP(C103,$C$45:$Q$58,13,FALSE),0)) -> 0 | Q103: =D103*(IFERROR(VLOOKUP(C103,$C$45:$Q$58,14,FALSE),0)) -> 0 | R103: =D103*(IFERROR(VLOOKUP(C103,$C$45:$Q$58,15,FALSE),0)) -> 0 | S103: =IF(F103>0,F103,G103) -> 0 | T103: =IF(D103="","",D103*$D$9) | U103: =IF(D103="","",E103) | V103: =IF(D103="","",D103*(VLOOKUP(C103,$C$45:$M$58,11,FALSE))) | W103: =IF(T103="","",T103*(VLOOKUP(C103,$C$45:$M$58,11,FALSE))) | Y103: =IF(C103=$C$45,V103,"") | Z103: =IF(C103=$C$46,V103,"") | AA103: =IF(C103=$C$47,V103,"") | AB103: =IF(C103=$C$48,V103,"") | AC103: =IF(C103=$C$49,V103,"") | AD103: =IF(C103=$C$50,V103,"") | AE103: =IF(C103=$C$51,V103,"") | AF103: =IF(C103=$C$52,V103,"") | AG103: =IF(C103=$C$53,V103,"") | AH103: =IF(C103=$C$54,V103,"") | AI103: =IF(C103=$C$55,V103,"") | AJ103: =IF(C103=$C$56,V103,"") | AK103: =IF(C103=$C$57,V103,"") | AL103: =IF(C103=$C$58,V103,"")
E104: =_xlfn.IFNA(VLOOKUP(C104,'Te gebruiken meststoffen'!$R$3:$AC$10,12,FALSE),"") | F104: =D104*(IFERROR(VLOOKUP(C104,$C$45:$Q$58,3,FALSE),0)) -> 0 | G104: =O104 -> 0 | H104: =D104*(IFERROR(VLOOKUP(C104,$C$45:$Q$58,5,FALSE),0)) -> 0 | I104: =D104*(IFERROR(VLOOKUP(C104,$C$45:$Q$58,6,FALSE),0)) -> 0 | J104: =D104*(IFERROR(VLOOKUP(C104,$C$45:$Q$58,7,FALSE),0)) -> 0 | K104: =D104*(IFERROR(VLOOKUP(C104,$C$45:$Q$58,8,FALSE),0)) -> 0 | L104: =D104*(IFERROR(VLOOKUP(C104,$C$45:$Q$58,9,FALSE),0)) -> 0 | M104: =D104*(IFERROR(VLOOKUP(C104,$C$45:$Q$58,10,FALSE),0)) -> 0 | N104: =O104+P96+Q88+R80 -> 0 | O104: =D104*(IFERROR(VLOOKUP(C104,$C$45:$Q$58,12,FALSE),0)) -> 0 | P104: =D104*(IFERROR(VLOOKUP(C104,$C$45:$Q$58,13,FALSE),0)) -> 0 | Q104: =D104*(IFERROR(VLOOKUP(C104,$C$45:$Q$58,14,FALSE),0)) -> 0 | R104: =D104*(IFERROR(VLOOKUP(C104,$C$45:$Q$58,15,FALSE),0)) -> 0 | S104: =IF(F104>0,F104,G104) -> 0 | T104: =IF(D104="","",D104*$D$9) | U104: =IF(D104="","",E104) | V104: =IF(D104="","",D104*(VLOOKUP(C104,$C$45:$M$58,11,FALSE))) | W104: =IF(T104="","",T104*(VLOOKUP(C104,$C$45:$M$58,11,FALSE))) | Y104: =IF(C104=$C$45,V104,"") | Z104: =IF(C104=$C$46,V104,"") | AA104: =IF(C104=$C$47,V104,"") | AB104: =IF(C104=$C$48,V104,"") | AC104: =IF(C104=$C$49,V104,"") | AD104: =IF(C104=$C$50,V104,"") | AE104: =IF(C104=$C$51,V104,"") | AF104: =IF(C104=$C$52,V104,"") | AG104: =IF(C104=$C$53,V104,"") | AH104: =IF(C104=$C$54,V104,"") | AI104: =IF(C104=$C$55,V104,"") | AJ104: =IF(C104=$C$56,V104,"") | AK104: =IF(C104=$C$57,V104,"") | AL104: =IF(C104=$C$58,V104,"")
E105: =_xlfn.IFNA(VLOOKUP(C105,'Te gebruiken meststoffen'!$R$3:$AC$10,12,FALSE),"") | F105: =D105*(IFERROR(VLOOKUP(C105,$C$45:$Q$58,3,FALSE),0)) -> 0 | G105: =O105 -> 0 | H105: =D105*(IFERROR(VLOOKUP(C105,$C$45:$Q$58,5,FALSE),0)) -> 0 | I105: =D105*(IFERROR(VLOOKUP(C105,$C$45:$Q$58,6,FALSE),0)) -> 0 | J105: =D105*(IFERROR(VLOOKUP(C105,$C$45:$Q$58,7,FALSE),0)) -> 0 | K105: =D105*(IFERROR(VLOOKUP(C105,$C$45:$Q$58,8,FALSE),0)) -> 0 | L105: =D105*(IFERROR(VLOOKUP(C105,$C$45:$Q$58,9,FALSE),0)) -> 0 | M105: =D105*(IFERROR(VLOOKUP(C105,$C$45:$Q$58,10,FALSE),0)) -> 0 | N105: =O105+P97+Q89+R81 -> 0 | O105: =D105*(IFERROR(VLOOKUP(C105,$C$45:$Q$58,12,FALSE),0)) -> 0 | P105: =D105*(IFERROR(VLOOKUP(C105,$C$45:$Q$58,13,FALSE),0)) -> 0 | Q105: =D105*(IFERROR(VLOOKUP(C105,$C$45:$Q$58,14,FALSE),0)) -> 0 | R105: =D105*(IFERROR(VLOOKUP(C105,$C$45:$Q$58,15,FALSE),0)) -> 0 | S105: =IF(F105>0,F105,G105) -> 0 | T105: =IF(D105="","",D105*$D$9) | U105: =IF(D105="","",E105) | V105: =IF(D105="","",D105*(VLOOKUP(C105,$C$45:$M$58,11,FALSE))) | W105: =IF(T105="","",T105*(VLOOKUP(C105,$C$45:$M$58,11,FALSE))) | Y105: =IF(C105=$C$45,V105,"") | Z105: =IF(C105=$C$46,V105,"") | AA105: =IF(C105=$C$47,V105,"") | AB105: =IF(C105=$C$48,V105,"") | AC105: =IF(C105=$C$49,V105,"") | AD105: =IF(C105=$C$50,V105,"") | AE105: =IF(C105=$C$51,V105,"") | AF105: =IF(C105=$C$52,V105,"") | AG105: =IF(C105=$C$53,V105,"") | AH105: =IF(C105=$C$54,V105,"") | AI105: =IF(C105=$C$55,V105,"") | AJ105: =IF(C105=$C$56,V105,"") | AK105: =IF(C105=$C$57,V105,"") | AL105: =IF(C105=$C$58,V105,"")
E106: =_xlfn.IFNA(VLOOKUP(C106,'Te gebruiken meststoffen'!$R$3:$AC$10,12,FALSE),"") | F106: =D106*(IFERROR(VLOOKUP(C106,$C$45:$Q$58,3,FALSE),0)) -> 0 | G106: =O106 -> 0 | H106: =D106*(IFERROR(VLOOKUP(C106,$C$45:$Q$58,5,FALSE),0)) -> 0 | I106: =D106*(IFERROR(VLOOKUP(C106,$C$45:$Q$58,6,FALSE),0)) -> 0 | J106: =D106*(IFERROR(VLOOKUP(C106,$C$45:$Q$58,7,FALSE),0)) -> 0 | K106: =D106*(IFERROR(VLOOKUP(C106,$C$45:$Q$58,8,FALSE),0)) -> 0 | L106: =D106*(IFERROR(VLOOKUP(C106,$C$45:$Q$58,9,FALSE),0)) -> 0 | M106: =D106*(IFERROR(VLOOKUP(C106,$C$45:$Q$58,10,FALSE),0)) -> 0 | N106: =O106+P98+Q90+R82 -> 0 | O106: =D106*(IFERROR(VLOOKUP(C106,$C$45:$Q$58,12,FALSE),0)) -> 0 | P106: =D106*(IFERROR(VLOOKUP(C106,$C$45:$Q$58,13,FALSE),0)) -> 0 | Q106: =D106*(IFERROR(VLOOKUP(C106,$C$45:$Q$58,14,FALSE),0)) -> 0 | R106: =D106*(IFERROR(VLOOKUP(C106,$C$45:$Q$58,15,FALSE),0)) -> 0 | S106: =IF(F106>0,F106,G106) -> 0 | T106: =IF(D106="","",D106*$D$9) | U106: =IF(D106="","",E106) | V106: =IF(D106="","",D106*(VLOOKUP(C106,$C$45:$M$58,11,FALSE))) | W106: =IF(T106="","",T106*(VLOOKUP(C106,$C$45:$M$58,11,FALSE))) | Y106: =IF(C106=$C$45,V106,"") | Z106: =IF(C106=$C$46,V106,"") | AA106: =IF(C106=$C$47,V106,"") | AB106: =IF(C106=$C$48,V106,"") | AC106: =IF(C106=$C$49,V106,"") | AD106: =IF(C106=$C$50,V106,"") | AE106: =IF(C106=$C$51,V106,"") | AF106: =IF(C106=$C$52,V106,"") | AG106: =IF(C106=$C$53,V106,"") | AH106: =IF(C106=$C$54,V106,"") | AI106: =IF(C106=$C$55,V106,"") | AJ106: =IF(C106=$C$56,V106,"") | AK106: =IF(C106=$C$57,V106,"") | AL106: =IF(C106=$C$58,V106,"")
E107: =_xlfn.IFNA(VLOOKUP(C107,'Te gebruiken meststoffen'!$R$3:$AC$10,12,FALSE),"") | F107: =D107*(IFERROR(VLOOKUP(C107,$C$45:$Q$58,3,FALSE),0)) -> 0 | G107: =O107 -> 0 | H107: =D107*(IFERROR(VLOOKUP(C107,$C$45:$Q$58,5,FALSE),0)) -> 0 | I107: =D107*(IFERROR(VLOOKUP(C107,$C$45:$Q$58,6,FALSE),0)) -> 0 | J107: =D107*(IFERROR(VLOOKUP(C107,$C$45:$Q$58,7,FALSE),0)) -> 0 | K107: =D107*(IFERROR(VLOOKUP(C107,$C$45:$Q$58,8,FALSE),0)) -> 0 | L107: =D107*(IFERROR(VLOOKUP(C107,$C$45:$Q$58,9,FALSE),0)) -> 0 | M107: =D107*(IFERROR(VLOOKUP(C107,$C$45:$Q$58,10,FALSE),0)) -> 0 | N107: =O107+P99+Q91+R83 -> 0 | O107: =D107*(IFERROR(VLOOKUP(C107,$C$45:$Q$58,12,FALSE),0)) -> 0 | P107: =D107*(IFERROR(VLOOKUP(C107,$C$45:$Q$58,13,FALSE),0)) -> 0 | Q107: =D107*(IFERROR(VLOOKUP(C107,$C$45:$Q$58,14,FALSE),0)) -> 0 | R107: =D107*(IFERROR(VLOOKUP(C107,$C$45:$Q$58,15,FALSE),0)) -> 0 | S107: =IF(F107>0,F107,G107) -> 0 | T107: =IF(D107="","",D107*$D$9) | U107: =IF(D107="","",E107) | V107: =IF(D107="","",D107*(VLOOKUP(C107,$C$45:$M$58,11,FALSE))) | W107: =IF(T107="","",T107*(VLOOKUP(C107,$C$45:$M$58,11,FALSE))) | Y107: =IF(C107=$C$45,V107,"") | Z107: =IF(C107=$C$46,V107,"") | AA107: =IF(C107=$C$47,V107,"") | AB107: =IF(C107=$C$48,V107,"") | AC107: =IF(C107=$C$49,V107,"") | AD107: =IF(C107=$C$50,V107,"") | AE107: =IF(C107=$C$51,V107,"") | AF107: =IF(C107=$C$52,V107,"") | AG107: =IF(C107=$C$53,V107,"") | AH107: =IF(C107=$C$54,V107,"") | AI107: =IF(C107=$C$55,V107,"") | AJ107: =IF(C107=$C$56,V107,"") | AK107: =IF(C107=$C$57,V107,"") | AL107: =IF(C107=$C$58,V107,"")
E108: =_xlfn.IFNA(VLOOKUP(C108,'Te gebruiken meststoffen'!$R$3:$AC$10,12,FALSE),"") | F108: =D108*(IFERROR(VLOOKUP(C108,$C$45:$Q$58,3,FALSE),0)) -> 0 | G108: =O108 -> 0 | H108: =D108*(IFERROR(VLOOKUP(C108,$C$45:$Q$58,5,FALSE),0)) -> 0 | I108: =D108*(IFERROR(VLOOKUP(C108,$C$45:$Q$58,6,FALSE),0)) -> 0 | J108: =D108*(IFERROR(VLOOKUP(C108,$C$45:$Q$58,7,FALSE),0)) -> 0 | K108: =D108*(IFERROR(VLOOKUP(C108,$C$45:$Q$58,8,FALSE),0)) -> 0 | L108: =D108*(IFERROR(VLOOKUP(C108,$C$45:$Q$58,9,FALSE),0)) -> 0 | M108: =D108*(IFERROR(VLOOKUP(C108,$C$45:$Q$58,10,FALSE),0)) -> 0 | N108: =O108+P100+Q92+R84 -> 0 | O108: =D108*(IFERROR(VLOOKUP(C108,$C$45:$Q$58,12,FALSE),0)) -> 0 | P108: =D108*(IFERROR(VLOOKUP(C108,$C$45:$Q$58,13,FALSE),0)) -> 0 | Q108: =D108*(IFERROR(VLOOKUP(C108,$C$45:$Q$58,14,FALSE),0)) -> 0 | R108: =D108*(IFERROR(VLOOKUP(C108,$C$45:$Q$58,15,FALSE),0)) -> 0 | S108: =IF(F108>0,F108,G108) -> 0 | T108: =IF(D108="","",D108*$D$9) | U108: =IF(D108="","",E108) | V108: =IF(D108="","",D108*(VLOOKUP(C108,$C$45:$M$58,11,FALSE))) | W108: =IF(T108="","",T108*(VLOOKUP(C108,$C$45:$M$58,11,FALSE))) | Y108: =IF(C108=$C$45,V108,"") | Z108: =IF(C108=$C$46,V108,"") | AA108: =IF(C108=$C$47,V108,"") | AB108: =IF(C108=$C$48,V108,"") | AC108: =IF(C108=$C$49,V108,"") | AD108: =IF(C108=$C$50,V108,"") | AE108: =IF(C108=$C$51,V108,"") | AF108: =IF(C108=$C$52,V108,"") | AG108: =IF(C108=$C$53,V108,"") | AH108: =IF(C108=$C$54,V108,"") | AI108: =IF(C108=$C$55,V108,"") | AJ108: =IF(C108=$C$56,V108,"") | AK108: =IF(C108=$C$57,V108,"") | AL108: =IF(C108=$C$58,V108,"")
E109: Totaal voor 6de snede | F109: =SUM(F103:F108) -> 0 | G109: =SUM(G102:G108) -> 0 | H109: =SUM(H103:H108) -> 0 | I109: =SUM(I103:I108) -> 0 | J109: =SUM(J103:J108) -> 0 | K109: =SUM(K103:K108) -> 0 | L109: =SUM(L103:L108) -> 0 | M109: =SUM(M103:M108) -> 0 | N109: =SUM(O103:O108,P95:P100,Q87:Q92,R79:R84) -> 0 | V109: =SUM(V103:V108) -> 0 | W109: =SUM(W103:W108) -> 0 | Y109: =SUM(Y63:Y108) -> 0 | Z109: =SUM(Z63:Z108) -> 0 | AA109: =SUM(AA63:AA108) -> 0 | AB109: =SUM(AB63:AB108) -> 0 | AC109: =SUM(AC63:AC108) -> 0 | AD109: =SUM(AD63:AD108) -> 0 | AE109: =SUM(AE63:AE108) -> 0 | AF109: =SUM(AF63:AF108) -> 0 | ... AL109: =SUM(AL63:AL108) -> 0
...

Sheet Perceel_3
C1: Algemene gegevens
C2: Naam perceel | G2: Gegevens begrazing | N2: Uitscheiding kg/dier/jaar | P2: Bemesting via begrazing tijdens begrazingsbeurt
C3: Bodemtype | G3: Begrazingsnede | H3: Diercategorie | I3: Melkproductie (kg melk/jaar) | J3: Aantal grazende dieren | K3: Datum start begrazing | L3: Datum einde begrazing | M3: Uren begrazing per dag | N3: Ndier | O3: P2O5 | P3: Ndier | Q3: Nwz | R3: P2O5
