Workbook
Name Diercategorie: 'Lijsten en tabellen'!$AI$3:$AI$10
Name Melkkoeien: 'Lijsten en tabellen'!$AJ$3:$AJ$28

Sheet Handleiding
A7: Deze bemestingstool werd ontwikkeld binnen het demoproject "Graskracht". De tool helpt een correct bemestingschema op te stellen specifiek voor grasland en grasmengsels met vlinderbloemigen en/of kruiden. Deze werd initieel ontwikkeld als hulpmiddel voor adviseurs, maar kan eveneens door de geïnteresseerde landbouwer worden gebruikt als hulpmiddel.
A11: Enkel de cellen met onderstaande kleuren dienen ingevuld te worden.
B12: Gele cellen moeten worden ingevuld om correcte adviezen en berekeningen van de bemesting te verkrijgen.
B14: Lichtgele cellen kunnen voorwaardelijk worden ingevuld. Deze cellen zijn niet essentieel voor de berekeningen, maar wanneer ingevuld worden deze benamingen/waarden wel gebruikt in de verdere berekeningen.
A17: Stap 1: Toevoegen van de te gebruiken meststoffen
A18: Vul het tabblad "Te gebruiken meststoffen" steeds van boven naar onder in. Zo wordt de volgorde van de keuzelijsten gerespecteerd. Dus vul eerst "Type mest" in en erna de "Officiële benaming". Indien je een alternatieve benaming wenst te gebruiken i.p.v. de officiële benaming, kan je deze invullen in de lichtgele cellen in het linkergedeelte van het tabblad. In het rechtergedeelte kan er ook steeds een alternatieve samenstelling worden ingegeven van bv. een eigen mestanalyse. Wanneer je 2 putten met verschillende inhoud hebt, kan je deze beide een "Eigen naam" geven en bijhorende inhoud invullen. Kostprijzen kunnen eveneens per mestsoort worden toegevoegd. Let echter op de eenheid, voor een correcte berekening later in de tool.
A25: Stap 2: Vul algemene perceelsinformatie in
A26: Na het invullen van het tabblad " Te gebruiken meststoffen" kan je naar de volgende tabbladen gaan voor de bemestingschema's per perceel (zoals "Perceel_1"). Om correcte adviezen voor te stellen en de juiste bemestingsnormen weer te geven, dienen er enkele algemene perceelsgegevens ingevuld te worden in de gele cellen via keuzelijstjes.
A31: Stap 3: Controleer het voorgestelde advies en wijzig indien nodig
A32: Bekijk het voorgestelde advies en vergelijk dit eventueel met andere adviezen zoals deze bij je bodemanalyses. Indien nodig kan je dan een eigen advies invullen in de lichtgele cellen. Via de gele cel kan je kiezen of je een advies per jaar invult of per snede.
A35: Stap 4: Indien begrazing, vul dan ook hier de nodige cijfers van in
A36: Onder gegevens begrazing kan je invullen hoeveel runderen voor welke periode en duur per dag aan begrazing deden per snede. Hieruit wordt er automatisch een N- en P-uitscheiding berekend (zoals te zien onderaan bij de "te gebruiken meststoffen), die later dan ook als bemesting kan worden ingevuld.
A39: Stap 5: Bemesting invullen
A40: Na alle benodigde gegevens in te vullen, kan er aan de effectieve bemesting worden gestart. Vul per snede de gele cellen in met de toe te dienen meststof en hoeveelheid. Onderaan het tablad kan je controleren hoe de zelf ingevulde bemesting overeenkomt met het voorziene advies via een tabel of de beschikbare grafieken. Pas aan de hand daarvan de bemesting aan om verder te optimaliseren. Aan de linkerkant wordt er eveneens een overzicht gegeven van de kostprijs van het bemestingsschema.
A45: Stap 6: Oogstgegevens invullen en NUE bepalen
A46: De NUE of Nitrogen Use Efficiency is een kengetal voor de bruto stikstofefficiëntie van het perceel. Dit betekent de verhouding waarin er stikstof wordt geoogst in de vorm van eiwit in het gras per hoeveelheid stikstof die via bemesting werd toegediend. Dit kengetal kan je automatisch laten berekenen door de oogstgegevens in te vullen.

Sheet Te gebruiken meststoffen
A1: Welke meststoffen wens je in te zetten? | D1: Als eigen naam mest of analysewaarden zijn ingevuld, worden deze ook gebruikt verder in de tool. | U1: Werkzame
A2: Meststof 1 | C2: Eenheid inhoud: | D2: =_xlfn.CONCAT("Inhoud (",C3,")") -> #N/A | E2: N | F2: P2O5 | G2: K2O | H2: MgO | I2: CaO | J2: Na2O | K2: SO3 | L2: N-vrijgave 1st volgende snede | M2: N-vrijgave 2de snede | N2: N-vrijgave 3de snede | O2: N-vrijgave 4de snede | Q2: Meststoffenlijst | S2: Eenheid inhoud | T2: Ndier | U2: Nwz | V2: P2O5 | W2: K2O | X2: MgO | Y2: CaO | Z2: Na2O | AA2: SO3 | AB2: Bron | AC2: Eenheid dosering | AD2: N-vrijgave 1st volgende snede | AE2: N-vrijgave 2de snede | AF2: N-vrijgave 3de snede | AG2: N-vrijgave 4de snede | AH2: Kostprijs
A3: Type mest: | C3: =VLOOKUP(B4,Meststoffenlijst!E3:I184,4,FALSE) -> #N/A | D3: Forfaitair: | E3: =IF(B4="","",IF(VLOOKUP(B4,Meststoffenlijst!$E$3:$AF$184,6,FALSE)=0,"",VLOOKUP(B4,Meststoffenlijst!$E$3:$AF$184,6,FALSE))) | F3: =IF(B4="","",IF(VLOOKUP(B4,Meststoffenlijst!$E$3:$AF$184,10,FALSE)=0,"",VLOOKUP(B4,Meststoffenlijst!$E$3:$AF$184,10,FALSE))) | G3: =IF(B4="","",IF(VLOOKUP(B4,Meststoffenlijst!$E$3:$AF$184,13,FALSE)=0,"",VLOOKUP(B4,Meststoffenlijst!$E$3:$AF$184,13,FALSE))) | H3: =IF(B4="","",IF(VLOOKUP(B4,Meststoffenlijst!$E$3:$AF$184,16,FALSE)=0,"",VLOOKUP(B4,Meststoffenlijst!$E$3:$AF$184,16,FALSE))) | I3: =IF(B4="","",IF(VLOOKUP(B4,Meststoffenlijst!$E$3:$AF$184,19,FALSE)=0,"",VLOOKUP(B4,Meststoffenlijst!$E$3:$AF$184,19,FALSE))) | J3: =IF(B4="","",IF(VLOOKUP(B4,Meststoffenlijst!$E$3:$AF$184,22,FALSE)=0,"",VLOOKUP(B4,Meststoffenlijst!$E$3:$AF$184,22,FALSE))) | K3: =IF(B4="","",IF(VLOOKUP(B4,Meststoffenlijst!$E$3:$AF$184,25,FALSE)=0,"",VLOOKUP(B4,Meststoffenlijst!$E$3:$AF$184,25,FALSE))) | Q3: Meststof 1 | R3: =B7 -> 0 | S3: =C3 -> #N/A | T3: =IF(AB3="DIERLIJKE",IF(E4="",E3,E4),0) -> 0 | U3: =IF(E6="",0,E6) -> 0 | V3: =IF(F6="",0,F6) -> 0 | W3: =IF(G6="",0,G6) -> 0 | X3: =IF(H6="",0,H6) -> 0 | Y3: =IF(I6="",0,I6) -> 0 | Z3: =IF(J6="",0,J6) -> 0 | AA3: =IF(K6="",0,K6) -> 0 | AB3: =B3 -> 0 | AC3: =A7 -> #N/A | AD3: =L6 -> 0 | AE3: =M6 -> 0 | AF3: =N6 -> 0 | AG3: =O6 -> 0 | AH3: =B6 -> 0
A4: Officiële naam mest: | D4: Eigen analyse/meststof: | Q4: Meststof 2 | R4: =B13 -> 0 | S4: =C9 -> #N/A | T4: =IF(AB4="DIERLIJKE",IF(E10="",E9,E10),0) -> 0 | U4: =IF(E12="",0,E12) -> 0 | V4: =IF(F12="",0,F12) -> 0 | W4: =IF(G12="",0,G12) -> 0 | X4: =IF(H12="",0,H12) -> 0 | Y4: =IF(I12="",0,I12) -> 0 | Z4: =IF(J12="",0,J12) -> 0 | AA4: =IF(K12="",0,K12) -> 0 | AB4: =B9 -> 0 | AC4: =A13 -> #N/A | AD4: =L12 -> 0 | AE4: =M12 -> 0 | AF4: =N12 -> 0 | AG4: =O12 -> 0 | AH4: =B12 -> 0
A5: Eigen naam mest: | D5: Werkingscoëfficiënt (%): | E5: =IF(B4="","",IF(VLOOKUP(B4,Meststoffenlijst!$E$3:$AF$184,7,FALSE)=0,"",VLOOKUP(B4,Meststoffenlijst!$E$3:$AF$184,7,FALSE))) | F5: =IF(B4="","",IF(VLOOKUP(B4,Meststoffenlijst!$E$3:$AF$184,11,FALSE)=0,"",VLOOKUP(B4,Meststoffenlijst!$E$3:$AF$184,11,FALSE))) | G5: =IF(B4="","",IF(VLOOKUP(B4,Meststoffenlijst!$E$3:$AF$184,14,FALSE)=0,"",VLOOKUP(B4,Meststoffenlijst!$E$3:$AF$184,14,FALSE))) | H5: =IF(B4="","",IF(VLOOKUP(B4,Meststoffenlijst!$E$3:$AF$184,17,FALSE)=0,"",VLOOKUP(B4,Meststoffenlijst!$E$3:$AF$184,17,FALSE))) | I5: =IF(B4="","",IF(VLOOKUP(B4,Meststoffenlijst!$E$3:$AF$184,20,FALSE)=0,"",VLOOKUP(B4,Meststoffenlijst!$E$3:$AF$184,20,FALSE))) | J5: =IF(B4="","",IF(VLOOKUP(B4,Meststoffenlijst!$E$3:$AF$184,23,FALSE)=0,"",VLOOKUP(B4,Meststoffenlijst!$E$3:$AF$184,23,FALSE))) | K5: =IF(B4="","",IF(VLOOKUP(B4,Meststoffenlijst!$E$3:$AF$184,26,FALSE)=0,"",VLOOKUP(B4,Meststoffenlijst!$E$3:$AF$184,26,FALSE))) | L5: =IF(B4="","",IF(VLOOKUP(B4,Meststoffenlijst!$E$3:$AJ$184,29,FALSE)=0,"",VLOOKUP(B4,Meststoffenlijst!$E$3:$AJ$184,29,FALSE))) | M5: =IF(B4="","",IF(VLOOKUP(B4,Meststoffenlijst!$E$3:$AJ$184,30,FALSE)=0,"",VLOOKUP(B4,Meststoffenlijst!$E$3:$AJ$184,30,FALSE))) | N5: =IF(B4="","",IF(VLOOKUP(B4,Meststoffenlijst!$E$3:$AJ$184,31,FALSE)=0,"",VLOOKUP(B4,Meststoffenlijst!$E$3:$AJ$184,31,FALSE))) | O5: =IF(B4="","",IF(VLOOKUP(B4,Meststoffenlijst!$E$3:$AJ$184,32,FALSE)=0,"",VLOOKUP(B4,Meststoffenlijst!$E$3:$AJ$184,32,FALSE))) | Q5: Meststof 3 | R5: =B19 -> 0 | S5: =C15 -> #N/A | T5: =IF(AB5="DIERLIJKE",IF(E16="",E15,E16),0) -> 0 | U5: =IF(E18="",0,E18) -> 0 | V5: =IF(F18="",0,F18) -> 0 | W5: =IF(G18="",0,G18) -> 0 | X5: =IF(H18="",0,H18) -> 0 | Y5: =IF(I18="",0,I18) -> 0 | Z5: =IF(J18="",0,J18) -> 0 | AA5: =IF(K18="",0,K18) -> 0 | AB5: =B15 -> 0 | AC5: =A19 -> #N/A | AD5: =L18 -> 0 | AE5: =M18 -> 0 | AF5: =N18 -> 0 | AG5: =O18 -> 0 | AH5: =B18 -> 0
A6: =IFERROR(_xlfn.CONCAT("Prijs (EUR/",A7,")"),"") | D6: Werkzaam: | E6: =IF(B4="",IF(E4="","",E4),IF(E4="",IF(VLOOKUP(B4,Meststoffenlijst!$E$3:$AF$184,8,FALSE)=0,"",VLOOKUP(B4,Meststoffenlijst!$E$3:$AF$184,8,FALSE)),IF(E5="",E4,E4*E5/100))) | F6: =IF(B4="",IF(F4="","",F4),IF(F4="",IF(VLOOKUP(B4,Meststoffenlijst!$E$3:$AF$184,12,FALSE)=0,"",VLOOKUP(B4,Meststoffenlijst!$E$3:$AF$184,12,FALSE)),IF(F5="",F4,F4*F5/100))) | G6: =IF(B4="",IF(G4="","",G4),IF(G4="",IF(VLOOKUP(B4,Meststoffenlijst!$E$3:$AF$184,15,FALSE)=0,"",VLOOKUP(B4,Meststoffenlijst!$E$3:$AF$184,15,FALSE)),IF(G5="",G4,G4*G5/100))) | H6: =IF(B4="",IF(H4="","",H4),IF(H4="",IF(VLOOKUP(B4,Meststoffenlijst!$E$3:$AF$184,18,FALSE)=0,"",VLOOKUP(B4,Meststoffenlijst!$E$3:$AF$184,18,FALSE)),IF(H5="",H4,H4*H5/100))) | I6: =IF(B4="",IF(I4="","",I4),IF(I4="",IF(VLOOKUP(B4,Meststoffenlijst!$E$3:$AF$184,21,FALSE)=0,"",VLOOKUP(B4,Meststoffenlijst!$E$3:$AF$184,21,FALSE)),IF(I5="",I4,I4*I5/100))) | J6: =IF(B4="",IF(J4="","",J4),IF(J4="",IF(VLOOKUP(B4,Meststoffenlijst!$E$3:$AF$184,24,FALSE)=0,"",VLOOKUP(B4,Meststoffenlijst!$E$3:$AF$184,24,FALSE)),IF(J5="",J4,J4*J5/100))) | K6: =IF(B4="",IF(K4="","",K4),IF(K4="",IF(VLOOKUP(B4,Meststoffenlijst!$E$3:$AF$184,27,FALSE)=0,"",VLOOKUP(B4,Meststoffenlijst!$E$3:$AF$184,27,FALSE)),IF(K5="",K4,K4*K5/100))) | L6: =IFERROR($E$6*L5/100,0) -> 0 | M6: =IFERROR($E$6*M5/100,0) -> 0 | N6: =IFERROR($E$6*N5/100,0) -> 0 | O6: =IFERROR($E$6*O5/100,0) -> 0 | Q6: Meststof 4 | R6: =B25 -> 0 | S6: =C21 -> #N/A | T6: =IF(AB6="DIERLIJKE",IF(E22="",E21,E22),0) -> 0 | U6: =IF(E24="",0,E24) -> 0 | V6: =IF(F24="",0,F24) -> 0 | W6: =IF(G24="",0,G24) -> 0 | X6: =IF(H24="",0,H24) -> 0 | Y6: =IF(I24="",0,I24) -> 0 | Z6: =IF(J24="",0,J24) -> 0 | AA6: =IF(K24="",0,K24) -> 0 | AB6: =B21 -> 0 | AC6: =A25 -> #N/A | AD6: =L24 -> 0 | AE6: =M24 -> 0 | AF6: =N24 -> 0 | AG6: =O24 -> 0 | AH6: =B24 -> 0
A7: =VLOOKUP(B4,Meststoffenlijst!E3:I184,5,FALSE) -> #N/A | B7: =IF(B5="",B4,B5) -> 0 | Q7: Meststof 5 | R7: =B31 -> 0 | S7: =C27 -> #N/A | T7: =IF(AB7="DIERLIJKE",IF(E28="",E27,E28),0) -> 0 | U7: =IF(E30="",0,E30) -> 0 | V7: =IF(F30="",0,F30) -> 0 | W7: =IF(G30="",0,G30) -> 0 | X7: =IF(H30="",0,H30) -> 0 | Y7: =IF(I30="",0,I30) -> 0 | Z7: =IF(J30="",0,J30) -> 0 | AA7: =IF(K30="",0,K30) -> 0 | AB7: =B27 -> 0 | AC7: =A31 -> #N/A | AD7: =L30 -> 0 | AE7: =M30 -> 0 | AF7: =N30 -> 0 | AG7: =O30 -> 0 | AH7: =B30 -> 0
A8: Meststof 2 | C8: Eenheid inhoud: | D8: =_xlfn.CONCAT("Inhoud (",C9,")") -> #N/A | E8: N | F8: P2O5 | G8: K2O | H8: MgO | I8: CaO | J8: Na2O | K8: SO3 | Q8: Meststof 6 | R8: =B37 -> 0 | S8: =C33 -> #N/A | T8: =IF(AB8="DIERLIJKE",IF(E34="",E33,E34),0) -> 0 | U8: =IF(E36="",0,E36) -> 0 | V8: =IF(F36="",0,F36) -> 0 | W8: =IF(G36="",0,G36) -> 0 | X8: =IF(H36="",0,H36) -> 0 | Y8: =IF(I36="",0,I36) -> 0 | Z8: =IF(J36="",0,J36) -> 0 | AA8: =IF(K36="",0,K36) -> 0 | AB8: =B33 -> 0 | AC8: =A37 -> #N/A | AD8: =L36 -> 0 | AE8: =M36 -> 0 | AF8: =N36 -> 0 | AG8: =O36 -> 0 | AH8: =B36 -> 0
A9: Type mest: | C9: =VLOOKUP(B10,Meststoffenlijst!E9:I190,4,FALSE) -> #N/A | D9: Forfaitair: | E9: =IF(B10="","",IF(VLOOKUP(B10,Meststoffenlijst!$E$3:$AF$184,6,FALSE)=0,"",VLOOKUP(B10,Meststoffenlijst!$E$3:$AF$184,6,FALSE))) | F9: =IF(B10="","",IF(VLOOKUP(B10,Meststoffenlijst!$E$3:$AF$184,10,FALSE)=0,"",VLOOKUP(B10,Meststoffenlijst!$E$3:$AF$184,10,FALSE))) | G9: =IF(B10="","",IF(VLOOKUP(B10,Meststoffenlijst!$E$3:$AF$184,13,FALSE)=0,"",VLOOKUP(B10,Meststoffenlijst!$E$3:$AF$184,13,FALSE))) | H9: =IF(B10="","",IF(VLOOKUP(B10,Meststoffenlijst!$E$3:$AF$184,16,FALSE)=0,"",VLOOKUP(B10,Meststoffenlijst!$E$3:$AF$184,16,FALSE))) | I9: =IF(B10="","",IF(VLOOKUP(B10,Meststoffenlijst!$E$3:$AF$184,19,FALSE)=0,"",VLOOKUP(B10,Meststoffenlijst!$E$3:$AF$184,19,FALSE))) | J9: =IF(B10="","",IF(VLOOKUP(B10,Meststoffenlijst!$E$3:$AF$184,22,FALSE)=0,"",VLOOKUP(B10,Meststoffenlijst!$E$3:$AF$184,22,FALSE))) | K9: =IF(B10="","",IF(VLOOKUP(B10,Meststoffenlijst!$E$3:$AF$184,25,FALSE)=0,"",VLOOKUP(B10,Meststoffenlijst!$E$3:$AF$184,25,FALSE))) | Q9: Meststof 7 | R9: =B43 -> 0 | S9: =C39 -> #N/A | T9: =IF(AB9="DIERLIJKE",IF(E40="",E39,E40),0) -> 0 | U9: =IF(E42="",0,E42) -> 0 | V9: =IF(F42="",0,F42) -> 0 | W9: =IF(G42="",0,G42) -> 0 | X9: =IF(H42="",0,H42) -> 0 | Y9: =IF(I42="",0,I42) -> 0 | Z9: =IF(J42="",0,J42) -> 0 | AA9: =IF(K42="",0,K42) -> 0 | AB9: =B39 -> 0 | AC9: =A43 -> #N/A | AD9: =L42 -> 0 | AE9: =M42 -> 0 | AF9: =N42 -> 0 | AG9: =O42 -> 0 | AH9: =B42 -> 0
A10: Officiële naam mest: | D10: Eigen analyse/meststof: | Q10: Meststof 8 | R10: =B49 -> 0 | S10: =C45 -> #N/A | T10: =IF(AB10="DIERLIJKE",IF(E46="",E45,E46),0) -> 0 | U10: =IF(E48="",0,E48) -> 0 | V10: =IF(F48="",0,F48) -> 0 | W10: =IF(G48="",0,G48) -> 0 | X10: =IF(H48="",0,H48) -> 0 | Y10: =IF(I48="",0,I48) -> 0 | Z10: =IF(J48="",0,J48) -> 0 | AA10: =IF(K48="",0,K48) -> 0 | AB10: =B45 -> 0 | AC10: =A49 -> #N/A | AD10: =L48 -> 0 | AE10: =M48 -> 0 | AF10: =N48 -> 0 | AG10: =O48 -> 0 | AH10: =B48 -> 0
A11: Eigen naam mest: | D11: Werkingscoëfficiënt (%): | E11: =IF(B10="","",IF(VLOOKUP(B10,Meststoffenlijst!$E$3:$AF$184,7,FALSE)=0,"",VLOOKUP(B10,Meststoffenlijst!$E$3:$AF$184,7,FALSE))) | F11: =IF(B10="","",IF(VLOOKUP(B10,Meststoffenlijst!$E$3:$AF$184,11,FALSE)=0,"",VLOOKUP(B10,Meststoffenlijst!$E$3:$AF$184,11,FALSE))) | G11: =IF(B10="","",IF(VLOOKUP(B10,Meststoffenlijst!$E$3:$AF$184,14,FALSE)=0,"",VLOOKUP(B10,Meststoffenlijst!$E$3:$AF$184,14,FALSE))) | H11: =IF(B10="","",IF(VLOOKUP(B10,Meststoffenlijst!$E$3:$AF$184,17,FALSE)=0,"",VLOOKUP(B10,Meststoffenlijst!$E$3:$AF$184,17,FALSE))) | I11: =IF(B10="","",IF(VLOOKUP(B10,Meststoffenlijst!$E$3:$AF$184,20,FALSE)=0,"",VLOOKUP(B10,Meststoffenlijst!$E$3:$AF$184,20,FALSE))) | J11: =IF(B10="","",IF(VLOOKUP(B10,Meststoffenlijst!$E$3:$AF$184,23,FALSE)=0,"",VLOOKUP(B10,Meststoffenlijst!$E$3:$AF$184,23,FALSE))) | K11: =IF(B10="","",IF(VLOOKUP(B10,Meststoffenlijst!$E$3:$AF$184,26,FALSE)=0,"",VLOOKUP(B10,Meststoffenlijst!$E$3:$AF$184,26,FALSE))) | L11: =IF(B10="","",IF(VLOOKUP(B10,Meststoffenlijst!$E$3:$AJ$184,29,FALSE)=0,"",VLOOKUP(B10,Meststoffenlijst!$E$3:$AJ$184,29,FALSE))) | M11: =IF(B10="","",IF(VLOOKUP(B10,Meststoffenlijst!$E$3:$AJ$184,30,FALSE)=0,"",VLOOKUP(B10,Meststoffenlijst!$E$3:$AJ$184,30,FALSE))) | N11: =IF(B10="","",IF(VLOOKUP(B10,Meststoffenlijst!$E$3:$AJ$184,31,FALSE)=0,"",VLOOKUP(B10,Meststoffenlijst!$E$3:$AJ$184,31,FALSE))) | O11: =IF(B10="","",IF(VLOOKUP(B10,Meststoffenlijst!$E$3:$AJ$184,32,FALSE)=0,"",VLOOKUP(B10,Meststoffenlijst!$E$3:$AJ$184,32,FALSE)))
A12: =IFERROR(_xlfn.CONCAT("Prijs (EUR/",A13,")"),"") | D12: Werkzaam: | E12: =IF(B10="",IF(E10="","",E10),IF(E10="",IF(VLOOKUP(B10,Meststoffenlijst!$E$3:$AF$184,8,FALSE)=0,"",VLOOKUP(B10,Meststoffenlijst!$E$3:$AF$184,8,FALSE)),IF(E11="",E10,E10*E11/100))) | F12: =IF(B10="",IF(F10="","",F10),IF(F10="",IF(VLOOKUP(B10,Meststoffenlijst!$E$3:$AF$184,12,FALSE)=0,"",VLOOKUP(B10,Meststoffenlijst!$E$3:$AF$184,12,FALSE)),IF(F11="",F10,F10*F11/100))) | G12: =IF(B10="",IF(G10="","",G10),IF(G10="",IF(VLOOKUP(B10,Meststoffenlijst!$E$3:$AF$184,15,FALSE)=0,"",VLOOKUP(B10,Meststoffenlijst!$E$3:$AF$184,15,FALSE)),IF(G11="",G10,G10*G11/100))) | H12: =IF(B10="",IF(H10="","",H10),IF(H10="",IF(VLOOKUP(B10,Meststoffenlijst!$E$3:$AF$184,18,FALSE)=0,"",VLOOKUP(B10,Meststoffenlijst!$E$3:$AF$184,18,FALSE)),IF(H11="",H10,H10*H11/100))) | I12: =IF(B10="",IF(I10="","",I10),IF(I10="",IF(VLOOKUP(B10,Meststoffenlijst!$E$3:$AF$184,21,FALSE)=0,"",VLOOKUP(B10,Meststoffenlijst!$E$3:$AF$184,21,FALSE)),IF(I11="",I10,I10*I11/100))) | J12: =IF(B10="",IF(J10="","",J10),IF(J10="",IF(VLOOKUP(B10,Meststoffenlijst!$E$3:$AF$184,24,FALSE)=0,"",VLOOKUP(B10,Meststoffenlijst!$E$3:$AF$184,24,FALSE)),IF(J11="",J10,J10*J11/100))) | K12: =IF(B10="",IF(K10="","",K10),IF(K10="",IF(VLOOKUP(B10,Meststoffenlijst!$E$3:$AF$184,27,FALSE)=0,"",VLOOKUP(B10,Meststoffenlijst!$E$3:$AF$184,27,FALSE)),IF(K11="",K10,K10*K11/100))) | L12: =IFERROR($E$12*L11/100,0) -> 0 | M12: =IFERROR($E$12*M11/100,0) -> 0 | N12: =IFERROR($E$12*N11/100,0) -> 0 | O12: =IFERROR($E$12*O11/100,0) -> 0
A13: =VLOOKUP(B10,Meststoffenlijst!E3:I184,5,FALSE) -> #N/A | B13: =IF(B11="",B10,B11) -> 0
A14: Meststof 3 | C14: Eenheid inhoud: | D14: =_xlfn.CONCAT("Inhoud (",C15,")") -> #N/A | E14: N | F14: P2O5 | G14: K2O | H14: MgO | I14: CaO | J14: Na2O | K14: SO3
A15: Type mest: | C15: =VLOOKUP(B16,Meststoffenlijst!E15:I196,4,FALSE) -> #N/A | D15: Forfaitair: | E15: =IF(B16="","",IF(VLOOKUP(B16,Meststoffenlijst!$E$3:$AF$184,6,FALSE)=0,"",VLOOKUP(B16,Meststoffenlijst!$E$3:$AF$184,6,FALSE))) | F15: =IF(B16="","",IF(VLOOKUP(B16,Meststoffenlijst!$E$3:$AF$184,10,FALSE)=0,"",VLOOKUP(B16,Meststoffenlijst!$E$3:$AF$184,10,FALSE))) | G15: =IF(B16="","",IF(VLOOKUP(B16,Meststoffenlijst!$E$3:$AF$184,13,FALSE)=0,"",VLOOKUP(B16,Meststoffenlijst!$E$3:$AF$184,13,FALSE))) | H15: =IF(B16="","",IF(VLOOKUP(B16,Meststoffenlijst!$E$3:$AF$184,16,FALSE)=0,"",VLOOKUP(B16,Meststoffenlijst!$E$3:$AF$184,16,FALSE))) | I15: =IF(B16="","",IF(VLOOKUP(B16,Meststoffenlijst!$E$3:$AF$184,19,FALSE)=0,"",VLOOKUP(B16,Meststoffenlijst!$E$3:$AF$184,19,FALSE))) | J15: =IF(B16="","",IF(VLOOKUP(B16,Meststoffenlijst!$E$3:$AF$184,22,FALSE)=0,"",VLOOKUP(B16,Meststoffenlijst!$E$3:$AF$184,22,FALSE))) | K15: =IF(B16="","",IF(VLOOKUP(B16,Meststoffenlijst!$E$3:$AF$184,25,FALSE)=0,"",VLOOKUP(B16,Meststoffenlijst!$E$3:$AF$184,25,FALSE)))
A16: Officiële naam mest: | D16: Eigen analyse/meststof:
A17: Eigen naam mest: | D17: Werkingscoëfficiënt (%): | E17: =IF(B16="","",IF(VLOOKUP(B16,Meststoffenlijst!$E$3:$AF$184,7,FALSE)=0,"",VLOOKUP(B16,Meststoffenlijst!$E$3:$AF$184,7,FALSE))) | F17: =IF(B16="","",IF(VLOOKUP(B16,Meststoffenlijst!$E$3:$AF$184,11,FALSE)=0,"",VLOOKUP(B16,Meststoffenlijst!$E$3:$AF$184,11,FALSE))) | G17: =IF(B16="","",IF(VLOOKUP(B16,Meststoffenlijst!$E$3:$AF$184,14,FALSE)=0,"",VLOOKUP(B16,Meststoffenlijst!$E$3:$AF$184,14,FALSE))) | H17: =IF(B16="","",IF(VLOOKUP(B16,Meststoffenlijst!$E$3:$AF$184,17,FALSE)=0,"",VLOOKUP(B16,Meststoffenlijst!$E$3:$AF$184,17,FALSE))) | I17: =IF(B16="","",IF(VLOOKUP(B16,Meststoffenlijst!$E$3:$AF$184,20,FALSE)=0,"",VLOOKUP(B16,Meststoffenlijst!$E$3:$AF$184,20,FALSE))) | J17: =IF(B16="","",IF(VLOOKUP(B16,Meststoffenlijst!$E$3:$AF$184,23,FALSE)=0,"",VLOOKUP(B16,Meststoffenlijst!$E$3:$AF$184,23,FALSE))) | K17: =IF(B16="","",IF(VLOOKUP(B16,Meststoffenlijst!$E$3:$AF$184,26,FALSE)=0,"",VLOOKUP(B16,Meststoffenlijst!$E$3:$AF$184,26,FALSE))) | L17: =IF(B16="","",IF(VLOOKUP(B16,Meststoffenlijst!$E$3:$AJ$184,29,FALSE)=0,"",VLOOKUP(B16,Meststoffenlijst!$E$3:$AJ$184,29,FALSE))) | M17: =IF(B16="","",IF(VLOOKUP(B16,Meststoffenlijst!$E$3:$AJ$184,30,FALSE)=0,"",VLOOKUP(B16,Meststoffenlijst!$E$3:$AJ$184,30,FALSE))) | N17: =IF(B16="","",IF(VLOOKUP(B16,Meststoffenlijst!$E$3:$AJ$184,31,FALSE)=0,"",VLOOKUP(B16,Meststoffenlijst!$E$3:$AJ$184,31,FALSE))) | O17: =IF(B16="","",IF(VLOOKUP(B16,Meststoffenlijst!$E$3:$AJ$184,32,FALSE)=0,"",VLOOKUP(B16,Meststoffenlijst!$E$3:$AJ$184,32,FALSE)))
A18: =IFERROR(_xlfn.CONCAT("Prijs (EUR/",A19,")"),"") | D18: Werkzaam: | E18: =IF(B16="",IF(E16="","",E16),IF(E16="",IF(VLOOKUP(B16,Meststoffenlijst!$E$3:$AF$184,8,FALSE)=0,"",VLOOKUP(B16,Meststoffenlijst!$E$3:$AF$184,8,FALSE)),IF(E17="",E16,E16*E17/100))) | F18: =IF(B16="",IF(F16="","",F16),IF(F16="",IF(VLOOKUP(B16,Meststoffenlijst!$E$3:$AF$184,12,FALSE)=0,"",VLOOKUP(B16,Meststoffenlijst!$E$3:$AF$184,12,FALSE)),IF(F17="",F16,F16*F17/100))) | G18: =IF(B16="",IF(G16="","",G16),IF(G16="",IF(VLOOKUP(B16,Meststoffenlijst!$E$3:$AF$184,15,FALSE)=0,"",VLOOKUP(B16,Meststoffenlijst!$E$3:$AF$184,15,FALSE)),IF(G17="",G16,G16*G17/100))) | H18: =IF(B16="",IF(H16="","",H16),IF(H16="",IF(VLOOKUP(B16,Meststoffenlijst!$E$3:$AF$184,18,FALSE)=0,"",VLOOKUP(B16,Meststoffenlijst!$E$3:$AF$184,18,FALSE)),IF(H17="",H16,H16*H17/100))) | I18: =IF(B16="",IF(I16="","",I16),IF(I16="",IF(VLOOKUP(B16,Meststoffenlijst!$E$3:$AF$184,21,FALSE)=0,"",VLOOKUP(B16,Meststoffenlijst!$E$3:$AF$184,21,FALSE)),IF(I17="",I16,I16*I17/100))) | J18: =IF(B16="",IF(J16="","",J16),IF(J16="",IF(VLOOKUP(B16,Meststoffenlijst!$E$3:$AF$184,24,FALSE)=0,"",VLOOKUP(B16,Meststoffenlijst!$E$3:$AF$184,24,FALSE)),IF(J17="",J16,J16*J17/100))) | K18: =IF(B16="",IF(K16="","",K16),IF(K16="",IF(VLOOKUP(B16,Meststoffenlijst!$E$3:$AF$184,27,FALSE)=0,"",VLOOKUP(B16,Meststoffenlijst!$E$3:$AF$184,27,FALSE)),IF(K17="",K16,K16*K17/100))) | L18: =IFERROR($E$18*L17/100,0) -> 0 | M18: =IFERROR($E$18*M17/100,0) -> 0 | N18: =IFERROR($E$18*N17/100,0) -> 0 | O18: =IFERROR($E$18*O17/100,0) -> 0
A19: =VLOOKUP(B16,Meststoffenlijst!E3:I184,5,FALSE) -> #N/A | B19: =IF(B17="",B16,B17) -> 0
A20: Meststof 4 | C20: Eenheid inhoud: | D20: =_xlfn.CONCAT("Inhoud (",C21,")") -> #N/A | E20: N | F20: P2O5 | G20: K2O | H20: MgO | I20: CaO | J20: Na2O | K20: SO3
A21: Type mest: | C21: =VLOOKUP(B22,Meststoffenlijst!E21:I202,4,FALSE) -> #N/A | D21: Forfaitair: | E21: =IF(B22="","",IF(VLOOKUP(B22,Meststoffenlijst!$E$3:$AF$184,6,FALSE)=0,"",VLOOKUP(B22,Meststoffenlijst!$E$3:$AF$184,6,FALSE))) | F21: =IF(B22="","",IF(VLOOKUP(B22,Meststoffenlijst!$E$3:$AF$184,10,FALSE)=0,"",VLOOKUP(B22,Meststoffenlijst!$E$3:$AF$184,10,FALSE))) | G21: =IF(B22="","",IF(VLOOKUP(B22,Meststoffenlijst!$E$3:$AF$184,13,FALSE)=0,"",VLOOKUP(B22,Meststoffenlijst!$E$3:$AF$184,13,FALSE))) | H21: =IF(B22="","",IF(VLOOKUP(B22,Meststoffenlijst!$E$3:$AF$184,16,FALSE)=0,"",VLOOKUP(B22,Meststoffenlijst!$E$3:$AF$184,16,FALSE))) | I21: =IF(B22="","",IF(VLOOKUP(B22,Meststoffenlijst!$E$3:$AF$184,19,FALSE)=0,"",VLOOKUP(B22,Meststoffenlijst!$E$3:$AF$184,19,FALSE))) | J21: =IF(B22="","",IF(VLOOKUP(B22,Meststoffenlijst!$E$3:$AF$184,22,FALSE)=0,"",VLOOKUP(B22,Meststoffenlijst!$E$3:$AF$184,22,FALSE))) | K21: =IF(B22="","",IF(VLOOKUP(B22,Meststoffenlijst!$E$3:$AF$184,25,FALSE)=0,"",VLOOKUP(B22,Meststoffenlijst!$E$3:$AF$184,25,FALSE)))
A22: Officiële naam mest: | D22: Eigen analyse/meststof:
A23: Eigen naam mest: | D23: Werkingscoëfficiënt (%): | E23: =IF(B22="","",IF(VLOOKUP(B22,Meststoffenlijst!$E$3:$AF$184,7,FALSE)=0,"",VLOOKUP(B22,Meststoffenlijst!$E$3:$AF$184,7,FALSE))) | F23: =IF(B22="","",IF(VLOOKUP(B22,Meststoffenlijst!$E$3:$AF$184,11,FALSE)=0,"",VLOOKUP(B22,Meststoffenlijst!$E$3:$AF$184,11,FALSE))) | G23: =IF(B22="","",IF(VLOOKUP(B22,Meststoffenlijst!$E$3:$AF$184,14,FALSE)=0,"",VLOOKUP(B22,Meststoffenlijst!$E$3:$AF$184,14,FALSE))) | H23: =IF(B22="","",IF(VLOOKUP(B22,Meststoffenlijst!$E$3:$AF$184,17,FALSE)=0,"",VLOOKUP(B22,Meststoffenlijst!$E$3:$AF$184,17,FALSE))) | I23: =IF(B22="","",IF(VLOOKUP(B22,Meststoffenlijst!$E$3:$AF$184,20,FALSE)=0,"",VLOOKUP(B22,Meststoffenlijst!$E$3:$AF$184,20,FALSE))) | J23: =IF(B22="","",IF(VLOOKUP(B22,Meststoffenlijst!$E$3:$AF$184,23,FALSE)=0,"",VLOOKUP(B22,Meststoffenlijst!$E$3:$AF$184,23,FALSE))) | K23: =IF(B22="","",IF(VLOOKUP(B22,Meststoffenlijst!$E$3:$AF$184,26,FALSE)=0,"",VLOOKUP(B22,Meststoffenlijst!$E$3:$AF$184,26,FALSE))) | L23: =IF(B22="","",IF(VLOOKUP(B22,Meststoffenlijst!$E$3:$AJ$184,29,FALSE)=0,"",VLOOKUP(B22,Meststoffenlijst!$E$3:$AJ$184,29,FALSE))) | M23: =IF(B22="","",IF(VLOOKUP(B22,Meststoffenlijst!$E$3:$AJ$184,30,FALSE)=0,"",VLOOKUP(B22,Meststoffenlijst!$E$3:$AJ$184,30,FALSE))) | N23: =IF(B22="","",IF(VLOOKUP(B22,Meststoffenlijst!$E$3:$AJ$184,31,FALSE)=0,"",VLOOKUP(B22,Meststoffenlijst!$E$3:$AJ$184,31,FALSE))) | O23: =IF(B22="","",IF(VLOOKUP(B22,Meststoffenlijst!$E$3:$AJ$184,32,FALSE)=0,"",VLOOKUP(B22,Meststoffenlijst!$E$3:$AJ$184,32,FALSE)))
A24: =IFERROR(_xlfn.CONCAT("Prijs (EUR/",A25,")"),"") | D24: Werkzaam: | E24: =IF(B22="",IF(E22="","",E22),IF(E22="",IF(VLOOKUP(B22,Meststoffenlijst!$E$3:$AF$184,8,FALSE)=0,"",VLOOKUP(B22,Meststoffenlijst!$E$3:$AF$184,8,FALSE)),IF(E23="",E22,E22*E23/100))) | F24: =IF(B22="",IF(F22="","",F22),IF(F22="",IF(VLOOKUP(B22,Meststoffenlijst!$E$3:$AF$184,12,FALSE)=0,"",VLOOKUP(B22,Meststoffenlijst!$E$3:$AF$184,12,FALSE)),IF(F23="",F22,F22*F23/100))) | G24: =IF(B22="",IF(G22="","",G22),IF(G22="",IF(VLOOKUP(B22,Meststoffenlijst!$E$3:$AF$184,15,FALSE)=0,"",VLOOKUP(B22,Meststoffenlijst!$E$3:$AF$184,15,FALSE)),IF(G23="",G22,G22*G23/100))) | H24: =IF(B22="",IF(H22="","",H22),IF(H22="",IF(VLOOKUP(B22,Meststoffenlijst!$E$3:$AF$184,18,FALSE)=0,"",VLOOKUP(B22,Meststoffenlijst!$E$3:$AF$184,18,FALSE)),IF(H23="",H22,H22*H23/100))) | I24: =IF(B22="",IF(I22="","",I22),IF(I22="",IF(VLOOKUP(B22,Meststoffenlijst!$E$3:$AF$184,21,FALSE)=0,"",VLOOKUP(B22,Meststoffenlijst!$E$3:$AF$184,21,FALSE)),IF(I23="",I22,I22*I23/100))) | J24: =IF(B22="",IF(J22="","",J22),IF(J22="",IF(VLOOKUP(B22,Meststoffenlijst!$E$3:$AF$184,24,FALSE)=0,"",VLOOKUP(B22,Meststoffenlijst!$E$3:$AF$184,24,FALSE)),IF(J23="",J22,J22*J23/100))) | K24: =IF(B22="",IF(K22="","",K22),IF(K22="",IF(VLOOKUP(B22,Meststoffenlijst!$E$3:$AF$184,27,FALSE)=0,"",VLOOKUP(B22,Meststoffenlijst!$E$3:$AF$184,27,FALSE)),IF(K23="",K22,K22*K23/100))) | L24: =IFERROR($E$24*L23/100,0) -> 0 | M24: =IFERROR($E$24*M23/100,0) -> 0 | N24: =IFERROR($E$24*N23/100,0) -> 0 | O24: =IFERROR($E$24*O23/100,0) -> 0
A25: =VLOOKUP(B22,Meststoffenlijst!E3:I184,5,FALSE) -> #N/A | B25: =IF(B23="",B22,B23) -> 0
A26: Meststof 5 | C26: Eenheid inhoud: | D26: =_xlfn.CONCAT("Inhoud (",C27,")") -> #N/A | E26: N | F26: P2O5 | G26: K2O | H26: MgO | I26: CaO | J26: Na2O | K26: SO3
A27: Type mest: | C27: =VLOOKUP(B28,Meststoffenlijst!E27:I208,4,FALSE) -> #N/A | D27: Forfaitair: | E27: =IF(B28="","",IF(VLOOKUP(B28,Meststoffenlijst!$E$3:$AF$184,6,FALSE)=0,"",VLOOKUP(B28,Meststoffenlijst!$E$3:$AF$184,6,FALSE))) | F27: =IF(B28="","",IF(VLOOKUP(B28,Meststoffenlijst!$E$3:$AF$184,10,FALSE)=0,"",VLOOKUP(B28,Meststoffenlijst!$E$3:$AF$184,10,FALSE))) | G27: =IF(B28="","",IF(VLOOKUP(B28,Meststoffenlijst!$E$3:$AF$184,13,FALSE)=0,"",VLOOKUP(B28,Meststoffenlijst!$E$3:$AF$184,13,FALSE))) | H27: =IF(B28="","",IF(VLOOKUP(B28,Meststoffenlijst!$E$3:$AF$184,16,FALSE)=0,"",VLOOKUP(B28,Meststoffenlijst!$E$3:$AF$184,16,FALSE))) | I27: =IF(B28="","",IF(VLOOKUP(B28,Meststoffenlijst!$E$3:$AF$184,19,FALSE)=0,"",VLOOKUP(B28,Meststoffenlijst!$E$3:$AF$184,19,FALSE))) | J27: =IF(B28="","",IF(VLOOKUP(B28,Meststoffenlijst!$E$3:$AF$184,22,FALSE)=0,"",VLOOKUP(B28,Meststoffenlijst!$E$3:$AF$184,22,FALSE))) | K27: =IF(B28="","",IF(VLOOKUP(B28,Meststoffenlijst!$E$3:$AF$184,25,FALSE)=0,"",VLOOKUP(B28,Meststoffenlijst!$E$3:$AF$184,25,FALSE)))
A28: Officiële naam mest: | D28: Eigen analyse/meststof:
A29: Eigen naam mest: | D29: Werkingscoëfficiënt (%): | E29: =IF(B28="","",IF(VLOOKUP(B28,Meststoffenlijst!$E$3:$AF$184,7,FALSE)=0,"",VLOOKUP(B28,Meststoffenlijst!$E$3:$AF$184,7,FALSE))) | F29: =IF(B28="","",IF(VLOOKUP(B28,Meststoffenlijst!$E$3:$AF$184,11,FALSE)=0,"",VLOOKUP(B28,Meststoffenlijst!$E$3:$AF$184,11,FALSE))) | G29: =IF(B28="","",IF(VLOOKUP(B28,Meststoffenlijst!$E$3:$AF$184,14,FALSE)=0,"",VLOOKUP(B28,Meststoffenlijst!$E$3:$AF$184,14,FALSE))) | H29: =IF(B28="","",IF(VLOOKUP(B28,Meststoffenlijst!$E$3:$AF$184,17,FALSE)=0,"",VLOOKUP(B28,Meststoffenlijst!$E$3:$AF$184,17,FALSE))) | I29: =IF(B28="","",IF(VLOOKUP(B28,Meststoffenlijst!$E$3:$AF$184,20,FALSE)=0,"",VLOOKUP(B28,Meststoffenlijst!$E$3:$AF$184,20,FALSE))) | J29: =IF(B28="","",IF(VLOOKUP(B28,Meststoffenlijst!$E$3:$AF$184,23,FALSE)=0,"",VLOOKUP(B28,Meststoffenlijst!$E$3:$AF$184,23,FALSE))) | K29: =IF(B28="","",IF(VLOOKUP(B28,Meststoffenlijst!$E$3:$AF$184,26,FALSE)=0,"",VLOOKUP(B28,Meststoffenlijst!$E$3:$AF$184,26,FALSE))) | L29: =IF(B28="","",IF(VLOOKUP(B28,Meststoffenlijst!$E$3:$AJ$184,29,FALSE)=0,"",VLOOKUP(B28,Meststoffenlijst!$E$3:$AJ$184,29,FALSE))) | M29: =IF(B28="","",IF(VLOOKUP(B28,Meststoffenlijst!$E$3:$AJ$184,30,FALSE)=0,"",VLOOKUP(B28,Meststoffenlijst!$E$3:$AJ$184,30,FALSE))) | N29: =IF(B28="","",IF(VLOOKUP(B28,Meststoffenlijst!$E$3:$AJ$184,31,FALSE)=0,"",VLOOKUP(B28,Meststoffenlijst!$E$3:$AJ$184,31,FALSE))) | O29: =IF(B28="","",IF(VLOOKUP(B28,Meststoffenlijst!$E$3:$AJ$184,32,FALSE)=0,"",VLOOKUP(B28,Meststoffenlijst!$E$3:$AJ$184,32,FALSE)))
A30: =IFERROR(_xlfn.CONCAT("Prijs (EUR/",A31,")"),"") | D30: Werkzaam: | E30: =IF(B28="",IF(E28="","",E28),IF(E28="",IF(VLOOKUP(B28,Meststoffenlijst!$E$3:$AF$184,8,FALSE)=0,"",VLOOKUP(B28,Meststoffenlijst!$E$3:$AF$184,8,FALSE)),IF(E29="",E28,E28*E29/100))) | F30: =IF(B28="",IF(F28="","",F28),IF(F28="",IF(VLOOKUP(B28,Meststoffenlijst!$E$3:$AF$184,12,FALSE)=0,"",VLOOKUP(B28,Meststoffenlijst!$E$3:$AF$184,12,FALSE)),IF(F29="",F28,F28*F29/100))) | G30: =IF(B28="",IF(G28="","",G28),IF(G28="",IF(VLOOKUP(B28,Meststoffenlijst!$E$3:$AF$184,15,FALSE)=0,"",VLOOKUP(B28,Meststoffenlijst!$E$3:$AF$184,15,FALSE)),IF(G29="",G28,G28*G29/100))) | H30: =IF(B28="",IF(H28="","",H28),IF(H28="",IF(VLOOKUP(B28,Meststoffenlijst!$E$3:$AF$184,18,FALSE)=0,"",VLOOKUP(B28,Meststoffenlijst!$E$3:$AF$184,18,FALSE)),IF(H29="",H28,H28*H29/100))) | I30: =IF(B28="",IF(I28="","",I28),IF(I28="",IF(VLOOKUP(B28,Meststoffenlijst!$E$3:$AF$184,21,FALSE)=0,"",VLOOKUP(B28,Meststoffenlijst!$E$3:$AF$184,21,FALSE)),IF(I29="",I28,I28*I29/100))) | J30: =IF(B28="",IF(J28="","",J28),IF(J28="",IF(VLOOKUP(B28,Meststoffenlijst!$E$3:$AF$184,24,FALSE)=0,"",VLOOKUP(B28,Meststoffenlijst!$E$3:$AF$184,24,FALSE)),IF(J29="",J28,J28*J29/100))) | K30: =IF(B28="",IF(K28="","",K28),IF(K28="",IF(VLOOKUP(B28,Meststoffenlijst!$E$3:$AF$184,27,FALSE)=0,"",VLOOKUP(B28,Meststoffenlijst!$E$3:$AF$184,27,FALSE)),IF(K29="",K28,K28*K29/100))) | L30: =IFERROR($E$30*L29/100,0) -> 0 | M30: =IFERROR($E$30*M29/100,0) -> 0 | N30: =IFERROR($E$30*N29/100,0) -> 0 | O30: =IFERROR($E$30*O29/100,0) -> 0
A31: =VLOOKUP(B28,Meststoffenlijst!E3:I184,5,FALSE) -> #N/A | B31: =IF(B29="",B28,B29) -> 0
A32: Meststof 6 | C32: Eenheid inhoud: | D32: =_xlfn.CONCAT("Inhoud (",C33,")") -> #N/A | E32: N | F32: P2O5 | G32: K2O | H32: MgO | I32: CaO | J32: Na2O | K32: SO3
A33: Type mest: | C33: =VLOOKUP(B34,Meststoffenlijst!E33:I214,4,FALSE) -> #N/A | D33: Forfaitair: | E33: =IF(B34="","",IF(VLOOKUP(B34,Meststoffenlijst!$E$3:$AF$184,6,FALSE)=0,"",VLOOKUP(B34,Meststoffenlijst!$E$3:$AF$184,6,FALSE))) | F33: =IF(B34="","",IF(VLOOKUP(B34,Meststoffenlijst!$E$3:$AF$184,10,FALSE)=0,"",VLOOKUP(B34,Meststoffenlijst!$E$3:$AF$184,10,FALSE))) | G33: =IF(B34="","",IF(VLOOKUP(B34,Meststoffenlijst!$E$3:$AF$184,13,FALSE)=0,"",VLOOKUP(B34,Meststoffenlijst!$E$3:$AF$184,13,FALSE))) | H33: =IF(B34="","",IF(VLOOKUP(B34,Meststoffenlijst!$E$3:$AF$184,16,FALSE)=0,"",VLOOKUP(B34,Meststoffenlijst!$E$3:$AF$184,16,FALSE))) | I33: =IF(B34="","",IF(VLOOKUP(B34,Meststoffenlijst!$E$3:$AF$184,19,FALSE)=0,"",VLOOKUP(B34,Meststoffenlijst!$E$3:$AF$184,19,FALSE))) | J33: =IF(B34="","",IF(VLOOKUP(B34,Meststoffenlijst!$E$3:$AF$184,22,FALSE)=0,"",VLOOKUP(B34,Meststoffenlijst!$E$3:$AF$184,22,FALSE))) | K33: =IF(B34="","",IF(VLOOKUP(B34,Meststoffenlijst!$E$3:$AF$184,25,FALSE)=0,"",VLOOKUP(B34,Meststoffenlijst!$E$3:$AF$184,25,FALSE)))
A34: Officiële naam mest: | D34: Eigen analyse/meststof:
A35: Eigen naam mest: | D35: Werkingscoëfficiënt (%): | E35: =IF(B34="","",IF(VLOOKUP(B34,Meststoffenlijst!$E$3:$AF$184,7,FALSE)=0,"",VLOOKUP(B34,Meststoffenlijst!$E$3:$AF$184,7,FALSE))) | F35: =IF(B34="","",IF(VLOOKUP(B34,Meststoffenlijst!$E$3:$AF$184,11,FALSE)=0,"",VLOOKUP(B34,Meststoffenlijst!$E$3:$AF$184,11,FALSE))) | G35: =IF(B34="","",IF(VLOOKUP(B34,Meststoffenlijst!$E$3:$AF$184,14,FALSE)=0,"",VLOOKUP(B34,Meststoffenlijst!$E$3:$AF$184,14,FALSE))) | H35: =IF(B34="","",IF(VLOOKUP(B34,Meststoffenlijst!$E$3:$AF$184,17,FALSE)=0,"",VLOOKUP(B34,Meststoffenlijst!$E$3:$AF$184,17,FALSE))) | I35: =IF(B34="","",IF(VLOOKUP(B34,Meststoffenlijst!$E$3:$AF$184,20,FALSE)=0,"",VLOOKUP(B34,Meststoffenlijst!$E$3:$AF$184,20,FALSE))) | J35: =IF(B34="","",IF(VLOOKUP(B34,Meststoffenlijst!$E$3:$AF$184,23,FALSE)=0,"",VLOOKUP(B34,Meststoffenlijst!$E$3:$AF$184,23,FALSE))) | K35: =IF(B34="","",IF(VLOOKUP(B34,Meststoffenlijst!$E$3:$AF$184,26,FALSE)=0,"",VLOOKUP(B34,Meststoffenlijst!$E$3:$AF$184,26,FALSE))) | L35: =IF(B34="","",IF(VLOOKUP(B34,Meststoffenlijst!$E$3:$AJ$184,29,FALSE)=0,"",VLOOKUP(B34,Meststoffenlijst!$E$3:$AJ$184,29,FALSE))) | M35: =IF(B34="","",IF(VLOOKUP(B34,Meststoffenlijst!$E$3:$AJ$184,30,FALSE)=0,"",VLOOKUP(B34,Meststoffenlijst!$E$3:$AJ$184,30,FALSE))) | N35: =IF(B34="","",IF(VLOOKUP(B34,Meststoffenlijst!$E$3:$AJ$184,31,FALSE)=0,"",VLOOKUP(B34,Meststoffenlijst!$E$3:$AJ$184,31,FALSE))) | O35: =IF(B34="","",IF(VLOOKUP(B34,Meststoffenlijst!$E$3:$AJ$184,32,FALSE)=0,"",VLOOKUP(B34,Meststoffenlijst!$E$3:$AJ$184,32,FALSE)))
A36: =IFERROR(_xlfn.CONCAT("Prijs (EUR/",A37,")"),"") | D36: Werkzaam: | E36: =IF(B34="",IF(E34="","",E34),IF(E34="",IF(VLOOKUP(B34,Meststoffenlijst!$E$3:$AF$184,8,FALSE)=0,"",VLOOKUP(B34,Meststoffenlijst!$E$3:$AF$184,8,FALSE)),IF(E35="",E34,E34*E35/100))) | F36: =IF(B34="",IF(F34="","",F34),IF(F34="",IF(VLOOKUP(B34,Meststoffenlijst!$E$3:$AF$184,12,FALSE)=0,"",VLOOKUP(B34,Meststoffenlijst!$E$3:$AF$184,12,FALSE)),IF(F35="",F34,F34*F35/100))) | G36: =IF(B34="",IF(G34="","",G34),IF(G34="",IF(VLOOKUP(B34,Meststoffenlijst!$E$3:$AF$184,15,FALSE)=0,"",VLOOKUP(B34,Meststoffenlijst!$E$3:$AF$184,15,FALSE)),IF(G35="",G34,G34*G35/100))) | H36: =IF(B34="",IF(H34="","",H34),IF(H34="",IF(VLOOKUP(B34,Meststoffenlijst!$E$3:$AF$184,18,FALSE)=0,"",VLOOKUP(B34,Meststoffenlijst!$E$3:$AF$184,18,FALSE)),IF(H35="",H34,H34*H35/100))) | I36: =IF(B34="",IF(I34="","",I34),IF(I34="",IF(VLOOKUP(B34,Meststoffenlijst!$E$3:$AF$184,21,FALSE)=0,"",VLOOKUP(B34,Meststoffenlijst!$E$3:$AF$184,21,FALSE)),IF(I35="",I34,I34*I35/100))) | J36: =IF(B34="",IF(J34="","",J34),IF(J34="",IF(VLOOKUP(B34,Meststoffenlijst!$E$3:$AF$184,24,FALSE)=0,"",VLOOKUP(B34,Meststoffenlijst!$E$3:$AF$184,24,FALSE)),IF(J35="",J34,J34*J35/100))) | K36: =IF(B34="",IF(K34="","",K34),IF(K34="",IF(VLOOKUP(B34,Meststoffenlijst!$E$3:$AF$184,27,FALSE)=0,"",VLOOKUP(B34,Meststoffenlijst!$E$3:$AF$184,27,FALSE)),IF(K35="",K34,K34*K35/100))) | L36: =IFERROR($E$36*L35/100,0) -> 0 | M36: =IFERROR($E$36*M35/100,0) -> 0 | N36: =IFERROR($E$36*N35/100,0) -> 0 | O36: =IFERROR($E$36*O35/100,0) -> 0
A37: =VLOOKUP(B34,Meststoffenlijst!E3:I184,5,FALSE) -> #N/A | B37: =IF(B35="",B34,B35) -> 0
A38: Meststof 7 | C38: Eenheid inhoud: | D38: =_xlfn.CONCAT("Inhoud (",C39,")") -> #N/A | E38: N | F38: P2O5 | G38: K2O | H38: MgO | I38: CaO | J38: Na2O | K38: SO3
A39: Type mest: | C39: =VLOOKUP(B40,Meststoffenlijst!E39:I220,4,FALSE) -> #N/A | D39: Forfaitair: | E39: =IF(B40="","",IF(VLOOKUP(B40,Meststoffenlijst!$E$3:$AF$184,6,FALSE)=0,"",VLOOKUP(B40,Meststoffenlijst!$E$3:$AF$184,6,FALSE))) | F39: =IF(B40="","",IF(VLOOKUP(B40,Meststoffenlijst!$E$3:$AF$184,10,FALSE)=0,"",VLOOKUP(B40,Meststoffenlijst!$E$3:$AF$184,10,FALSE))) | G39: =IF(B40="","",IF(VLOOKUP(B40,Meststoffenlijst!$E$3:$AF$184,13,FALSE)=0,"",VLOOKUP(B40,Meststoffenlijst!$E$3:$AF$184,13,FALSE))) | H39: =IF(B40="","",IF(VLOOKUP(B40,Meststoffenlijst!$E$3:$AF$184,16,FALSE)=0,"",VLOOKUP(B40,Meststoffenlijst!$E$3:$AF$184,16,FALSE))) | I39: =IF(B40="","",IF(VLOOKUP(B40,Meststoffenlijst!$E$3:$AF$184,19,FALSE)=0,"",VLOOKUP(B40,Meststoffenlijst!$E$3:$AF$184,19,FALSE))) | J39: =IF(B40="","",IF(VLOOKUP(B40,Meststoffenlijst!$E$3:$AF$184,22,FALSE)=0,"",VLOOKUP(B40,Meststoffenlijst!$E$3:$AF$184,22,FALSE))) | K39: =IF(B40="","",IF(VLOOKUP(B40,Meststoffenlijst!$E$3:$AF$184,25,FALSE)=0,"",VLOOKUP(B40,Meststoffenlijst!$E$3:$AF$184,25,FALSE)))
A40: Officiële naam mest: | D40: Eigen analyse/meststof:
...

Sheet Perceel_1
C1: Algemene gegevens
C2: Naam perceel | G2: Gegevens begrazing | N2: Uitscheiding kg/dier/jaar | P2: Bemesting via begrazing tijdens begrazingsbeurt
C3: Bodemtype | G3: Begrazingsnede | H3: Diercategorie | I3: Melkproductie (kg melk/jaar) | J3: Aantal grazende dieren | K3: Datum start begrazing | L3: Datum einde begrazing | M3: Uren begrazing per dag | N3: Ndier | O3: P2O5 | P3: Ndier | Q3: Nwz | R3: P2O5
B4: =IF(D4="Graskruiden mengsel","Ja","Nee") -> Nee | C4: Teeltomschrijving | E4: =VLOOKUP(D4,'Lijsten en tabellen'!X2:Z23,3,FALSE) -> #N/A | G4: =IFERROR(IF($D$11>0,1,""),"") | N4: =IFERROR(IF( H4="Melkkoeien", VLOOKUP(_xlfn.CONCAT(H4,I4),'Lijsten en tabellen'!$AK$3:$AM$35,3,FALSE),VLOOKUP(H4,'Lijsten en tabellen'!$AK$2:$AM$35,3,FALSE)),"") | O4: =IFERROR(IF( H4="Melkkoeien", VLOOKUP(_xlfn.CONCAT(H4,I4),'Lijsten en tabellen'!$AK$3:$AM$35,2,FALSE),VLOOKUP(H4,'Lijsten en tabellen'!$AK$2:$AM$35,2,FALSE)),"") | P4: =IFERROR(J4*(L4-K4)*(M4/24)*(N4/365),"") | Q4: =IFERROR(P4*0.2,"") | R4: =IFERROR(J4*(L4-K4)*(M4/24)*(O4/365),"")
C5: Beheer | E5: =VLOOKUP(D4,'Lijsten en tabellen'!X2:AA23,4,FALSE) -> #N/A | G5: =IFERROR(IF($D$11>1,2,""),"") | N5: =IFERROR(IF( H5="Melkkoeien", VLOOKUP(_xlfn.CONCAT(H5,I5),'Lijsten en tabellen'!$AK$3:$AM$35,3,FALSE),VLOOKUP(H5,'Lijsten en tabellen'!$AK$2:$AM$35,3,FALSE)),"") | O5: =IFERROR(IF( H5="Melkkoeien", VLOOKUP(_xlfn.CONCAT(H5,I5),'Lijsten en tabellen'!$AK$3:$AM$35,2,FALSE),VLOOKUP(H5,'Lijsten en tabellen'!$AK$2:$AM$35,2,FALSE)),"") | P5: =IFERROR(J5*(L5-K5)*(M5/24)*(N5/365),"") | Q5: =IFERROR(P5*0.2,"") | R5: =IFERROR(J5*(L5-K5)*(M5/24)*(O5/365),"")
C6: Gebiedstype | E6: =_xlfn.CONCAT(D6,D3,D5,E4) -> #N/A | G6: =IFERROR(IF($D$11>2,3,""),"") | N6: =IFERROR(IF( H6="Melkkoeien", VLOOKUP(_xlfn.CONCAT(H6,I6),'Lijsten en tabellen'!$AK$3:$AM$35,3,FALSE),VLOOKUP(H6,'Lijsten en tabellen'!$AK$2:$AM$35,3,FALSE)),"") | O6: =IFERROR(IF( H6="Melkkoeien", VLOOKUP(_xlfn.CONCAT(H6,I6),'Lijsten en tabellen'!$AK$3:$AM$35,2,FALSE),VLOOKUP(H6,'Lijsten en tabellen'!$AK$2:$AM$35,2,FALSE)),"") | P6: =IFERROR(J6*(L6-K6)*(M6/24)*(N6/365),"") | Q6: =IFERROR(P6*0.2,"") | R6: =IFERROR(J6*(L6-K6)*(M6/24)*(O6/365),"")
C7: Vrijstelling gebiedsgerichte maatregelen | G7: =IFERROR(IF($D$11>3,4,""),"") | N7: =IFERROR(IF( H7="Melkkoeien", VLOOKUP(_xlfn.CONCAT(H7,I7),'Lijsten en tabellen'!$AK$3:$AM$35,3,FALSE),VLOOKUP(H7,'Lijsten en tabellen'!$AK$2:$AM$35,3,FALSE)),"") | O7: =IFERROR(IF( H7="Melkkoeien", VLOOKUP(_xlfn.CONCAT(H7,I7),'Lijsten en tabellen'!$AK$3:$AM$35,2,FALSE),VLOOKUP(H7,'Lijsten en tabellen'!$AK$2:$AM$35,2,FALSE)),"") | P7: =IFERROR(J7*(L7-K7)*(M7/24)*(N7/365),"") | Q7: =IFERROR(P7*0.2,"") | R7: =IFERROR(J7*(L7-K7)*(M7/24)*(O7/365),"")
C8: Fosfaatklasse | G8: =IFERROR(IF($D$11>4,5,""),"") | N8: =IFERROR(IF( H8="Melkkoeien", VLOOKUP(_xlfn.CONCAT(H8,I8),'Lijsten en tabellen'!$AK$3:$AM$35,3,FALSE),VLOOKUP(H8,'Lijsten en tabellen'!$AK$2:$AM$35,3,FALSE)),"") | O8: =IFERROR(IF( H8="Melkkoeien", VLOOKUP(_xlfn.CONCAT(H8,I8),'Lijsten en tabellen'!$AK$3:$AM$35,2,FALSE),VLOOKUP(H8,'Lijsten en tabellen'!$AK$2:$AM$35,2,FALSE)),"") | P8: =IFERROR(J8*(L8-K8)*(M8/24)*(N8/365),"") | Q8: =IFERROR(P8*0.2,"") | R8: =IFERROR(J8*(L8-K8)*(M8/24)*(O8/365),"")
C9: Oppervlakte (ha) | G9: =IFERROR(IF($D$11>5,6,""),"") | N9: =IFERROR(IF( H9="Melkkoeien", VLOOKUP(_xlfn.CONCAT(H9,I9),'Lijsten en tabellen'!$AK$3:$AM$35,3,FALSE),VLOOKUP(H9,'Lijsten en tabellen'!$AK$2:$AM$35,3,FALSE)),"") | O9: =IFERROR(IF( H9="Melkkoeien", VLOOKUP(_xlfn.CONCAT(H9,I9),'Lijsten en tabellen'!$AK$3:$AM$35,2,FALSE),VLOOKUP(H9,'Lijsten en tabellen'!$AK$2:$AM$35,2,FALSE)),"") | P9: =IFERROR(J9*(L9-K9)*(M9/24)*(N9/365),"") | Q9: =IFERROR(P9*0.2,"") | R9: =IFERROR(J9*(L9-K9)*(M9/24)*(O9/365),"")
C10: Verwacht aantal snedes
C11: Waarvan begrazingssnedes
C12: =_xlfn.CONCAT(D6,D3,D5,E4) -> #N/A | D12: =_xlfn.CONCAT(D7,D3,D5)
C14: Bemestingsnormen (kg/ha)
C15: Ndierlijk | D15: Nwz | E15: P2O5
C16: 170 | D16: =IFERROR(IF(D7="Ja",VLOOKUP(D12,'Lijsten en tabellen'!E11:F14,2,FALSE),VLOOKUP(C12,'Lijsten en tabellen'!B10:C42,2,FALSE)),"") | E16: =IF(D8="I",'Lijsten en tabellen'!S4,IF(D8="II",'Lijsten en tabellen'!T4,IF(D8="III",'Lijsten en tabellen'!U4,IF(D8="IV",'Lijsten en tabellen'!V4,""))))
C17: Let op er werd geen rekening gehouden met eventuele verscherpingen wegens ligging binnen natuur.
C18: =_xlfn.CONCAT(D3,D5,E5,B4) -> #N/A
C19: Wat is het bemestingsadvies (kg/ha) voor dit perceel?
C20: Per jaar
D21: Nwz | E21: P2O5 | F21: K2O | G21: MgO | H21: CaO | I21: Na2O | J21: SO3
B22: Per jaar | C22: Algemeen advies | D22: =VLOOKUP(C18,'Algemene adviezen'!G3:N14,2,FALSE) -> #N/A | E22: =VLOOKUP(C18,'Algemene adviezen'!G3:N14,3,FALSE) -> #N/A | F22: =VLOOKUP(C18,'Algemene adviezen'!G3:N14,4,FALSE) -> #N/A | G22: =VLOOKUP(C18,'Algemene adviezen'!G3:N14,5,FALSE) -> #N/A | H22: =VLOOKUP(C18,'Algemene adviezen'!G3:N14,6,FALSE) -> #N/A | I22: =VLOOKUP(C18,'Algemene adviezen'!G3:N14,7,FALSE) -> #N/A | J22: =VLOOKUP(C18,'Algemene adviezen'!G3:N14,8,FALSE) -> #N/A
B23: Per snede | C23: Algemeen advies per jaar | D23: =D22 -> #N/A | E23: =E22 -> #N/A | F23: =F22 -> #N/A | G23: =G22 -> #N/A | H23: =H22 -> #N/A | I23: =I22 -> #N/A | J23: =J22 -> #N/A
B24: Per jaar | C24: Advies eigen analyse
B25: =IFERROR(IF($D$10>0,"Per snede",""),"Per snede") | C25: Voor 1ste snede | D25: =IF($B$35="Per snede",D35,"") | E25: =IF($B$35="Per snede",E35,"") | F25: =IF($B$35="Per snede",F35,"") | G25: =IF($B$35="Per snede",G35,"") | H25: =IF($B$35="Per snede",H35,"") | I25: =IF($B$35="Per snede",I35,"") | J25: =IF($B$35="Per snede",J35,"")
B26: =IFERROR(IF($D$10>1,"Per snede",""),"Per snede") | C26: Voor 2de snede | D26: =IF($B$36="Per snede",D36,"") | E26: =IF($B$36="Per snede",E36,"") | F26: =IF($B$36="Per snede",F36,"") | G26: =IF($B$36="Per snede",G36,"") | H26: =IF($B$36="Per snede",H36,"") | I26: =IF($B$36="Per snede",I36,"") | J26: =IF($B$36="Per snede",J36,"")
B27: =IFERROR(IF($D$10>2,"Per snede",""),"Per snede") | C27: Voor 3de snede | D27: =IF($B$37="Per snede",D37,"") | E27: =IF($B$37="Per snede",E37,"") | F27: =IF($B$37="Per snede",F37,"") | G27: =IF($B$37="Per snede",G37,"") | H27: =IF($B$37="Per snede",H37,"") | I27: =IF($B$37="Per snede",I37,"") | J27: =IF($B$37="Per snede",J37,"")
B28: =IFERROR(IF($D$10>3,"Per snede",""),"Per snede") | C28: Voor 4de snede | D28: =IF($B$38="Per snede",D38,"") | E28: =IF($B$38="Per snede",E38,"") | F28: =IF($B$38="Per snede",F38,"") | G28: =IF($B$38="Per snede",G38,"") | H28: =IF($B$38="Per snede",H38,"") | I28: =IF($B$38="Per snede",I38,"") | J28: =IF($B$38="Per snede",J38,"")
B29: =IFERROR(IF($D$10>4,"Per snede",""),"Per snede") | C29: Voor 5de snede | D29: =IF($B$39="Per snede",D39,"") | E29: =IF($B$39="Per snede",E39,"") | F29: =IF($B$39="Per snede",F39,"") | G29: =IF($B$39="Per snede",G39,"") | H29: =IF($B$39="Per snede",H39,"") | I29: =IF($B$39="Per snede",I39,"") | J29: =IF($B$39="Per snede",J39,"")
B30: =IFERROR(IF($D$10>5,"Per snede",""),"Per snede") | C30: Voor 6de snede | D30: =IF($B$40="Per snede",D40,"") | E30: =IF($B$40="Per snede",E40,"") | F30: =IF($B$40="Per snede",F40,"") | G30: =IF($B$40="Per snede",G40,"") | H30: =IF($B$40="Per snede",H40,"") | I30: =IF($B$40="Per snede",I40,"") | J30: =IF($B$40="Per snede",J40,"")
B31: Per snede | C31: Totaal advies eigen analyse | D31: =SUM(D25:D30) -> 0 | E31: =SUM(E25:E30) -> 0 | F31: =SUM(F25:F30) -> 0 | G31: =SUM(G25:G30) -> 0 | H31: =SUM(H25:H30) -> 0 | I31: =SUM(I25:I30) -> 0 | J31: =SUM(J25:J30) -> 0
D33: Nwz | E33: P2O5 | F33: K2O | G33: MgO | H33: CaO | I33: Na2O | J33: SO3 | U33: Schatting benodigde N-bemesting
B34: {=_xlfn._xlws.FILTER(B22:C30,B22:B30=C20)} -> Per jaar | C34: Algemeen advies | D34: =IFERROR(D22,"") | E34: =IFERROR(E22,"") | F34: =IFERROR(F22,"") | G34: =IFERROR(G22,"") | H34: =IFERROR(H22,"") | I34: =IFERROR(I22,"") | J34: =IFERROR(J22,"")
B35: Per jaar | C35: Advies eigen analyse
C42: In te zetten messtoffen:
N43: N-vrijgave voor snede
C44: Naam meststof | D44: Eenheid inhoud | E44: Ndier | F44: Nwz | G44: P2O5 | H44: K2O | I44: MgO | J44: CaO | K44: Na2O | L44: SO3 | M44: Kostprijs | N44: 1st volgende snede | O44: 2de snede | P44: 3de snede | Q44: 4de snede
C45: =IF(NOT('Te gebruiken meststoffen'!R3=0), 'Te gebruiken meststoffen'!R3,"") | D45: =IFERROR(VLOOKUP(C45,'Te gebruiken meststoffen'!$R$3:$AA$10,2,FALSE),"") | E45: =IFERROR(VLOOKUP(C45,'Te gebruiken meststoffen'!$R$3:$AA$10,3,FALSE),0) -> 0 | F45: =IFERROR(VLOOKUP(C45,'Te gebruiken meststoffen'!$R$3:$AA$10,4,FALSE),0) -> 0 | G45: =IFERROR(VLOOKUP(C45,'Te gebruiken meststoffen'!$R$3:$AA$10,5,FALSE),0) -> 0 | H45: =IFERROR(VLOOKUP(C45,'Te gebruiken meststoffen'!$R$3:$AA$10,6,FALSE),0) -> 0 | I45: =IFERROR(VLOOKUP(C45,'Te gebruiken meststoffen'!$R$3:$AA$10,7,FALSE),0) -> 0 | J45: =IFERROR(VLOOKUP(C45,'Te gebruiken meststoffen'!$R$3:$AA$10,8,FALSE),0) -> 0 | K45: =IFERROR(VLOOKUP(C45,'Te gebruiken meststoffen'!$R$3:$AA$10,9,FALSE),0) -> 0 | L45: =IFERROR(VLOOKUP(C45,'Te gebruiken meststoffen'!$R$3:$AB$10,10,FALSE),0) -> 0 | M45: =IFERROR(VLOOKUP(C45,'Te gebruiken meststoffen'!$R$3:$AH$10,17,FALSE),0) -> 0 | N45: =IFERROR(VLOOKUP(C45,'Te gebruiken meststoffen'!$R$3:$AG$10,13,FALSE),0) -> 0 | O45: =IFERROR(VLOOKUP(C45,'Te gebruiken meststoffen'!$R$3:$AG$10,14,FALSE),0) -> 0 | P45: =IFERROR(VLOOKUP(C45,'Te gebruiken meststoffen'!$R$3:$AG$10,15,FALSE),0) -> 0 | Q45: =IFERROR(VLOOKUP(C45,'Te gebruiken meststoffen'!$R$3:$AG$10,16,FALSE),0) -> 0 | T45: =VLOOKUP(C45,'Te gebruiken meststoffen'!$R$3:$AB$10,11,FALSE) -> #N/A
C46: =IF(NOT('Te gebruiken meststoffen'!R4=0), 'Te gebruiken meststoffen'!R4,"") | D46: =IFERROR(VLOOKUP(C46,'Te gebruiken meststoffen'!$R$3:$AA$10,2,FALSE),"") | E46: =IFERROR(VLOOKUP(C46,'Te gebruiken meststoffen'!$R$3:$AA$10,3,FALSE),0) -> 0 | F46: =IFERROR(VLOOKUP(C46,'Te gebruiken meststoffen'!$R$3:$AA$10,4,FALSE),0) -> 0 | G46: =IFERROR(VLOOKUP(C46,'Te gebruiken meststoffen'!$R$3:$AA$10,5,FALSE),0) -> 0 | H46: =IFERROR(VLOOKUP(C46,'Te gebruiken meststoffen'!$R$3:$AA$10,6,FALSE),0) -> 0 | I46: =IFERROR(VLOOKUP(C46,'Te gebruiken meststoffen'!$R$3:$AA$10,7,FALSE),0) -> 0 | J46: =IFERROR(VLOOKUP(C46,'Te gebruiken meststoffen'!$R$3:$AA$10,8,FALSE),0) -> 0 | K46: =IFERROR(VLOOKUP(C46,'Te gebruiken meststoffen'!$R$3:$AA$10,9,FALSE),0) -> 0 | L46: =IFERROR(VLOOKUP(C46,'Te gebruiken meststoffen'!$R$3:$AB$10,10,FALSE),0) -> 0 | M46: =IFERROR(VLOOKUP(C46,'Te gebruiken meststoffen'!$R$3:$AH$10,17,FALSE),0) -> 0 | N46: =IFERROR(VLOOKUP(C46,'Te gebruiken meststoffen'!$R$3:$AG$10,13,FALSE),0) -> 0 | O46: =IFERROR(VLOOKUP(C46,'Te gebruiken meststoffen'!$R$3:$AG$10,14,FALSE),0) -> 0 | P46: =IFERROR(VLOOKUP(C46,'Te gebruiken meststoffen'!$R$3:$AG$10,15,FALSE),0) -> 0 | Q46: =IFERROR(VLOOKUP(C46,'Te gebruiken meststoffen'!$R$3:$AG$10,16,FALSE),0) -> 0 | T46: =VLOOKUP(C46,'Te gebruiken meststoffen'!$R$3:$AB$10,11,FALSE) -> #N/A
C47: =IF(NOT('Te gebruiken meststoffen'!R5=0), 'Te gebruiken meststoffen'!R5,"") | D47: =IFERROR(VLOOKUP(C47,'Te gebruiken meststoffen'!$R$3:$AA$10,2,FALSE),"") | E47: =IFERROR(VLOOKUP(C47,'Te gebruiken meststoffen'!$R$3:$AA$10,3,FALSE),0) -> 0 | F47: =IFERROR(VLOOKUP(C47,'Te gebruiken meststoffen'!$R$3:$AA$10,4,FALSE),0) -> 0 | G47: =IFERROR(VLOOKUP(C47,'Te gebruiken meststoffen'!$R$3:$AA$10,5,FALSE),0) -> 0 | H47: =IFERROR(VLOOKUP(C47,'Te gebruiken meststoffen'!$R$3:$AA$10,6,FALSE),0) -> 0 | I47: =IFERROR(VLOOKUP(C47,'Te gebruiken meststoffen'!$R$3:$AA$10,7,FALSE),0) -> 0 | J47: =IFERROR(VLOOKUP(C47,'Te gebruiken meststoffen'!$R$3:$AA$10,8,FALSE),0) -> 0 | K47: =IFERROR(VLOOKUP(C47,'Te gebruiken meststoffen'!$R$3:$AA$10,9,FALSE),0) -> 0 | L47: =IFERROR(VLOOKUP(C47,'Te gebruiken meststoffen'!$R$3:$AB$10,10,FALSE),0) -> 0 | M47: =IFERROR(VLOOKUP(C47,'Te gebruiken meststoffen'!$R$3:$AH$10,17,FALSE),0) -> 0 | N47: =IFERROR(VLOOKUP(C47,'Te gebruiken meststoffen'!$R$3:$AG$10,13,FALSE),0) -> 0 | O47: =IFERROR(VLOOKUP(C47,'Te gebruiken meststoffen'!$R$3:$AG$10,14,FALSE),0) -> 0 | P47: =IFERROR(VLOOKUP(C47,'Te gebruiken meststoffen'!$R$3:$AG$10,15,FALSE),0) -> 0 | Q47: =IFERROR(VLOOKUP(C47,'Te gebruiken meststoffen'!$R$3:$AG$10,16,FALSE),0) -> 0 | T47: =VLOOKUP(C47,'Te gebruiken meststoffen'!$R$3:$AB$10,11,FALSE) -> #N/A
C48: =IF(NOT('Te gebruiken meststoffen'!R6=0), 'Te gebruiken meststoffen'!R6,"") | D48: =IFERROR(VLOOKUP(C48,'Te gebruiken meststoffen'!$R$3:$AA$10,2,FALSE),"") | E48: =IFERROR(VLOOKUP(C48,'Te gebruiken meststoffen'!$R$3:$AA$10,3,FALSE),0) -> 0 | F48: =IFERROR(VLOOKUP(C48,'Te gebruiken meststoffen'!$R$3:$AA$10,4,FALSE),0) -> 0 | G48: =IFERROR(VLOOKUP(C48,'Te gebruiken meststoffen'!$R$3:$AA$10,5,FALSE),0) -> 0 | H48: =IFERROR(VLOOKUP(C48,'Te gebruiken meststoffen'!$R$3:$AA$10,6,FALSE),0) -> 0 | I48: =IFERROR(VLOOKUP(C48,'Te gebruiken meststoffen'!$R$3:$AA$10,7,FALSE),0) -> 0 | J48: =IFERROR(VLOOKUP(C48,'Te gebruiken meststoffen'!$R$3:$AA$10,8,FALSE),0) -> 0 | K48: =IFERROR(VLOOKUP(C48,'Te gebruiken meststoffen'!$R$3:$AA$10,9,FALSE),0) -> 0 | L48: =IFERROR(VLOOKUP(C48,'Te gebruiken meststoffen'!$R$3:$AB$10,10,FALSE),0) -> 0 | M48: =IFERROR(VLOOKUP(C48,'Te gebruiken meststoffen'!$R$3:$AH$10,17,FALSE),0) -> 0 | N48: =IFERROR(VLOOKUP(C48,'Te gebruiken meststoffen'!$R$3:$AG$10,13,FALSE),0) -> 0 | O48: =IFERROR(VLOOKUP(C48,'Te gebruiken meststoffen'!$R$3:$AG$10,14,FALSE),0) -> 0 | P48: =IFERROR(VLOOKUP(C48,'Te gebruiken meststoffen'!$R$3:$AG$10,15,FALSE),0) -> 0 | Q48: =IFERROR(VLOOKUP(C48,'Te gebruiken meststoffen'!$R$3:$AG$10,16,FALSE),0) -> 0 | T48: =VLOOKUP(C48,'Te gebruiken meststoffen'!$R$3:$AB$10,11,FALSE) -> #N/A
...

Sheet Perceel_2
C1: Algemene gegevens
C2: Naam perceel | G2: Gegevens begrazing | N2: Uitscheiding kg/dier/jaar | P2: Bemesting via begrazing tijdens begrazingsbeurt
C3: Bodemtype | G3: Begrazingsnede | H3: Diercategorie | I3: Melkproductie (kg melk/jaar) | J3: Aantal grazende dieren | K3: Datum start begrazing | L3: Datum einde begrazing | M3: Uren begrazing per dag | N3: Ndier | O3: P2O5 | P3: Ndier | Q3: Nwz | R3: P2O5
B4: =IF(D4="Graskruiden mengsel","Ja","Nee") -> Nee | C4: Teeltomschrijving | E4: =VLOOKUP(D4,'Lijsten en tabellen'!X2:Z23,3,FALSE) -> #N/A | G4: =IFERROR(IF($D$11>0,1,""),"") | N4: =IFERROR(IF( H4="Melkkoeien", VLOOKUP(_xlfn.CONCAT(H4,I4),'Lijsten en tabellen'!$AK$3:$AM$35,3,FALSE),VLOOKUP(H4,'Lijsten en tabellen'!$AK$2:$AM$35,3,FALSE)),"") | O4: =IFERROR(IF( H4="Melkkoeien", VLOOKUP(_xlfn.CONCAT(H4,I4),'Lijsten en tabellen'!$AK$3:$AM$35,2,FALSE),VLOOKUP(H4,'Lijsten en tabellen'!$AK$2:$AM$35,2,FALSE)),"") | P4: =IFERROR(J4*(L4-K4)*(M4/24)*(N4/365),"") | Q4: =IFERROR(P4*0.2,"") | R4: =IFERROR(J4*(L4-K4)*(M4/24)*(O4/365),"")
C5: Beheer | E5: =VLOOKUP(D4,'Lijsten en tabellen'!X2:AA23,4,FALSE) -> #N/A | G5: =IFERROR(IF($D$11>1,2,""),"") | N5: =IFERROR(IF( H5="Melkkoeien", VLOOKUP(_xlfn.CONCAT(H5,I5),'Lijsten en tabellen'!$AK$3:$AM$35,3,FALSE),VLOOKUP(H5,'Lijsten en tabellen'!$AK$2:$AM$35,3,FALSE)),"") | O5: =IFERROR(IF( H5="Melkkoeien", VLOOKUP(_xlfn.CONCAT(H5,I5),'Lijsten en tabellen'!$AK$3:$AM$35,2,FALSE),VLOOKUP(H5,'Lijsten en tabellen'!$AK$2:$AM$35,2,FALSE)),"") | P5: =IFERROR(J5*(L5-K5)*(M5/24)*(N5/365),"") | Q5: =IFERROR(P5*0.2,"") | R5: =IFERROR(J5*(L5-K5)*(M5/24)*(O5/365),"")
C6: Gebiedstype | E6: =_xlfn.CONCAT(D6,D3,D5,E4) -> #N/A | G6: =IFERROR(IF($D$11>2,3,""),"") | N6: =IFERROR(IF( H6="Melkkoeien", VLOOKUP(_xlfn.CONCAT(H6,I6),'Lijsten en tabellen'!$AK$3:$AM$35,3,FALSE),VLOOKUP(H6,'Lijsten en tabellen'!$AK$2:$AM$35,3,FALSE)),"") | O6: =IFERROR(IF( H6="Melkkoeien", VLOOKUP(_xlfn.CONCAT(H6,I6),'Lijsten en tabellen'!$AK$3:$AM$35,2,FALSE),VLOOKUP(H6,'Lijsten en tabellen'!$AK$2:$AM$35,2,FALSE)),"") | P6: =IFERROR(J6*(L6-K6)*(M6/24)*(N6/365),"") | Q6: =IFERROR(P6*0.2,"") | R6: =IFERROR(J6*(L6-K6)*(M6/24)*(O6/365),"")
C7: Vrijstelling gebiedsgerichte maatregelen | G7: =IFERROR(IF($D$11>3,4,""),"") | N7: =IFERROR(IF( H7="Melkkoeien", VLOOKUP(_xlfn.CONCAT(H7,I7),'Lijsten en tabellen'!$AK$3:$AM$35,3,FALSE),VLOOKUP(H7,'Lijsten en tabellen'!$AK$2:$AM$35,3,FALSE)),"") | O7: =IFERROR(IF( H7="Melkkoeien", VLOOKUP(_xlfn.CONCAT(H7,I7),'Lijsten en tabellen'!$AK$3:$AM$35,2,FALSE),VLOOKUP(H7,'Lijsten en tabellen'!$AK$2:$AM$35,2,FALSE)),"") | P7: =IFERROR(J7*(L7-K7)*(M7/24)*(N7/365),"") | Q7: =IFERROR(P7*0.2,"") | R7: =IFERROR(J7*(L7-K7)*(M7/24)*(O7/365),"")
C8: Fosfaatklasse | G8: =IFERROR(IF($D$11>4,5,""),"") | N8: =IFERROR(IF( H8="Melkkoeien", VLOOKUP(_xlfn.CONCAT(H8,I8),'Lijsten en tabellen'!$AK$3:$AM$35,3,FALSE),VLOOKUP(H8,'Lijsten en tabellen'!$AK$2:$AM$35,3,FALSE)),"") | O8: =IFERROR(IF( H8="Melkkoeien", VLOOKUP(_xlfn.CONCAT(H8,I8),'Lijsten en tabellen'!$AK$3:$AM$35,2,FALSE),VLOOKUP(H8,'Lijsten en tabellen'!$AK$2:$AM$35,2,FALSE)),"") | P8: =IFERROR(J8*(L8-K8)*(M8/24)*(N8/365),"") | Q8: =IFERROR(P8*0.2,"") | R8: =IFERROR(J8*(L8-K8)*(M8/24)*(O8/365),"")
C9: Oppervlakte (ha) | G9: =IFERROR(IF($D$11>5,6,""),"") | N9: =IFERROR(IF( H9="Melkkoeien", VLOOKUP(_xlfn.CONCAT(H9,I9),'Lijsten en tabellen'!$AK$3:$AM$35,3,FALSE),VLOOKUP(H9,'Lijsten en tabellen'!$AK$2:$AM$35,3,FALSE)),"") | O9: =IFERROR(IF( H9="Melkkoeien", VLOOKUP(_xlfn.CONCAT(H9,I9),'Lijsten en tabellen'!$AK$3:$AM$35,2,FALSE),VLOOKUP(H9,'Lijsten en tabellen'!$AK$2:$AM$35,2,FALSE)),"") | P9: =IFERROR(J9*(L9-K9)*(M9/24)*(N9/365),"") | Q9: =IFERROR(P9*0.2,"") | R9: =IFERROR(J9*(L9-K9)*(M9/24)*(O9/365),"")
C10: Verwacht aantal snedes
C11: Waarvan begrazingssnedes
C12: =_xlfn.CONCAT(D6,D3,D5,E4) -> #N/A | D12: =_xlfn.CONCAT(D7,D3,D5)
C14: Bemestingsnormen (kg/ha)
C15: Ndierlijk | D15: Nwz | E15: P2O5
C16: 170 | D16: =IFERROR(IF(D7="Ja",VLOOKUP(D12,'Lijsten en tabellen'!E11:F14,2,FALSE),VLOOKUP(C12,'Lijsten en tabellen'!B10:C42,2,FALSE)),"") | E16: =IF(D8="I",'Lijsten en tabellen'!S4,IF(D8="II",'Lijsten en tabellen'!T4,IF(D8="III",'Lijsten en tabellen'!U4,IF(D8="IV",'Lijsten en tabellen'!V4,""))))
C17: Let op er werd geen rekening gehouden met eventuele verscherpingen wegens ligging binnen natuur.
C18: =_xlfn.CONCAT(D3,D5,E5,B4) -> #N/A
C19: Wat is het bemestingsadvies (kg/ha) voor dit perceel?
C20: Per jaar
D21: Nwz | E21: P2O5 | F21: K2O | G21: MgO | H21: CaO | I21: Na2O | J21: SO3
B22: Per jaar | C22: Algemeen advies | D22: =VLOOKUP(C18,'Algemene adviezen'!G3:N14,2,FALSE) -> #N/A | E22: =VLOOKUP(C18,'Algemene adviezen'!G3:N14,3,FALSE) -> #N/A | F22: =VLOOKUP(C18,'Algemene adviezen'!G3:N14,4,FALSE) -> #N/A | G22: =VLOOKUP(C18,'Algemene adviezen'!G3:N14,5,FALSE) -> #N/A | H22: =VLOOKUP(C18,'Algemene adviezen'!G3:N14,6,FALSE) -> #N/A | I22: =VLOOKUP(C18,'Algemene adviezen'!G3:N14,7,FALSE) -> #N/A | J22: =VLOOKUP(C18,'Algemene adviezen'!G3:N14,8,FALSE) -> #N/A
B23: Per snede | C23: Algemeen advies per jaar | D23: =D22 -> #N/A | E23: =E22 -> #N/A | F23: =F22 -> #N/A | G23: =G22 -> #N/A | H23: =H22 -> #N/A | I23: =I22 -> #N/A | J23: =J22 -> #N/A
B24: Per jaar | C24: Advies eigen analyse
B25: =IFERROR(IF($D$10>0,"Per snede",""),"Per snede") | C25: Voor 1ste snede | D25: =IF($B$35="Per snede",D35,"") | E25: =IF($B$35="Per snede",E35,"") | F25: =IF($B$35="Per snede",F35,"") | G25: =IF($B$35="Per snede",G35,"") | H25: =IF($B$35="Per snede",H35,"") | I25: =IF($B$35="Per snede",I35,"") | J25: =IF($B$35="Per snede",J35,"")
B26: =IFERROR(IF($D$10>1,"Per snede",""),"Per snede") | C26: Voor 2de snede | D26: =IF($B$36="Per snede",D36,"") | E26: =IF($B$36="Per snede",E36,"") | F26: =IF($B$36="Per snede",F36,"") | G26: =IF($B$36="Per snede",G36,"") | H26: =IF($B$36="Per snede",H36,"") | I26: =IF($B$36="Per snede",I36,"") | J26: =IF($B$36="Per snede",J36,"")
B27: =IFERROR(IF($D$10>2,"Per snede",""),"Per snede") | C27: Voor 3de snede | D27: =IF($B$37="Per snede",D37,"") | E27: =IF($B$37="Per snede",E37,"") | F27: =IF($B$37="Per snede",F37,"") | G27: =IF($B$37="Per snede",G37,"") | H27: =IF($B$37="Per snede",H37,"") | I27: =IF($B$37="Per snede",I37,"") | J27: =IF($B$37="Per snede",J37,"")
B28: =IFERROR(IF($D$10>3,"Per snede",""),"Per snede") | C28: Voor 4de snede | D28: =IF($B$38="Per snede",D38,"") | E28: =IF($B$38="Per snede",E38,"") | F28: =IF($B$38="Per snede",F38,"") | G28: =IF($B$38="Per snede",G38,"") | H28: =IF($B$38="Per snede",H38,"") | I28: =IF($B$38="Per snede",I38,"") | J28: =IF($B$38="Per snede",J38,"")
B29: =IFERROR(IF($D$10>4,"Per snede",""),"Per snede") | C29: Voor 5de snede | D29: =IF($B$39="Per snede",D39,"") | E29: =IF($B$39="Per snede",E39,"") | F29: =IF($B$39="Per snede",F39,"") | G29: =IF($B$39="Per snede",G39,"") | H29: =IF($B$39="Per snede",H39,"") | I29: =IF($B$39="Per snede",I39,"") | J29: =IF($B$39="Per snede",J39,"")
B30: =IFERROR(IF($D$10>5,"Per snede",""),"Per snede") | C30: Voor 6de snede | D30: =IF($B$40="Per snede",D40,"") | E30: =IF($B$40="Per snede",E40,"") | F30: =IF($B$40="Per snede",F40,"") | G30: =IF($B$40="Per snede",G40,"") | H30: =IF($B$40="Per snede",H40,"") | I30: =IF($B$40="Per snede",I40,"") | J30: =IF($B$40="Per snede",J40,"")
B31: Per snede | C31: Totaal advies eigen analyse | D31: =SUM(D25:D30) -> 0 | E31: =SUM(E25:E30) -> 0 | F31: =SUM(F25:F30) -> 0 | G31: =SUM(G25:G30) -> 0 | H31: =SUM(H25:H30) -> 0 | I31: =SUM(I25:I30) -> 0 | J31: =SUM(J25:J30) -> 0
D33: Nwz | E33: P2O5 | F33: K2O | G33: MgO | H33: CaO | I33: Na2O | J33: SO3 | U33: Schatting benodigde N-bemesting
B34: {=_xlfn._xlws.FILTER(B22:C30,B22:B30=C20)} -> Per jaar | C34: Algemeen advies | D34: =IFERROR(D22,"") | E34: =IFERROR(E22,"") | F34: =IFERROR(F22,"") | G34: =IFERROR(G22,"") | H34: =IFERROR(H22,"") | I34: =IFERROR(I22,"") | J34: =IFERROR(J22,"")
B35: Per jaar | C35: Advies eigen analyse
C42: In te zetten messtoffen:
N43: N-vrijgave voor snede
C44: Naam meststof | D44: Eenheid inhoud | E44: Ndier | F44: Nwz | G44: P2O5 | H44: K2O | I44: MgO | J44: CaO | K44: Na2O | L44: SO3 | M44: Kostprijs | N44: 1st volgende snede | O44: 2de snede | P44: 3de snede | Q44: 4de snede
C45: =IF(NOT('Te gebruiken meststoffen'!R3=0), 'Te gebruiken meststoffen'!R3,"") | D45: =IFERROR(VLOOKUP(C45,'Te gebruiken meststoffen'!$R$3:$AA$10,2,FALSE),"") | E45: =IFERROR(VLOOKUP(C45,'Te gebruiken meststoffen'!$R$3:$AA$10,3,FALSE),0) -> 0 | F45: =IFERROR(VLOOKUP(C45,'Te gebruiken meststoffen'!$R$3:$AA$10,4,FALSE),0) -> 0 | G45: =IFERROR(VLOOKUP(C45,'Te gebruiken meststoffen'!$R$3:$AA$10,5,FALSE),0) -> 0 | H45: =IFERROR(VLOOKUP(C45,'Te gebruiken meststoffen'!$R$3:$AA$10,6,FALSE),0) -> 0 | I45: =IFERROR(VLOOKUP(C45,'Te gebruiken meststoffen'!$R$3:$AA$10,7,FALSE),0) -> 0 | J45: =IFERROR(VLOOKUP(C45,'Te gebruiken meststoffen'!$R$3:$AA$10,8,FALSE),0) -> 0 | K45: =IFERROR(VLOOKUP(C45,'Te gebruiken meststoffen'!$R$3:$AA$10,9,FALSE),0) -> 0 | L45: =IFERROR(VLOOKUP(C45,'Te gebruiken meststoffen'!$R$3:$AB$10,10,FALSE),0) -> 0 | M45: =IFERROR(VLOOKUP(C45,'Te gebruiken meststoffen'!$R$3:$AH$10,17,FALSE),0) -> 0 | N45: =IFERROR(VLOOKUP(C45,'Te gebruiken meststoffen'!$R$3:$AG$10,13,FALSE),0) -> 0 | O45: =IFERROR(VLOOKUP(C45,'Te gebruiken meststoffen'!$R$3:$AG$10,14,FALSE),0) -> 0 | P45: =IFERROR(VLOOKUP(C45,'Te gebruiken meststoffen'!$R$3:$AG$10,15,FALSE),0) -> 0 | Q45: =IFERROR(VLOOKUP(C45,'Te gebruiken meststoffen'!$R$3:$AG$10,16,FALSE),0) -> 0 | T45: =VLOOKUP(C45,'Te gebruiken meststoffen'!$R$3:$AB$10,11,FALSE) -> #N/A
C46: =IF(NOT('Te gebruiken meststoffen'!R4=0), 'Te gebruiken meststoffen'!R4,"") | D46: =IFERROR(VLOOKUP(C46,'Te gebruiken meststoffen'!$R$3:$AA$10,2,FALSE),"") | E46: =IFERROR(VLOOKUP(C46,'Te gebruiken meststoffen'!$R$3:$AA$10,3,FALSE),0) -> 0 | F46: =IFERROR(VLOOKUP(C46,'Te gebruiken meststoffen'!$R$3:$AA$10,4,FALSE),0) -> 0 | G46: =IFERROR(VLOOKUP(C46,'Te gebruiken meststoffen'!$R$3:$AA$10,5,FALSE),0) -> 0 | H46: =IFERROR(VLOOKUP(C46,'Te gebruiken meststoffen'!$R$3:$AA$10,6,FALSE),0) -> 0 | I46: =IFERROR(VLOOKUP(C46,'Te gebruiken meststoffen'!$R$3:$AA$10,7,FALSE),0) -> 0 | J46: =IFERROR(VLOOKUP(C46,'Te gebruiken meststoffen'!$R$3:$AA$10,8,FALSE),0) -> 0 | K46: =IFERROR(VLOOKUP(C46,'Te gebruiken meststoffen'!$R$3:$AA$10,9,FALSE),0) -> 0 | L46: =IFERROR(VLOOKUP(C46,'Te gebruiken meststoffen'!$R$3:$AB$10,10,FALSE),0) -> 0 | M46: =IFERROR(VLOOKUP(C46,'Te gebruiken meststoffen'!$R$3:$AH$10,17,FALSE),0) -> 0 | N46: =IFERROR(VLOOKUP(C46,'Te gebruiken meststoffen'!$R$3:$AG$10,13,FALSE),0) -> 0 | O46: =IFERROR(VLOOKUP(C46,'Te gebruiken meststoffen'!$R$3:$AG$10,14,FALSE),0) -> 0 | P46: =IFERROR(VLOOKUP(C46,'Te gebruiken meststoffen'!$R$3:$AG$10,15,FALSE),0) -> 0 | Q46: =IFERROR(VLOOKUP(C46,'Te gebruiken meststoffen'!$R$3:$AG$10,16,FALSE),0) -> 0 | T46: =VLOOKUP(C46,'Te gebruiken meststoffen'!$R$3:$AB$10,11,FALSE) -> #N/A
